From mboxrd@z Thu Jan  1 00:00:00 1970
Return-Path: <test-report-bounces@dpdk.org>
Received: from mails.dpdk.org (mails.dpdk.org [217.70.189.124])
	by inbox.dpdk.org (Postfix) with ESMTP id 5CBB342649
	for <public@inbox.dpdk.org>; Tue, 26 Sep 2023 23:11:45 +0200 (CEST)
Received: from mails.dpdk.org (localhost [127.0.0.1])
	by mails.dpdk.org (Postfix) with ESMTP id 5775A400D5;
	Tue, 26 Sep 2023 23:11:45 +0200 (CEST)
Received: from mail-yb1-f227.google.com (mail-yb1-f227.google.com
 [209.85.219.227])
 by mails.dpdk.org (Postfix) with ESMTP id 0D3A4400D5
 for <test-report@dpdk.org>; Tue, 26 Sep 2023 23:11:44 +0200 (CEST)
Received: by mail-yb1-f227.google.com with SMTP id
 3f1490d57ef6-d8673a90f56so7506563276.0
 for <test-report@dpdk.org>; Tue, 26 Sep 2023 14:11:44 -0700 (PDT)
DKIM-Signature: v=1; a=rsa-sha256; c=relaxed/relaxed;
 d=iol.unh.edu; s=unh-iol; t=1695762703; x=1696367503; darn=dpdk.org;
 h=cc:to:from:subject:message-id:date:from:to:cc:subject:date
 :message-id:reply-to;
 bh=MWtYlXePK6WKQpTrQ1ogPkPRTb37hbqV7Q7YmFc1NAg=;
 b=jxM7iGTJJkQVKeDpr/4wusMAyjvpd4XV7zbB+Knx3o/y0/E8rvO8zucZ6WQtsUM4rZ
 Oto/sLREWurR3yPUWT7BhF8haUYC+d3JczGw1xjkGuDqmf2Iyh5SEOZh4bcPH6MomEW6
 Y/2n/Id2viOqE1u+C/s54vLuhaIWB8Whw0Kuw=
X-Google-DKIM-Signature: v=1; a=rsa-sha256; c=relaxed/relaxed;
 d=1e100.net; s=20230601; t=1695762703; x=1696367503;
 h=cc:to:from:subject:message-id:date:x-gm-message-state:from:to:cc
 :subject:date:message-id:reply-to;
 bh=MWtYlXePK6WKQpTrQ1ogPkPRTb37hbqV7Q7YmFc1NAg=;
 b=PgerFTlKAEJoEkPubVWfRRzrfD+4vF9ytVEoq78fhqR28SIftprTRh+raPjslnEtTP
 oiyTtbFAj0EV3dt8NL6y1w7/P9piICTNFaJhRo3Mm72TczuV9fBMJdR1AU1rv0a5eh6G
 lJR8Tci3NXP8svnR4cgy0Y8hPBCtjpaSEksvm5soXkmvriqxKctA+ij2t555yinfBDQs
 164CLyEtas3UN0K/lZFakLRhc3krCb2nzkh5MUFmp1QXH2LrCrR2BcoEY98TYrMYcNng
 Tbgej81C7KLUMaOpcEPUB/9hc3p6yjRHKz7wzG7aL+2P15EasF+kFGdWxBh+vboRIbPP
 zk3A==
X-Gm-Message-State: AOJu0YzXzsEcubPsCMR2Y/bEkbAkp74VlqLPDgWSGZF6x54Mqxc5ySeQ
 kGcY+0H4oiTGksZhIHxFuBD1CbPtwZTCBkriI0FlKlzY+JNF4ZDF8WT0aQ==
X-Google-Smtp-Source: AGHT+IGcb/l84jPo2zH2WcUU5TQ2opKc6k5z5Wc8d0mmGXx4bHCJ7iMLL8TFWq9mg8dtGnOfmJp1rAKIEaIG
X-Received: by 2002:a05:6902:4ce:b0:d7f:7ce1:994f with SMTP id
 v14-20020a05690204ce00b00d7f7ce1994fmr121414ybs.10.1695762703441; 
 Tue, 26 Sep 2023 14:11:43 -0700 (PDT)
Received: from postal.iol.unh.edu (postal.iol.unh.edu. [132.177.123.84])
 by smtp-relay.gmail.com with ESMTPS id
 y123-20020a254b81000000b00d52f00ccbb5sm1149280yba.26.2023.09.26.14.11.43
 (version=TLS1_2 cipher=ECDHE-ECDSA-AES128-GCM-SHA256 bits=128/128);
 Tue, 26 Sep 2023 14:11:43 -0700 (PDT)
X-Relaying-Domain: iol.unh.edu
Date: Tue, 26 Sep 2023 14:11:43 -0700 (PDT)
Message-ID: <6513490f.250a0220.70f45.5bfdSMTPIN_ADDED_MISSING@mx.google.com>
Received: from [172.21.0.2] (unknown [172.18.0.240])
 by postal.iol.unh.edu (Postfix) with ESMTP id D364F605C351;
 Tue, 26 Sep 2023 17:11:42 -0400 (EDT)
Subject: |SUCCESS| pw131973 [PATCH] test/pdcp: add data walkthrough test
From: dpdklab@iol.unh.edu
To: Test Report <test-report@dpdk.org>
Cc: dpdk-test-reports@iol.unh.edu, Akhil Goyal <gakhil@marvell.com>
Content-Type: text/plain
X-BeenThere: test-report@dpdk.org
X-Mailman-Version: 2.1.29
Precedence: list
List-Id: automatic DPDK test reports <test-report.dpdk.org>
List-Unsubscribe: <https://mails.dpdk.org/options/test-report>,
 <mailto:test-report-request@dpdk.org?subject=unsubscribe>
List-Archive: <http://mails.dpdk.org/archives/test-report/>
List-Post: <mailto:test-report@dpdk.org>
List-Help: <mailto:test-report-request@dpdk.org?subject=help>
List-Subscribe: <https://mails.dpdk.org/listinfo/test-report>,
 <mailto:test-report-request@dpdk.org?subject=subscribe>
Errors-To: test-report-bounces@dpdk.org

Test-Label: iol-compile-amd64-testing
Test-Status: SUCCESS
http://dpdk.org/patch/131973

_Testing PASS_

Submitter: Aakash Sasidharan <asasidharan@marvell.com>
Date: Tuesday, September 26 2023 16:36:17 
DPDK git baseline: Repo:dpdk-next-crypto
  Branch: master
  CommitID:d419c85a7299a57fb94edcc00f1d2f816e22fb40

131973 --> testing pass

Test environment and result as below:

+---------------------+--------------------+----------------------+
|     Environment     | dpdk_meson_compile | dpdk_mingw64_compile |
+=====================+====================+======================+
| FreeBSD 13          | PASS               | SKIPPED              |
+---------------------+--------------------+----------------------+
| CentOS Stream 8     | PASS               | SKIPPED              |
+---------------------+--------------------+----------------------+
| CentOS Stream 9     | PASS               | SKIPPED              |
+---------------------+--------------------+----------------------+
| Windows Server 2019 | PASS               | PASS                 |
+---------------------+--------------------+----------------------+
| Debian Bullseye     | PASS               | SKIPPED              |
+---------------------+--------------------+----------------------+
| RHEL8               | PASS               | SKIPPED              |
+---------------------+--------------------+----------------------+
| openSUSE Leap 15    | PASS               | SKIPPED              |
+---------------------+--------------------+----------------------+
| Fedora 37           | PASS               | SKIPPED              |
+---------------------+--------------------+----------------------+
| Debian Buster       | PASS               | SKIPPED              |
+---------------------+--------------------+----------------------+
| Ubuntu 22.04        | PASS               | SKIPPED              |
+---------------------+--------------------+----------------------+


FreeBSD 13
	Kernel: 13.0
	Compiler: clang 11.0.1

CentOS Stream 8
	Kernel: 4.18.0-240.10.1.el8_3.x86_64
	Compiler: gcc 8.4.1 20200928

CentOS Stream 9
	Kernel: 4.18.0-240.10.1.el8_3.x86_64
	Compiler: gcc 11.3.1 20220421

Windows Server 2019
	Kernel: 10.0
	Compiler: clang 14.0 and gcc 8.1.0 (MinGW)

Debian Bullseye
	Kernel: 5.4.0-122-generic
	Compiler: gcc 10.2.1-6

RHEL8
	Kernel: 4.18.0-240.10.1.el8_3.x86_64
	Compiler: gcc 8.3.1 20191121 (Red Hat 8.3.1-5)

openSUSE Leap 15
	Kernel: 4.18.0-240.10.1.el8_3.x86_64
	Compiler: gcc 7.5.0

Fedora 37
	Kernel: Depends on container host system
	Compiler: gcc 12.3.1

Debian Buster
	Kernel: 5.4.0-122-generic
	Compiler: gcc 8.3.0-6

Ubuntu 22.04
	Kernel: 4.18.0-240.10.1.el8_3.x86_64
	Compiler: gcc 11.3.0

To view detailed results, visit:
https://lab.dpdk.org/results/dashboard/patchsets/27738/

UNH-IOL DPDK Community Lab

To manage your email subscriptions, visit: 
https://lab.dpdk.org/results/dashboard/preferences/subscriptions/