From mboxrd@z Thu Jan  1 00:00:00 1970
Return-Path: <test-report-bounces@dpdk.org>
Received: from mails.dpdk.org (mails.dpdk.org [217.70.189.124])
	by inbox.dpdk.org (Postfix) with ESMTP id E700342647
	for <public@inbox.dpdk.org>; Wed, 27 Sep 2023 01:02:37 +0200 (CEST)
Received: from mails.dpdk.org (localhost [127.0.0.1])
	by mails.dpdk.org (Postfix) with ESMTP id 82553402D8;
	Wed, 27 Sep 2023 01:02:37 +0200 (CEST)
Received: from mail-qv1-f97.google.com (mail-qv1-f97.google.com
 [209.85.219.97]) by mails.dpdk.org (Postfix) with ESMTP id D962040266
 for <test-report@dpdk.org>; Wed, 27 Sep 2023 01:02:28 +0200 (CEST)
Received: by mail-qv1-f97.google.com with SMTP id
 6a1803df08f44-65b0c9fb673so27753706d6.1
 for <test-report@dpdk.org>; Tue, 26 Sep 2023 16:02:28 -0700 (PDT)
DKIM-Signature: v=1; a=rsa-sha256; c=relaxed/relaxed;
 d=iol.unh.edu; s=unh-iol; t=1695769348; x=1696374148; darn=dpdk.org;
 h=cc:to:from:subject:message-id:date:from:to:cc:subject:date
 :message-id:reply-to;
 bh=6IrD7OMw+4w0clAa6pI1qTXgL+cKcf3Jk7wSfGLq618=;
 b=WEmw7T5pT1RIOhod+Lsg8DF/T4az8B+0yJCLkAoHcfcsvkKs+Q87H2GP7ejnfnq6/9
 CPTyeG6a7TPMwOxjNyH1amwLonc3oVuc4yI+bCgFIEr5cQ3MPS3zCnLMdrPycXngf8V9
 7pDb01yVi0nm8Z+mKwTbtmW9eHbU9lOyOcNi0=
X-Google-DKIM-Signature: v=1; a=rsa-sha256; c=relaxed/relaxed;
 d=1e100.net; s=20230601; t=1695769348; x=1696374148;
 h=cc:to:from:subject:message-id:date:x-gm-message-state:from:to:cc
 :subject:date:message-id:reply-to;
 bh=6IrD7OMw+4w0clAa6pI1qTXgL+cKcf3Jk7wSfGLq618=;
 b=Lb65v21sZ1ZeIkAO08J5PJN8UUR0P7kC+W+AB6cDRQMm5ccSil6fxfT1Si3nwFh3yw
 Xrx4VcXAQweJAglxFVYl09Kxs/mQefeHti8THyOjOX5p+lU1nVHamToDwn0HipwCHIp/
 y29GYJG+5wPKSOL9n0JcX5XdILBlmQGDHHPvhOW81GmV+QA5XEUgrrVWZM7nMO8s+p6f
 8h6xaBTv1bunCQ/Mfs9SFu6gOJUi924FgySaUXAKYT7tJ//g+wmxG4Id7uf0q9rQrpDx
 EG5UbN/quT80UgHkyq/Aag15NxycaPSDre5cK53kCPIO69bScQRWa2ITYzQ4He1zLHdU
 oVjg==
X-Gm-Message-State: AOJu0YxS6ERULO26AeAPrMp4/EaCcInOcv0j0ohXkUsszSU7Ko8KXirc
 pR4+7/xjEVjBosYrcjYPV9VZzZ4nQhDrPO6CH5BguSzDtnxokYFH1UDcL0MKbfYngHv+vuYsXA=
 =
X-Google-Smtp-Source: AGHT+IGOk3EelPBezDxnthFvyVYqijIXFSoGEeC3QnZEsqlo7V3DlCmPVwipGG9HafiaMYUcr+AcjyUKqLpb
X-Received: by 2002:a0c:e341:0:b0:65a:7b9:e214 with SMTP id
 a1-20020a0ce341000000b0065a07b9e214mr291414qvm.65.1695769348239; 
 Tue, 26 Sep 2023 16:02:28 -0700 (PDT)
Received: from postal.iol.unh.edu (postal.iol.unh.edu.
 [2606:4100:3880:1234::84]) by smtp-relay.gmail.com with ESMTPS id
 z3-20020a0cda83000000b0065856caada1sm478945qvj.40.2023.09.26.16.02.28
 (version=TLS1_2 cipher=ECDHE-ECDSA-AES128-GCM-SHA256 bits=128/128);
 Tue, 26 Sep 2023 16:02:28 -0700 (PDT)
X-Relaying-Domain: iol.unh.edu
Date: Tue, 26 Sep 2023 16:02:28 -0700 (PDT)
Message-ID: <65136304.0c0a0220.8fce6.eb3eSMTPIN_ADDED_MISSING@mx.google.com>
Received: from [172.21.0.6] (unknown [172.18.0.240])
 by postal.iol.unh.edu (Postfix) with ESMTP id D38EA605C351;
 Tue, 26 Sep 2023 19:02:27 -0400 (EDT)
Subject: |SUCCESS| pw131973 [PATCH] test/pdcp: add data walkthrough test
From: dpdklab@iol.unh.edu
To: Test Report <test-report@dpdk.org>
Cc: dpdk-test-reports@iol.unh.edu, Akhil Goyal <gakhil@marvell.com>
Content-Type: text/plain
X-BeenThere: test-report@dpdk.org
X-Mailman-Version: 2.1.29
Precedence: list
List-Id: automatic DPDK test reports <test-report.dpdk.org>
List-Unsubscribe: <https://mails.dpdk.org/options/test-report>,
 <mailto:test-report-request@dpdk.org?subject=unsubscribe>
List-Archive: <http://mails.dpdk.org/archives/test-report/>
List-Post: <mailto:test-report@dpdk.org>
List-Help: <mailto:test-report-request@dpdk.org?subject=help>
List-Subscribe: <https://mails.dpdk.org/listinfo/test-report>,
 <mailto:test-report-request@dpdk.org?subject=subscribe>
Errors-To: test-report-bounces@dpdk.org

Test-Label: iol-unit-amd64-testing
Test-Status: SUCCESS
http://dpdk.org/patch/131973

_Testing PASS_

Submitter: Aakash Sasidharan <asasidharan@marvell.com>
Date: Tuesday, September 26 2023 16:36:17 
DPDK git baseline: Repo:dpdk-next-crypto
  Branch: master
  CommitID:d419c85a7299a57fb94edcc00f1d2f816e22fb40

131973 --> testing pass

Test environment and result as below:

+---------------------+----------------+
|     Environment     | dpdk_unit_test |
+=====================+================+
| Windows Server 2019 | PASS           |
+---------------------+----------------+
| CentOS Stream 8     | PASS           |
+---------------------+----------------+
| Ubuntu 22.04        | PASS           |
+---------------------+----------------+
| Debian Buster       | PASS           |
+---------------------+----------------+
| CentOS Stream 9     | PASS           |
+---------------------+----------------+
| Fedora 38           | PASS           |
+---------------------+----------------+


Windows Server 2019
	Kernel: 10.0
	Compiler: clang 14.0 and gcc 8.1.0 (MinGW)

CentOS Stream 8
	Kernel: 4.18.0-240.10.1.el8_3.x86_64
	Compiler: gcc 8.4.1 20200928

Ubuntu 22.04
	Kernel: 4.18.0-240.10.1.el8_3.x86_64
	Compiler: gcc 11.3.0

Debian Buster
	Kernel: 5.4.0-122-generic
	Compiler: gcc 8.3.0-6

CentOS Stream 9
	Kernel: 4.18.0-240.10.1.el8_3.x86_64
	Compiler: gcc 11.3.1 20220421

Fedora 38
	Kernel: Depends on container host
	Compiler: gcc 13.1.1

To view detailed results, visit:
https://lab.dpdk.org/results/dashboard/patchsets/27738/

UNH-IOL DPDK Community Lab

To manage your email subscriptions, visit: 
https://lab.dpdk.org/results/dashboard/preferences/subscriptions/