From mboxrd@z Thu Jan  1 00:00:00 1970
Return-Path: <test-report-bounces@dpdk.org>
Received: from mails.dpdk.org (mails.dpdk.org [217.70.189.124])
	by inbox.dpdk.org (Postfix) with ESMTP id 70C7742674
	for <public@inbox.dpdk.org>; Fri, 29 Sep 2023 19:14:24 +0200 (CEST)
Received: from mails.dpdk.org (localhost [127.0.0.1])
	by mails.dpdk.org (Postfix) with ESMTP id 47DDE4026E;
	Fri, 29 Sep 2023 19:14:24 +0200 (CEST)
Received: from mail-vs1-f100.google.com (mail-vs1-f100.google.com
 [209.85.217.100])
 by mails.dpdk.org (Postfix) with ESMTP id 987E44026E
 for <test-report@dpdk.org>; Fri, 29 Sep 2023 19:14:23 +0200 (CEST)
Received: by mail-vs1-f100.google.com with SMTP id
 ada2fe7eead31-45289425da1so5986350137.1
 for <test-report@dpdk.org>; Fri, 29 Sep 2023 10:14:23 -0700 (PDT)
DKIM-Signature: v=1; a=rsa-sha256; c=relaxed/relaxed;
 d=iol.unh.edu; s=unh-iol; t=1696007663; x=1696612463; darn=dpdk.org;
 h=cc:to:from:subject:message-id:date:from:to:cc:subject:date
 :message-id:reply-to;
 bh=lcPobcWIg/sIJtVHoW++UJYE0SdDjpm38u+UVUIIdvs=;
 b=XRIYB80XuVfPESpkThpi42/dPQ0a73bfDARq+hV34CEzVS30DVYUsvOuP/XnaqBMmq
 TlcXKSak4JDiirJksCiV6xzb270Zkzw2k87jGZtgha5AJ1NUmgB61Df/rh2EYm9CIq68
 zcyMPNZOOL6yGYzdhDmK1/KrISEh+MdiseYe0=
X-Google-DKIM-Signature: v=1; a=rsa-sha256; c=relaxed/relaxed;
 d=1e100.net; s=20230601; t=1696007663; x=1696612463;
 h=cc:to:from:subject:message-id:date:x-gm-message-state:from:to:cc
 :subject:date:message-id:reply-to;
 bh=lcPobcWIg/sIJtVHoW++UJYE0SdDjpm38u+UVUIIdvs=;
 b=qnn9Ap94ugyCH9u6YVR29MauiLJqMYzYqETWQ4BQqB6aPdFIuIJtlbOGhAQz6b3j2n
 9vvDxpg3xlH0l/GwcPqljF++Jf9RhJXyku6TNeECAedWnGNBiXy1Dkxe5I1pjyLzEUcH
 HujBGbdY22+XWu3wUawGV9VZq8wbEvSlyMifo3gg43+8sxSHl6UoaUck0dxPxWtfOFJJ
 phLF4SA8pLWNrRIeFcYIxYn/2grtoBhfOxsD91XZV5davg33fw+LsRqsrGguXj1hNjrI
 sFS1/VnRE488a5kFSPhqJNNlpiGUqYS4mGLYbFUd/ObDtxmrKaQntF95xkILinwtDYK/
 dhnw==
X-Gm-Message-State: AOJu0YyJK+WvDt/mmQDAZsWuqScUR2Jxe509OKoHlbMCbs0f9c9mtKGF
 O9FjzWrnd5331rcdEcGrYI9tAID7FWTNaEKAsjIe9d2KmC92yQpFdXkkrThIKYXhWz3oxMKksg=
 =
X-Google-Smtp-Source: AGHT+IESwVXlS9DgzKYq4thbnG8ZuCvGgdQpaXUpiWFKzZjuaex0p9r++tzCLt2dkNUqZP+teKWLaZwG3AR7
X-Received: by 2002:a67:ff05:0:b0:44d:42c4:f4c0 with SMTP id
 v5-20020a67ff05000000b0044d42c4f4c0mr3976447vsp.3.1696007661340; 
 Fri, 29 Sep 2023 10:14:21 -0700 (PDT)
Received: from postal.iol.unh.edu (postal.iol.unh.edu.
 [2606:4100:3880:1234::84]) by smtp-relay.gmail.com with ESMTPS id
 q20-20020ab04a14000000b007a0239e3aaesm1315988uae.12.2023.09.29.10.14.21
 (version=TLS1_2 cipher=ECDHE-ECDSA-AES128-GCM-SHA256 bits=128/128);
 Fri, 29 Sep 2023 10:14:21 -0700 (PDT)
X-Relaying-Domain: iol.unh.edu
Date: Fri, 29 Sep 2023 10:14:21 -0700 (PDT)
Message-ID: <651705ed.b00a0220.54753.4b74SMTPIN_ADDED_MISSING@mx.google.com>
Received: from [172.21.0.3] (unknown [172.18.0.240])
 by postal.iol.unh.edu (Postfix) with ESMTP id CFC6A605C380;
 Fri, 29 Sep 2023 13:14:20 -0400 (EDT)
Subject: |SUCCESS| pw132203 [PATCH] [v3] vhost: add IRQ suppression
From: dpdklab@iol.unh.edu
To: Test Report <test-report@dpdk.org>
Cc: dpdk-test-reports@iol.unh.edu
Content-Type: text/plain
X-BeenThere: test-report@dpdk.org
X-Mailman-Version: 2.1.29
Precedence: list
List-Id: automatic DPDK test reports <test-report.dpdk.org>
List-Unsubscribe: <https://mails.dpdk.org/options/test-report>,
 <mailto:test-report-request@dpdk.org?subject=unsubscribe>
List-Archive: <http://mails.dpdk.org/archives/test-report/>
List-Post: <mailto:test-report@dpdk.org>
List-Help: <mailto:test-report-request@dpdk.org?subject=help>
List-Subscribe: <https://mails.dpdk.org/listinfo/test-report>,
 <mailto:test-report-request@dpdk.org?subject=subscribe>
Errors-To: test-report-bounces@dpdk.org

Test-Label: iol-unit-arm64-testing
Test-Status: SUCCESS
http://dpdk.org/patch/132203

_Testing PASS_

Submitter: Maxime Coquelin <maxime.coquelin@redhat.com>
Date: Friday, September 29 2023 10:38:09 
DPDK git baseline: Repo:dpdk
  Branch: master
  CommitID:a89a9ca38ae61778a80f287677dc91e8bb3fbdfd

132203 --> testing pass

Test environment and result as below:

+----------------------+------------------------------+---------------------------+--------------+
|     Environment      | cryptodev_sw_snow3g_autotest | cryptodev_sw_zuc_autotest | lpm_autotest |
+======================+==============================+===========================+==============+
| Debian 11 (arm)      | PASS                         | PASS                      | SKIPPED      |
+----------------------+------------------------------+---------------------------+--------------+
| Ubuntu 20.04 ARM SVE | SKIPPED                      | SKIPPED                   | PASS         |
+----------------------+------------------------------+---------------------------+--------------+


Debian 11 (arm)
	Kernel: Container Host Kernel
	Compiler: gcc 10.2.1

Ubuntu 20.04 ARM SVE
	Kernel: 5.4.0-80-generic
	Compiler: gcc 10.3.0 (Ubuntu 10.3.0-1ubuntu1~20.04)

To view detailed results, visit:
https://lab.dpdk.org/results/dashboard/patchsets/27786/

UNH-IOL DPDK Community Lab

To manage your email subscriptions, visit: 
https://lab.dpdk.org/results/dashboard/preferences/subscriptions/