From mboxrd@z Thu Jan  1 00:00:00 1970
Return-Path: <test-report-bounces@dpdk.org>
Received: from mails.dpdk.org (mails.dpdk.org [217.70.189.124])
	by inbox.dpdk.org (Postfix) with ESMTP id 85BCA42676
	for <public@inbox.dpdk.org>; Fri, 29 Sep 2023 21:09:05 +0200 (CEST)
Received: from mails.dpdk.org (localhost [127.0.0.1])
	by mails.dpdk.org (Postfix) with ESMTP id 7D255402CA;
	Fri, 29 Sep 2023 21:09:05 +0200 (CEST)
Received: from mail-vs1-f100.google.com (mail-vs1-f100.google.com
 [209.85.217.100])
 by mails.dpdk.org (Postfix) with ESMTP id A080B4026E
 for <test-report@dpdk.org>; Fri, 29 Sep 2023 21:08:54 +0200 (CEST)
Received: by mail-vs1-f100.google.com with SMTP id
 ada2fe7eead31-45274236ef6so6498015137.3
 for <test-report@dpdk.org>; Fri, 29 Sep 2023 12:08:54 -0700 (PDT)
DKIM-Signature: v=1; a=rsa-sha256; c=relaxed/relaxed;
 d=iol.unh.edu; s=unh-iol; t=1696014534; x=1696619334; darn=dpdk.org;
 h=cc:to:from:subject:message-id:date:from:to:cc:subject:date
 :message-id:reply-to;
 bh=6RO6lpLirwCj3mRChcz+/Dkd3DthtEu9ACZc5sRa3xo=;
 b=TyIEUKj5kqVicaGkptf8YBZ8j1pCjmdjxp5kYVbFXnkmrzSfGRIlNaqa7VgFioxEEM
 ksgtvboMjYFnxj5dfxvH1s7mkejEiT25kgBHTqWVO6srBn2pMP3zGOyG2rDRjIHbFpL8
 BMW7Hw2H8yKD7e1/Xj0r6soh4n2xy/nV+Ad80=
X-Google-DKIM-Signature: v=1; a=rsa-sha256; c=relaxed/relaxed;
 d=1e100.net; s=20230601; t=1696014534; x=1696619334;
 h=cc:to:from:subject:message-id:date:x-gm-message-state:from:to:cc
 :subject:date:message-id:reply-to;
 bh=6RO6lpLirwCj3mRChcz+/Dkd3DthtEu9ACZc5sRa3xo=;
 b=Kdd5ftF1UsT4a9B5rF+IRxbv7bSYDrkC009E+yRDUmqm+cyLvFue0NJcy+Rmla3cZh
 vHinUJBQs8XfZQnbCbiZE4M8gKXxyDJ5agWE/QYlE+M+yN7oxLX9AzAZv795YTabC3iz
 gwX/r/8X2RcjY4b0YCmlbvyYAV9eN4lOb+Wsv4hIWQkOdUlsBOsIkISFOXNJoRSQaa/H
 OjpnZ5+sTcYUtPkvC7YwgmdppqPwSmHq8qVPfER0Is2A0rviAotih+vEj3jhjhJavm1v
 ZjiMDSS3DTjLHv/19uLJkxsWnDvyLgIKKmNcv8Y+uDYTzifRHuprAPf0kf2P6P0aRUm3
 tUhw==
X-Gm-Message-State: AOJu0YwnWciLWU943BkGLeD2WtD9zf/Yqnoh/9Fc5ZXDLeTRSEWwL5P/
 WwBKIP2dM37svQl3ABFzLQ5sUofNS8KdSSKg179/J/Kg6QNWaa0AnCNoAw==
X-Google-Smtp-Source: AGHT+IFunop4U1ntiPUbyZcUEYbkzCcSYsAcPMTwx+5oWBtuqlIhvK+EdbeHDJUTe0KMfLsnOZSrvcooh/Gg
X-Received: by 2002:a05:6102:d4:b0:44e:9a71:279e with SMTP id
 u20-20020a05610200d400b0044e9a71279emr4581250vsp.31.1696014534007; 
 Fri, 29 Sep 2023 12:08:54 -0700 (PDT)
Received: from postal.iol.unh.edu (postal.iol.unh.edu. [132.177.123.84])
 by smtp-relay.gmail.com with ESMTPS id
 dc22-20020a056102559600b004365c45a1cesm1465316vsb.2.2023.09.29.12.08.53
 (version=TLS1_2 cipher=ECDHE-ECDSA-AES128-GCM-SHA256 bits=128/128);
 Fri, 29 Sep 2023 12:08:53 -0700 (PDT)
X-Relaying-Domain: iol.unh.edu
Date: Fri, 29 Sep 2023 12:08:53 -0700 (PDT)
Message-ID: <651720c5.050a0220.96dd5.3e87SMTPIN_ADDED_MISSING@mx.google.com>
Received: from [172.17.0.2] (unknown [172.18.0.214])
 by postal.iol.unh.edu (Postfix) with ESMTP id 85BAF605C380;
 Fri, 29 Sep 2023 15:08:53 -0400 (EDT)
Subject: |SUCCESS| pw132218 [PATCH] ci: test stdatomic API
From: dpdklab@iol.unh.edu
To: Test Report <test-report@dpdk.org>
Cc: dpdk-test-reports@iol.unh.edu
Content-Type: text/plain
X-BeenThere: test-report@dpdk.org
X-Mailman-Version: 2.1.29
Precedence: list
List-Id: automatic DPDK test reports <test-report.dpdk.org>
List-Unsubscribe: <https://mails.dpdk.org/options/test-report>,
 <mailto:test-report-request@dpdk.org?subject=unsubscribe>
List-Archive: <http://mails.dpdk.org/archives/test-report/>
List-Post: <mailto:test-report@dpdk.org>
List-Help: <mailto:test-report-request@dpdk.org?subject=help>
List-Subscribe: <https://mails.dpdk.org/listinfo/test-report>,
 <mailto:test-report-request@dpdk.org?subject=subscribe>
Errors-To: test-report-bounces@dpdk.org

Test-Label: iol-compile-amd64-testing
Test-Status: SUCCESS
http://dpdk.org/patch/132218

_Testing PASS_

Submitter: David Marchand <david.marchand@redhat.com>
Date: Friday, September 29 2023 14:15:10 
DPDK git baseline: Repo:dpdk
  Branch: master
  CommitID:a89a9ca38ae61778a80f287677dc91e8bb3fbdfd

132218 --> testing pass

Test environment and result as below:

+---------------------+--------------------+----------------------+
|     Environment     | dpdk_meson_compile | dpdk_mingw64_compile |
+=====================+====================+======================+
| Debian Bullseye     | PASS               | SKIPPED              |
+---------------------+--------------------+----------------------+
| CentOS Stream 8     | PASS               | SKIPPED              |
+---------------------+--------------------+----------------------+
| Debian Buster       | PASS               | SKIPPED              |
+---------------------+--------------------+----------------------+
| FreeBSD 13          | PASS               | SKIPPED              |
+---------------------+--------------------+----------------------+
| openSUSE Leap 15    | PASS               | SKIPPED              |
+---------------------+--------------------+----------------------+
| Fedora 37           | PASS               | SKIPPED              |
+---------------------+--------------------+----------------------+
| Windows Server 2019 | PASS               | PASS                 |
+---------------------+--------------------+----------------------+
| Alpine              | PASS               | SKIPPED              |
+---------------------+--------------------+----------------------+
| RHEL8               | PASS               | SKIPPED              |
+---------------------+--------------------+----------------------+
| Ubuntu 20.04        | PASS               | SKIPPED              |
+---------------------+--------------------+----------------------+
| Fedora 38           | PASS               | SKIPPED              |
+---------------------+--------------------+----------------------+
| Ubuntu 22.04        | PASS               | SKIPPED              |
+---------------------+--------------------+----------------------+
| CentOS Stream 9     | PASS               | SKIPPED              |
+---------------------+--------------------+----------------------+


Debian Bullseye
	Kernel: 5.4.0-122-generic
	Compiler: gcc 10.2.1-6

CentOS Stream 8
	Kernel: 4.18.0-240.10.1.el8_3.x86_64
	Compiler: gcc 8.4.1 20200928

Debian Buster
	Kernel: 5.4.0-122-generic
	Compiler: gcc 8.3.0-6

FreeBSD 13
	Kernel: 13.0
	Compiler: clang 11.0.1

openSUSE Leap 15
	Kernel: 4.18.0-240.10.1.el8_3.x86_64
	Compiler: gcc 7.5.0

Fedora 37
	Kernel: Depends on container host system
	Compiler: gcc 12.3.1

Windows Server 2019
	Kernel: 10.0
	Compiler: clang 14.0 and gcc 8.1.0 (MinGW)

Alpine
	Kernel: 5.4.0-73-generic
	Compiler: gcc (Alpine 10.3.1_git20210424) 10.3.1 20210424

RHEL8
	Kernel: 4.18.0-240.10.1.el8_3.x86_64
	Compiler: gcc 8.3.1 20191121 (Red Hat 8.3.1-5)

Ubuntu 20.04
	Kernel: 5.4.0-153-generic
	Compiler: gcc 9.4.0-1ubuntu1~20.04.1

Fedora 38
	Kernel: Depends on container host
	Compiler: clang 16.0.3

Ubuntu 22.04
	Kernel: 4.18.0-240.10.1.el8_3.x86_64
	Compiler: gcc 11.3.0

CentOS Stream 9
	Kernel: 4.18.0-240.10.1.el8_3.x86_64
	Compiler: gcc 11.3.1 20220421

To view detailed results, visit:
https://lab.dpdk.org/results/dashboard/patchsets/27789/

UNH-IOL DPDK Community Lab

To manage your email subscriptions, visit: 
https://lab.dpdk.org/results/dashboard/preferences/subscriptions/