From mboxrd@z Thu Jan  1 00:00:00 1970
Return-Path: <test-report-bounces@dpdk.org>
Received: from mails.dpdk.org (mails.dpdk.org [217.70.189.124])
	by inbox.dpdk.org (Postfix) with ESMTP id CF61342676
	for <public@inbox.dpdk.org>; Fri, 29 Sep 2023 21:09:05 +0200 (CEST)
Received: from mails.dpdk.org (localhost [127.0.0.1])
	by mails.dpdk.org (Postfix) with ESMTP id 844FC402DA;
	Fri, 29 Sep 2023 21:09:05 +0200 (CEST)
Received: from mail-yw1-f228.google.com (mail-yw1-f228.google.com
 [209.85.128.228])
 by mails.dpdk.org (Postfix) with ESMTP id 6DF164026E
 for <test-report@dpdk.org>; Fri, 29 Sep 2023 21:08:59 +0200 (CEST)
Received: by mail-yw1-f228.google.com with SMTP id
 00721157ae682-59bf1dde73fso182739237b3.3
 for <test-report@dpdk.org>; Fri, 29 Sep 2023 12:08:59 -0700 (PDT)
DKIM-Signature: v=1; a=rsa-sha256; c=relaxed/relaxed;
 d=iol.unh.edu; s=unh-iol; t=1696014539; x=1696619339; darn=dpdk.org;
 h=cc:to:from:subject:message-id:date:from:to:cc:subject:date
 :message-id:reply-to;
 bh=0sBfCkQKZfYQ4EY71Puvx8pBcANQI0kG55fwo+o4aAM=;
 b=XZbgin8QBBjQK9zkcz7w9ITY2aVhlrVT2snUKxYs062HRMmq9nn84oJFZFMyO162kx
 sA2MAgLEnsh2WcjpURsSGfCx1SNJ2c8/ayJYVBkjWkPTldjrrB4mHoWN51KN84TcSAej
 gDsZa0vrFWuHhlfkpgI6odGNm8pr9Quz/SyV0=
X-Google-DKIM-Signature: v=1; a=rsa-sha256; c=relaxed/relaxed;
 d=1e100.net; s=20230601; t=1696014539; x=1696619339;
 h=cc:to:from:subject:message-id:date:x-gm-message-state:from:to:cc
 :subject:date:message-id:reply-to;
 bh=0sBfCkQKZfYQ4EY71Puvx8pBcANQI0kG55fwo+o4aAM=;
 b=NLflP2LLQNqlSe78Xk7KV6BbB+Ey6yIFVSBCjZyx27M5SqKpsPht6O5AGekVszOrq2
 iIJptnJ+1a7VB1peYGw+SkUCpwKooY4w7U2OLWTvTNwcQNsxCUS3Omh4xEpuxje3kjBL
 NZeEuh8GNbTfeZeamzn+gCrGr6ep6m+1FFupAQt6cKPd3b95uIqSO3DSLl9uY6932JNb
 AGVXj/Q7NpsCjXfU4dkKDjPq3Q+B6/e6tJxSJUONPPCsdZUqVaPcDjTrovkUuDRDcrRi
 uI1hqedtC7/LAxCmVMkbL/n5Pewq9FSoWb8xvkK3lGC/rytXHXTr/LiHIQ8P3kx5KtXf
 aVGA==
X-Gm-Message-State: AOJu0YxOiCAajX9HMbE0HPAN+B1JHylCqpr6lwzHDz/dLAeC8+aX3eOn
 71iHmXQtUg/G0mr19UWUYnNx5yeJOI1qEhXjr3tBGCkstYltlv3lDZwgqfYxADeUwvf8lIet/g=
 =
X-Google-Smtp-Source: AGHT+IENXrcoXxdkKQTlMR2mhuC/SIL9Y7iFCOG6dAO5gl7Af0s9rliWeA0YBHC0dDKp2zOzL5cPOm/3gJ21
X-Received: by 2002:a0d:e041:0:b0:59b:8da4:dc2 with SMTP id
 j62-20020a0de041000000b0059b8da40dc2mr5199433ywe.48.1696014538933; 
 Fri, 29 Sep 2023 12:08:58 -0700 (PDT)
Received: from postal.iol.unh.edu (postal.iol.unh.edu.
 [2606:4100:3880:1234::84]) by smtp-relay.gmail.com with ESMTPS id
 u82-20020a0deb55000000b00584590028f4sm1603253ywe.9.2023.09.29.12.08.58
 (version=TLS1_2 cipher=ECDHE-ECDSA-AES128-GCM-SHA256 bits=128/128);
 Fri, 29 Sep 2023 12:08:58 -0700 (PDT)
X-Relaying-Domain: iol.unh.edu
Date: Fri, 29 Sep 2023 12:08:58 -0700 (PDT)
Message-ID: <651720ca.0d0a0220.4ca12.108dSMTPIN_ADDED_MISSING@mx.google.com>
Received: from [172.17.0.4] (unknown [172.18.0.214])
 by postal.iol.unh.edu (Postfix) with ESMTP id 95724605C380;
 Fri, 29 Sep 2023 15:08:58 -0400 (EDT)
Subject: |SUCCESS| pw132218 [PATCH] ci: test stdatomic API
From: dpdklab@iol.unh.edu
To: Test Report <test-report@dpdk.org>
Cc: David Marchand <david.marchand@redhat.com>
Content-Type: text/plain
X-BeenThere: test-report@dpdk.org
X-Mailman-Version: 2.1.29
Precedence: list
List-Id: automatic DPDK test reports <test-report.dpdk.org>
List-Unsubscribe: <https://mails.dpdk.org/options/test-report>,
 <mailto:test-report-request@dpdk.org?subject=unsubscribe>
List-Archive: <http://mails.dpdk.org/archives/test-report/>
List-Post: <mailto:test-report@dpdk.org>
List-Help: <mailto:test-report-request@dpdk.org?subject=help>
List-Subscribe: <https://mails.dpdk.org/listinfo/test-report>,
 <mailto:test-report-request@dpdk.org?subject=subscribe>
Errors-To: test-report-bounces@dpdk.org

Test-Label: iol-unit-amd64-testing
Test-Status: SUCCESS
http://dpdk.org/patch/132218

_Testing PASS_

Submitter: David Marchand <david.marchand@redhat.com>
Date: Friday, September 29 2023 14:15:10 
DPDK git baseline: Repo:dpdk
  Branch: master
  CommitID:a89a9ca38ae61778a80f287677dc91e8bb3fbdfd

132218 --> testing pass

Test environment and result as below:

+---------------------+----------------+
|     Environment     | dpdk_unit_test |
+=====================+================+
| Windows Server 2019 | PASS           |
+---------------------+----------------+
| CentOS Stream 8     | PASS           |
+---------------------+----------------+
| Fedora 38           | PASS           |
+---------------------+----------------+
| CentOS Stream 9     | PASS           |
+---------------------+----------------+
| Fedora 37           | PASS           |
+---------------------+----------------+
| Debian Buster       | PASS           |
+---------------------+----------------+
| Debian Bullseye     | PASS           |
+---------------------+----------------+


Windows Server 2019
	Kernel: 10.0
	Compiler: clang 14.0 and gcc 8.1.0 (MinGW)

CentOS Stream 8
	Kernel: 4.18.0-240.10.1.el8_3.x86_64
	Compiler: gcc 8.4.1 20200928

Fedora 38
	Kernel: Depends on container host
	Compiler: gcc 13.1.1

CentOS Stream 9
	Kernel: 4.18.0-240.10.1.el8_3.x86_64
	Compiler: gcc 11.3.1 20220421

Fedora 37
	Kernel: Depends on container host system
	Compiler: gcc 12.3.1

Debian Buster
	Kernel: 5.4.0-122-generic
	Compiler: gcc 8.3.0-6

Debian Bullseye
	Kernel: 5.4.0-122-generic
	Compiler: gcc 10.2.1-6

To view detailed results, visit:
https://lab.dpdk.org/results/dashboard/patchsets/27789/

UNH-IOL DPDK Community Lab

To manage your email subscriptions, visit: 
https://lab.dpdk.org/results/dashboard/preferences/subscriptions/