From mboxrd@z Thu Jan  1 00:00:00 1970
Return-Path: <test-report-bounces@dpdk.org>
Received: from mails.dpdk.org (mails.dpdk.org [217.70.189.124])
	by inbox.dpdk.org (Postfix) with ESMTP id 7F84C42676
	for <public@inbox.dpdk.org>; Fri, 29 Sep 2023 21:41:31 +0200 (CEST)
Received: from mails.dpdk.org (localhost [127.0.0.1])
	by mails.dpdk.org (Postfix) with ESMTP id 7A7DD4025C;
	Fri, 29 Sep 2023 21:41:31 +0200 (CEST)
Received: from mail-yw1-f228.google.com (mail-yw1-f228.google.com
 [209.85.128.228])
 by mails.dpdk.org (Postfix) with ESMTP id 3304E4025C
 for <test-report@dpdk.org>; Fri, 29 Sep 2023 21:41:30 +0200 (CEST)
Received: by mail-yw1-f228.google.com with SMTP id
 00721157ae682-59f6492b415so15252057b3.0
 for <test-report@dpdk.org>; Fri, 29 Sep 2023 12:41:30 -0700 (PDT)
DKIM-Signature: v=1; a=rsa-sha256; c=relaxed/relaxed;
 d=iol.unh.edu; s=unh-iol; t=1696016489; x=1696621289; darn=dpdk.org;
 h=cc:to:from:subject:message-id:date:from:to:cc:subject:date
 :message-id:reply-to;
 bh=0yfSJ3FODMnDobj7CQzg2YRXdlw4uAgzXoBsqBEe1yc=;
 b=RE6FvaJ+DWyatpYk4CjrfNFVTGGb3pVbl1u47i/m8Lvn5ra0aU1OZisnJJWvmObhgo
 MRJ7/asIw6G2Ndb6wuiUEwh9xvspdQANm4Dl1d+f9ovvamFLLKZX0msieOtuN1oNRlYl
 n2py8TXiR5gI63D/8joRC3/ysvX3C3+BVYUEo=
X-Google-DKIM-Signature: v=1; a=rsa-sha256; c=relaxed/relaxed;
 d=1e100.net; s=20230601; t=1696016489; x=1696621289;
 h=cc:to:from:subject:message-id:date:x-gm-message-state:from:to:cc
 :subject:date:message-id:reply-to;
 bh=0yfSJ3FODMnDobj7CQzg2YRXdlw4uAgzXoBsqBEe1yc=;
 b=lF3Hl6FeTuSWfcq8mVEijUiowCPvWF3ovvxouILfwAV0FW7ucNlBgdd+OS9lbVaZv3
 BCcIlvsV5Mdq3DomzlnksZva4utVUxsO+ueEnfaP6e1aRlhG72qleYoNZHjYNPHJAQ/H
 v0Hd1OCi1B1C4qyqTL7P8okciq4AOrEsB1C1b8hjPvV8cmk4WGPZOGzBlBL0REo8nCrz
 OHvDOxcBwmykYfcKW7EZCZwyTzRg7yzhJZ5SVshKz5gYgwWj7NIwWnHFaBT3sr8J2xM1
 5N3F7kIfRYE5uWc/wL41gQPZ1gF/8lkYRMCyhEkO0LgDZ9v6EaiS1DUbqGNyb6T9i8nl
 9cPA==
X-Gm-Message-State: AOJu0YyatuJ28bjD8GEc19sDpMWLFWma+xAVO2LKpGP/dPUOqtSfmR/B
 q+svDrVKx/l/JMX0mMvLc8W2x4qO321qAIbZWyWSvTD0rd//JWAoNGzdOztgkysy2PXEw07b1w=
 =
X-Google-Smtp-Source: AGHT+IEacDE8hVV7z25i0KEQPgjH4JJy7CAmiy+uwYD0ay0I5/r5YUZosq9UWLLX3QBUVMQc5Bjwc9pSlOh5
X-Received: by 2002:a81:a190:0:b0:59f:6212:e174 with SMTP id
 y138-20020a81a190000000b0059f6212e174mr5502524ywg.12.1696016489542; 
 Fri, 29 Sep 2023 12:41:29 -0700 (PDT)
Received: from postal.iol.unh.edu (postal.iol.unh.edu.
 [2606:4100:3880:1234::84]) by smtp-relay.gmail.com with ESMTPS id
 s2-20020a818202000000b005902bae0220sm1662389ywf.72.2023.09.29.12.41.29
 (version=TLS1_2 cipher=ECDHE-ECDSA-AES128-GCM-SHA256 bits=128/128);
 Fri, 29 Sep 2023 12:41:29 -0700 (PDT)
X-Relaying-Domain: iol.unh.edu
Date: Fri, 29 Sep 2023 12:41:29 -0700 (PDT)
Message-ID: <65172869.810a0220.18f87.9bd9SMTPIN_ADDED_MISSING@mx.google.com>
Received: from [172.21.0.2] (unknown [172.18.0.240])
 by postal.iol.unh.edu (Postfix) with ESMTP id 31DD3605C380;
 Fri, 29 Sep 2023 15:41:29 -0400 (EDT)
Subject: |SUCCESS| pw132218 [PATCH] ci: test stdatomic API
From: dpdklab@iol.unh.edu
To: Test Report <test-report@dpdk.org>
Cc: dpdk-test-reports@iol.unh.edu
Content-Type: text/plain
X-BeenThere: test-report@dpdk.org
X-Mailman-Version: 2.1.29
Precedence: list
List-Id: automatic DPDK test reports <test-report.dpdk.org>
List-Unsubscribe: <https://mails.dpdk.org/options/test-report>,
 <mailto:test-report-request@dpdk.org?subject=unsubscribe>
List-Archive: <http://mails.dpdk.org/archives/test-report/>
List-Post: <mailto:test-report@dpdk.org>
List-Help: <mailto:test-report-request@dpdk.org?subject=help>
List-Subscribe: <https://mails.dpdk.org/listinfo/test-report>,
 <mailto:test-report-request@dpdk.org?subject=subscribe>
Errors-To: test-report-bounces@dpdk.org

Test-Label: iol-compile-arm64-testing
Test-Status: SUCCESS
http://dpdk.org/patch/132218

_Testing PASS_

Submitter: David Marchand <david.marchand@redhat.com>
Date: Friday, September 29 2023 14:15:10 
DPDK git baseline: Repo:dpdk
  Branch: master
  CommitID:a89a9ca38ae61778a80f287677dc91e8bb3fbdfd

132218 --> testing pass

Test environment and result as below:

+----------------------------------------+--------------------+
|              Environment               | dpdk_meson_compile |
+========================================+====================+
| Fedora 38 (ARM)                        | PASS               |
+----------------------------------------+--------------------+
| Ubuntu 20.04 ARM SVE                   | PASS               |
+----------------------------------------+--------------------+
| Debian 11 (Buster) (ARM)               | PASS               |
+----------------------------------------+--------------------+
| Ubuntu 20.04 aarch32 GCC Cross Compile | PASS               |
+----------------------------------------+--------------------+
| Ubuntu 20.04 ARM Clang Cross Compile   | PASS               |
+----------------------------------------+--------------------+
| Ubuntu 20.04 ARM GCC Cross Compile     | PASS               |
+----------------------------------------+--------------------+
| Fedora 38 (ARM Clang)                  | PASS               |
+----------------------------------------+--------------------+


Fedora 38 (ARM)
	Kernel: Depends on container host
	Compiler: gcc 13.1.1

Ubuntu 20.04 ARM SVE
	Kernel: 5.4.0-80-generic
	Compiler: gcc 10.3.0 (Ubuntu 10.3.0-1ubuntu1~20.04)

Debian 11 (Buster) (ARM)
	Kernel: Container Host Kernel
	Compiler: gcc 10.2.1

Ubuntu 20.04 aarch32 GCC Cross Compile
	Kernel: 5.4.0-72-generic
	Compiler: gcc 9.3.0

Ubuntu 20.04 ARM Clang Cross Compile
	Kernel: 5.4.0-72-generic
	Compiler: clang version 10.0.0-4ubuntu1

Ubuntu 20.04 ARM GCC Cross Compile
	Kernel: 5.4.0-72-generic
	Compiler: aarch64-linux-gnu-gcc (Ubuntu 9.3.0-17ubuntu1~20.04) 9.3.0

Fedora 38 (ARM Clang)
	Kernel: Depends on container host
	Compiler: clang 16.0.3

To view detailed results, visit:
https://lab.dpdk.org/results/dashboard/patchsets/27789/

UNH-IOL DPDK Community Lab

To manage your email subscriptions, visit: 
https://lab.dpdk.org/results/dashboard/preferences/subscriptions/