From mboxrd@z Thu Jan  1 00:00:00 1970
Return-Path: <test-report-bounces@dpdk.org>
Received: from mails.dpdk.org (mails.dpdk.org [217.70.189.124])
	by inbox.dpdk.org (Postfix) with ESMTP id 570E14267C
	for <public@inbox.dpdk.org>; Sat, 30 Sep 2023 04:01:58 +0200 (CEST)
Received: from mails.dpdk.org (localhost [127.0.0.1])
	by mails.dpdk.org (Postfix) with ESMTP id 50BC640156;
	Sat, 30 Sep 2023 04:01:58 +0200 (CEST)
Received: from mail-yb1-f227.google.com (mail-yb1-f227.google.com
 [209.85.219.227])
 by mails.dpdk.org (Postfix) with ESMTP id 4A8BA40156
 for <test-report@dpdk.org>; Sat, 30 Sep 2023 04:01:57 +0200 (CEST)
Received: by mail-yb1-f227.google.com with SMTP id
 3f1490d57ef6-d8162698f0dso16692572276.0
 for <test-report@dpdk.org>; Fri, 29 Sep 2023 19:01:57 -0700 (PDT)
DKIM-Signature: v=1; a=rsa-sha256; c=relaxed/relaxed;
 d=iol.unh.edu; s=unh-iol; t=1696039316; x=1696644116; darn=dpdk.org;
 h=cc:to:from:subject:message-id:date:from:to:cc:subject:date
 :message-id:reply-to;
 bh=B33g64BW0mzLBDrmOx7slKQ/J0uGz74c5KH8ArjltUA=;
 b=GGOhHCH+sQDYR01voUiZ5mqIODbQ06zsvFFeH/aprbadwXDWxAyYtQroy/e4oiXI4A
 86dPynMuP1XbiVgJOLwsUqR8gX8wlLXGdsOA7zUxwBFZJ0w4P1uUvF1oGIH4WJ66XWsa
 npp2bs6GNTK1upcvGNsB+t+dV4oZfaL61jrXo=
X-Google-DKIM-Signature: v=1; a=rsa-sha256; c=relaxed/relaxed;
 d=1e100.net; s=20230601; t=1696039316; x=1696644116;
 h=cc:to:from:subject:message-id:date:x-gm-message-state:from:to:cc
 :subject:date:message-id:reply-to;
 bh=B33g64BW0mzLBDrmOx7slKQ/J0uGz74c5KH8ArjltUA=;
 b=Qti6G4h0yT29r3eFWCRNpMlQUkZbW8k/ES4xB+6fyEWQf7zz8cx9B02IIwr9hyNBVm
 hu2O9NEZM5URNNxmiSiHa28HEldOJQGu7YlZpwgioo+leGR8K6dkcmYcI4u1UuG+XwW7
 9SuIOW52nPn3dY7fRuRZlhOkNRRdV/dULW6JpKxGxSo30GOpbQyVtNDkpNjXskxiVjf2
 5qvQ2fOp/mDUuXOF1J1smQipH803fDy3oNJmixsJffHdmF7Esz/368Y8ClXcKRc/UWL3
 X8Pg2vMgJKfjAqEfzgHZpts1wpSIAHDZSUefJPF+xVfyrV7KiDYO1UVuFlaFhPLD9Gen
 hGwg==
X-Gm-Message-State: AOJu0YxekYd/IDnDcqPO+JHD3SCFSG88PfhE4OnUL8U5dJvxq2Bro1by
 Ow/yN5eU73WIdFiQsUQF8wB5qP+Xxca2xNJ/jJ1nlgbkX0fhruBU1/Yl7A==
X-Google-Smtp-Source: AGHT+IE9jHF+fh/CFnvmqg9IfZnidyGd9a5GA4BQWvtvjlQuQE3S4hbluxJqPR6826wVZKGIFZiQ1hlywV/h
X-Received: by 2002:a0d:df45:0:b0:59f:6175:bd72 with SMTP id
 i66-20020a0ddf45000000b0059f6175bd72mr5919183ywe.6.1696039316706; 
 Fri, 29 Sep 2023 19:01:56 -0700 (PDT)
Received: from postal.iol.unh.edu (postal.iol.unh.edu. [132.177.123.84])
 by smtp-relay.gmail.com with ESMTPS id
 m6-20020a0de306000000b0058337eff8e1sm1626958ywe.48.2023.09.29.19.01.56
 (version=TLS1_2 cipher=ECDHE-ECDSA-AES128-GCM-SHA256 bits=128/128);
 Fri, 29 Sep 2023 19:01:56 -0700 (PDT)
X-Relaying-Domain: iol.unh.edu
Date: Fri, 29 Sep 2023 19:01:56 -0700 (PDT)
Message-ID: <65178194.0d0a0220.5cd25.43b9SMTPIN_ADDED_MISSING@mx.google.com>
Received: from [172.21.0.2] (unknown [172.18.0.240])
 by postal.iol.unh.edu (Postfix) with ESMTP id 56572605C380;
 Fri, 29 Sep 2023 22:01:56 -0400 (EDT)
Subject: |SUCCESS| pw132249 [PATCH] net/vhost: report TX errors in port stats
From: dpdklab@iol.unh.edu
To: Test Report <test-report@dpdk.org>
Cc: dpdk-test-reports@iol.unh.edu
Content-Type: text/plain
X-BeenThere: test-report@dpdk.org
X-Mailman-Version: 2.1.29
Precedence: list
List-Id: automatic DPDK test reports <test-report.dpdk.org>
List-Unsubscribe: <https://mails.dpdk.org/options/test-report>,
 <mailto:test-report-request@dpdk.org?subject=unsubscribe>
List-Archive: <http://mails.dpdk.org/archives/test-report/>
List-Post: <mailto:test-report@dpdk.org>
List-Help: <mailto:test-report-request@dpdk.org?subject=help>
List-Subscribe: <https://mails.dpdk.org/listinfo/test-report>,
 <mailto:test-report-request@dpdk.org?subject=subscribe>
Errors-To: test-report-bounces@dpdk.org

Test-Label: iol-compile-amd64-testing
Test-Status: SUCCESS
http://dpdk.org/patch/132249

_Testing PASS_

Submitter: Andrey Ignatov <rdna@apple.com>
Date: Saturday, September 30 2023 01:00:24 
DPDK git baseline: Repo:dpdk
  Branch: master
  CommitID:6e999364a6afb9189029154b1ac55b4ad5fb9b3f

132249 --> testing pass

Test environment and result as below:

+---------------------+--------------------+----------------------+
|     Environment     | dpdk_meson_compile | dpdk_mingw64_compile |
+=====================+====================+======================+
| Fedora 37           | PASS               | SKIPPED              |
+---------------------+--------------------+----------------------+
| Debian Buster       | PASS               | SKIPPED              |
+---------------------+--------------------+----------------------+
| CentOS Stream 9     | PASS               | SKIPPED              |
+---------------------+--------------------+----------------------+
| Debian Bullseye     | PASS               | SKIPPED              |
+---------------------+--------------------+----------------------+
| Ubuntu 22.04        | PASS               | SKIPPED              |
+---------------------+--------------------+----------------------+
| FreeBSD 13          | PASS               | SKIPPED              |
+---------------------+--------------------+----------------------+
| openSUSE Leap 15    | PASS               | SKIPPED              |
+---------------------+--------------------+----------------------+
| CentOS Stream 8     | PASS               | SKIPPED              |
+---------------------+--------------------+----------------------+
| Ubuntu 20.04        | PASS               | SKIPPED              |
+---------------------+--------------------+----------------------+
| Windows Server 2019 | PASS               | PASS                 |
+---------------------+--------------------+----------------------+
| Fedora 38           | PASS               | SKIPPED              |
+---------------------+--------------------+----------------------+
| Alpine              | PASS               | SKIPPED              |
+---------------------+--------------------+----------------------+
| RHEL8               | PASS               | SKIPPED              |
+---------------------+--------------------+----------------------+


Fedora 37
	Kernel: Depends on container host system
	Compiler: gcc 12.3.1

Debian Buster
	Kernel: 5.4.0-122-generic
	Compiler: gcc 8.3.0-6

CentOS Stream 9
	Kernel: 4.18.0-240.10.1.el8_3.x86_64
	Compiler: gcc 11.3.1 20220421

Debian Bullseye
	Kernel: 5.4.0-122-generic
	Compiler: gcc 10.2.1-6

Ubuntu 22.04
	Kernel: 4.18.0-240.10.1.el8_3.x86_64
	Compiler: gcc 11.3.0

FreeBSD 13
	Kernel: 13.0
	Compiler: clang 11.0.1

openSUSE Leap 15
	Kernel: 4.18.0-240.10.1.el8_3.x86_64
	Compiler: gcc 7.5.0

CentOS Stream 8
	Kernel: 4.18.0-240.10.1.el8_3.x86_64
	Compiler: gcc 8.4.1 20200928

Ubuntu 20.04
	Kernel: 5.4.0-153-generic
	Compiler: gcc 9.4.0-1ubuntu1~20.04.1

Windows Server 2019
	Kernel: 10.0
	Compiler: clang 14.0 and gcc 8.1.0 (MinGW)

Fedora 38
	Kernel: Depends on container host
	Compiler: gcc 13.1.1

Alpine
	Kernel: 5.4.0-73-generic
	Compiler: gcc (Alpine 10.3.1_git20210424) 10.3.1 20210424

RHEL8
	Kernel: 4.18.0-240.10.1.el8_3.x86_64
	Compiler: gcc 8.3.1 20191121 (Red Hat 8.3.1-5)

To view detailed results, visit:
https://lab.dpdk.org/results/dashboard/patchsets/27797/

UNH-IOL DPDK Community Lab

To manage your email subscriptions, visit: 
https://lab.dpdk.org/results/dashboard/preferences/subscriptions/