From mboxrd@z Thu Jan  1 00:00:00 1970
Return-Path: <test-report-bounces@dpdk.org>
Received: from mails.dpdk.org (mails.dpdk.org [217.70.189.124])
	by inbox.dpdk.org (Postfix) with ESMTP id 5E7CA4267E
	for <public@inbox.dpdk.org>; Sat, 30 Sep 2023 04:11:06 +0200 (CEST)
Received: from mails.dpdk.org (localhost [127.0.0.1])
	by mails.dpdk.org (Postfix) with ESMTP id 5813E40156;
	Sat, 30 Sep 2023 04:11:06 +0200 (CEST)
Received: from mail-qv1-f100.google.com (mail-qv1-f100.google.com
 [209.85.219.100])
 by mails.dpdk.org (Postfix) with ESMTP id 8202B40156
 for <test-report@dpdk.org>; Sat, 30 Sep 2023 04:11:05 +0200 (CEST)
Received: by mail-qv1-f100.google.com with SMTP id
 6a1803df08f44-65afd8af8bbso68730876d6.3
 for <test-report@dpdk.org>; Fri, 29 Sep 2023 19:11:05 -0700 (PDT)
DKIM-Signature: v=1; a=rsa-sha256; c=relaxed/relaxed;
 d=iol.unh.edu; s=unh-iol; t=1696039865; x=1696644665; darn=dpdk.org;
 h=cc:to:from:subject:message-id:date:from:to:cc:subject:date
 :message-id:reply-to;
 bh=8ah2RagnflYhwLKF4JrtkMJdYNtNr955lR8MIohL+yY=;
 b=H4EWUDa2XEvgsxbFOxTCLcLDuBfZugi7a6GodrODfMJ9pzoEILkBu/ptHVYlZrL6sQ
 RWuRHU5yvu9myCqnHrhM4wut9eB4WE9SlTEb4XuokubIk5E5iVr2Eiou47bng/vYlddd
 g1dsM/RcMtTYEaiCfiCvDGbdQobVETy/+ZPcM=
X-Google-DKIM-Signature: v=1; a=rsa-sha256; c=relaxed/relaxed;
 d=1e100.net; s=20230601; t=1696039865; x=1696644665;
 h=cc:to:from:subject:message-id:date:x-gm-message-state:from:to:cc
 :subject:date:message-id:reply-to;
 bh=8ah2RagnflYhwLKF4JrtkMJdYNtNr955lR8MIohL+yY=;
 b=sIognxuBJKnbx1fnO0M1ZWMSRcyhYiZ8isG4pnbiOduHboI/T7Z8hQjKXoSDQa51qq
 OHerLaziWt70uBeH0TjEcqSJSOn5BhMqLlLaYCo9ocDc6kqruozhbg4ylLK8siMwmmBg
 pg6OOZAZV2AVtFWwqH5P5VyCQwcgDUooXAuh8p+3Ttk1Q9QfD9NU8GTnuZwjERaKCA3r
 AdoGZm1EMJg9FLwdos9vns+Ed4KeTpQ682yIxnQc7DaYupxnlGbnRXP1h6VyRJAJGe+U
 vN1QCYTG9XQD6eZjAkni8bgkLp828oUDx0IpDe0ZzQbuXcwDUxypveGfUaS+lFu9Ooo6
 QWng==
X-Gm-Message-State: AOJu0Yx2C3XIoBdt2igvvMoLytXR4pe44nn3SkkvrV4iSzLKeMuw+5eE
 DNhDsuDpf2im9SWtC8HnklHq3TmCRLObupz4293EqI32Hg165mNViE1c/g==
X-Google-Smtp-Source: AGHT+IFcabX+IR8gdLqHrP6dK0M1aRCArISWy2xDTOGOgYf2bNl/Jx3TRWzoerLOcTGn+4s0FVDqZ1RMgAY5
X-Received: by 2002:a0c:aada:0:b0:65a:f574:ec35 with SMTP id
 g26-20020a0caada000000b0065af574ec35mr4831560qvb.63.1696039864955; 
 Fri, 29 Sep 2023 19:11:04 -0700 (PDT)
Received: from postal.iol.unh.edu (postal.iol.unh.edu. [132.177.123.84])
 by smtp-relay.gmail.com with ESMTPS id
 r13-20020a0cb28d000000b0064cc09e9d02sm768481qve.46.2023.09.29.19.11.04
 (version=TLS1_2 cipher=ECDHE-ECDSA-AES128-GCM-SHA256 bits=128/128);
 Fri, 29 Sep 2023 19:11:04 -0700 (PDT)
X-Relaying-Domain: iol.unh.edu
Date: Fri, 29 Sep 2023 19:11:04 -0700 (PDT)
Message-ID: <651783b8.0c0a0220.17c49.45bdSMTPIN_ADDED_MISSING@mx.google.com>
Received: from [172.21.0.3] (unknown [172.18.0.240])
 by postal.iol.unh.edu (Postfix) with ESMTP id 89982605C380;
 Fri, 29 Sep 2023 22:11:04 -0400 (EDT)
Subject: |SUCCESS| pw132249 [PATCH] net/vhost: report TX errors in port stats
From: dpdklab@iol.unh.edu
To: Test Report <test-report@dpdk.org>
Cc: dpdk-test-reports@iol.unh.edu
Content-Type: text/plain
X-BeenThere: test-report@dpdk.org
X-Mailman-Version: 2.1.29
Precedence: list
List-Id: automatic DPDK test reports <test-report.dpdk.org>
List-Unsubscribe: <https://mails.dpdk.org/options/test-report>,
 <mailto:test-report-request@dpdk.org?subject=unsubscribe>
List-Archive: <http://mails.dpdk.org/archives/test-report/>
List-Post: <mailto:test-report@dpdk.org>
List-Help: <mailto:test-report-request@dpdk.org?subject=help>
List-Subscribe: <https://mails.dpdk.org/listinfo/test-report>,
 <mailto:test-report-request@dpdk.org?subject=subscribe>
Errors-To: test-report-bounces@dpdk.org

Test-Label: iol-unit-amd64-testing
Test-Status: SUCCESS
http://dpdk.org/patch/132249

_Testing PASS_

Submitter: Andrey Ignatov <rdna@apple.com>
Date: Saturday, September 30 2023 01:00:24 
DPDK git baseline: Repo:dpdk
  Branch: master
  CommitID:6e999364a6afb9189029154b1ac55b4ad5fb9b3f

132249 --> testing pass

Test environment and result as below:

+---------------------+----------------+
|     Environment     | dpdk_unit_test |
+=====================+================+
| CentOS Stream 8     | PASS           |
+---------------------+----------------+
| Debian Buster       | PASS           |
+---------------------+----------------+
| Windows Server 2019 | PASS           |
+---------------------+----------------+


CentOS Stream 8
	Kernel: 4.18.0-240.10.1.el8_3.x86_64
	Compiler: gcc 8.4.1 20200928

Debian Buster
	Kernel: 5.4.0-122-generic
	Compiler: gcc 8.3.0-6

Windows Server 2019
	Kernel: 10.0
	Compiler: clang 14.0 and gcc 8.1.0 (MinGW)

To view detailed results, visit:
https://lab.dpdk.org/results/dashboard/patchsets/27797/

UNH-IOL DPDK Community Lab

To manage your email subscriptions, visit: 
https://lab.dpdk.org/results/dashboard/preferences/subscriptions/