From mboxrd@z Thu Jan  1 00:00:00 1970
Return-Path: <test-report-bounces@dpdk.org>
Received: from mails.dpdk.org (mails.dpdk.org [217.70.189.124])
	by inbox.dpdk.org (Postfix) with ESMTP id D7612426B1
	for <public@inbox.dpdk.org>; Tue,  3 Oct 2023 20:23:08 +0200 (CEST)
Received: from mails.dpdk.org (localhost [127.0.0.1])
	by mails.dpdk.org (Postfix) with ESMTP id CDE9A40262;
	Tue,  3 Oct 2023 20:23:08 +0200 (CEST)
Received: from mail-pl1-f226.google.com (mail-pl1-f226.google.com
 [209.85.214.226])
 by mails.dpdk.org (Postfix) with ESMTP id EF11D40262
 for <test-report@dpdk.org>; Tue,  3 Oct 2023 20:23:07 +0200 (CEST)
Received: by mail-pl1-f226.google.com with SMTP id
 d9443c01a7336-1c60778a3bfso9940685ad.1
 for <test-report@dpdk.org>; Tue, 03 Oct 2023 11:23:07 -0700 (PDT)
DKIM-Signature: v=1; a=rsa-sha256; c=relaxed/relaxed;
 d=iol.unh.edu; s=unh-iol; t=1696357387; x=1696962187; darn=dpdk.org;
 h=cc:to:from:subject:message-id:date:from:to:cc:subject:date
 :message-id:reply-to;
 bh=WymT0scqmhRbIA1yFSAjwfYCxaqFQ+arasjTIgPI/Xw=;
 b=Zk/54ppcSIV30Z3VaU1pYd02NvUiH9IXyJjmCKDTLHgDyacSXU7y3lmxSuAlK9cuee
 e2J8oSFNdnySN8uH6C7PjNpDfwwpZzCFQ1o6vBGwqgkhUXO3dgCC7bdxg1+7Q9OIun8s
 XlbZac1XEj6eAwbHUnlszbX/lR4jAw4UKY+wg=
X-Google-DKIM-Signature: v=1; a=rsa-sha256; c=relaxed/relaxed;
 d=1e100.net; s=20230601; t=1696357387; x=1696962187;
 h=cc:to:from:subject:message-id:date:x-gm-message-state:from:to:cc
 :subject:date:message-id:reply-to;
 bh=WymT0scqmhRbIA1yFSAjwfYCxaqFQ+arasjTIgPI/Xw=;
 b=QAXsk+48/35NW8GcrVNdySa38cRGzcLtwvAeBU9NVCwU5gNPqSsZ7hJAsZkiXNwONU
 EsukzcD2s9cXgkrhPMDmFdTT5S+U+QM36TVjALLUiCbCRH92mDnQ81C/rxV28mihgOi+
 BqKf1obDNfPf2Os+uge6n0D7m/VF9aRDJKLk12j6dU36ToUKEHPyyACTOuun3bvvHZXB
 SukoNF4aAy27Y/NonF4KrpxLkpMGuKjYiEf5nHYB8R1eLCUl/IJaWvkk9WfR3KFbNcV2
 vqlKdhQAdPzR02OcZGDOg3jXIycB7kzKx3WgyvSnHwy0/5juSvkfKoJAY9XsPdCWxG4a
 U+aw==
X-Gm-Message-State: AOJu0YyJNE8MbscM9H7BklzfsZpCW7Xq1LMrVS/yn+//r+SnnzgOk35E
 AZkmQ98bKYUtCcHODpAgI3U1ZYHJXbrvEttv4aU/TQDAaWk4+9g+dTKWR4GM9S5LNi92nQE8XA=
 =
X-Google-Smtp-Source: AGHT+IHxwuWh7VGpVi1gC4X5rpM7OsNgnY2be8UOXuIz6YtW9uxsayX2Umc4+vkx2EaoYfZWTsVOYqo71EEi
X-Received: by 2002:a17:902:d4c2:b0:1c7:5708:1077 with SMTP id
 o2-20020a170902d4c200b001c757081077mr397689plg.66.1696357387252; 
 Tue, 03 Oct 2023 11:23:07 -0700 (PDT)
Received: from postal.iol.unh.edu (postal.iol.unh.edu.
 [2606:4100:3880:1234::84]) by smtp-relay.gmail.com with ESMTPS id
 x3-20020a1709028ec300b001bdb8651246sm174476plo.20.2023.10.03.11.23.07
 (version=TLS1_2 cipher=ECDHE-ECDSA-AES128-GCM-SHA256 bits=128/128);
 Tue, 03 Oct 2023 11:23:07 -0700 (PDT)
X-Relaying-Domain: iol.unh.edu
Date: Tue, 03 Oct 2023 11:23:07 -0700 (PDT)
Message-ID: <651c5c0b.170a0220.14e8e.4306SMTPIN_ADDED_MISSING@mx.google.com>
Received: from [172.21.0.3] (unknown [172.18.0.240])
 by postal.iol.unh.edu (Postfix) with ESMTP id 9BD1A605C351;
 Tue,  3 Oct 2023 14:23:06 -0400 (EDT)
Subject: |SUCCESS| pw132284 [PATCH] eventdev: fix max link profiles info
From: dpdklab@iol.unh.edu
To: Test Report <test-report@dpdk.org>
Cc: dpdk-test-reports@iol.unh.edu
Content-Type: text/plain
X-BeenThere: test-report@dpdk.org
X-Mailman-Version: 2.1.29
Precedence: list
List-Id: automatic DPDK test reports <test-report.dpdk.org>
List-Unsubscribe: <https://mails.dpdk.org/options/test-report>,
 <mailto:test-report-request@dpdk.org?subject=unsubscribe>
List-Archive: <http://mails.dpdk.org/archives/test-report/>
List-Post: <mailto:test-report@dpdk.org>
List-Help: <mailto:test-report-request@dpdk.org?subject=help>
List-Subscribe: <https://mails.dpdk.org/listinfo/test-report>,
 <mailto:test-report-request@dpdk.org?subject=subscribe>
Errors-To: test-report-bounces@dpdk.org

Test-Label: iol-compile-amd64-testing
Test-Status: SUCCESS
http://dpdk.org/patch/132284

_Testing PASS_

Submitter: Pavan Nikhilesh Bhagavatula <pbhagavatula@marvell.com>
Date: Tuesday, October 03 2023 15:25:35 
DPDK git baseline: Repo:dpdk-next-eventdev
  Branch: master
  CommitID:9b1122634e8affeb1a3d957f3a96e48ae17956bc

132284 --> testing pass

Test environment and result as below:

+---------------------+--------------------+----------------------+
|     Environment     | dpdk_meson_compile | dpdk_mingw64_compile |
+=====================+====================+======================+
| FreeBSD 13          | PASS               | SKIPPED              |
+---------------------+--------------------+----------------------+
| Debian Buster       | PASS               | SKIPPED              |
+---------------------+--------------------+----------------------+
| Debian Bullseye     | PASS               | SKIPPED              |
+---------------------+--------------------+----------------------+
| Windows Server 2019 | PASS               | PASS                 |
+---------------------+--------------------+----------------------+
| CentOS Stream 9     | PASS               | SKIPPED              |
+---------------------+--------------------+----------------------+
| openSUSE Leap 15    | PASS               | SKIPPED              |
+---------------------+--------------------+----------------------+
| RHEL8               | PASS               | SKIPPED              |
+---------------------+--------------------+----------------------+
| Fedora 38           | PASS               | SKIPPED              |
+---------------------+--------------------+----------------------+
| Ubuntu 20.04        | PASS               | SKIPPED              |
+---------------------+--------------------+----------------------+
| Fedora 37           | PASS               | SKIPPED              |
+---------------------+--------------------+----------------------+
| Ubuntu 22.04        | PASS               | SKIPPED              |
+---------------------+--------------------+----------------------+


FreeBSD 13
	Kernel: 13.0
	Compiler: clang 11.0.1

Debian Buster
	Kernel: 5.4.0-122-generic
	Compiler: gcc 8.3.0-6

Debian Bullseye
	Kernel: 5.4.0-122-generic
	Compiler: gcc 10.2.1-6

Windows Server 2019
	Kernel: 10.0
	Compiler: clang 14.0 and gcc 8.1.0 (MinGW)

CentOS Stream 9
	Kernel: 4.18.0-240.10.1.el8_3.x86_64
	Compiler: gcc 11.3.1 20220421

openSUSE Leap 15
	Kernel: 4.18.0-240.10.1.el8_3.x86_64
	Compiler: gcc 7.5.0

RHEL8
	Kernel: 4.18.0-240.10.1.el8_3.x86_64
	Compiler: gcc 8.3.1 20191121 (Red Hat 8.3.1-5)

Fedora 38
	Kernel: Depends on container host
	Compiler: gcc 13.1.1

Ubuntu 20.04
	Kernel: 5.4.0-153-generic
	Compiler: gcc 9.4.0-1ubuntu1~20.04.1

Fedora 37
	Kernel: Depends on container host system
	Compiler: gcc 12.3.1

Ubuntu 22.04
	Kernel: 4.18.0-240.10.1.el8_3.x86_64
	Compiler: gcc 11.3.0

To view detailed results, visit:
https://lab.dpdk.org/results/dashboard/patchsets/27814/

UNH-IOL DPDK Community Lab

To manage your email subscriptions, visit: 
https://lab.dpdk.org/results/dashboard/preferences/subscriptions/