From mboxrd@z Thu Jan  1 00:00:00 1970
Return-Path: <test-report-bounces@dpdk.org>
Received: from mails.dpdk.org (mails.dpdk.org [217.70.189.124])
	by inbox.dpdk.org (Postfix) with ESMTP id 9C288426B1
	for <public@inbox.dpdk.org>; Tue,  3 Oct 2023 21:16:36 +0200 (CEST)
Received: from mails.dpdk.org (localhost [127.0.0.1])
	by mails.dpdk.org (Postfix) with ESMTP id 949BA40262;
	Tue,  3 Oct 2023 21:16:36 +0200 (CEST)
Received: from mail-il1-f225.google.com (mail-il1-f225.google.com
 [209.85.166.225])
 by mails.dpdk.org (Postfix) with ESMTP id 8DDC140262
 for <test-report@dpdk.org>; Tue,  3 Oct 2023 21:16:35 +0200 (CEST)
Received: by mail-il1-f225.google.com with SMTP id
 e9e14a558f8ab-3528bc102adso4980725ab.2
 for <test-report@dpdk.org>; Tue, 03 Oct 2023 12:16:35 -0700 (PDT)
DKIM-Signature: v=1; a=rsa-sha256; c=relaxed/relaxed;
 d=iol.unh.edu; s=unh-iol; t=1696360595; x=1696965395; darn=dpdk.org;
 h=cc:to:from:subject:message-id:date:from:to:cc:subject:date
 :message-id:reply-to;
 bh=KAdzTbjBqrN6UtHMogfoEo2exbYI3JWzYB3kOi8laoA=;
 b=OU7r1es3AC8f/FPDTj5IXOb6isdv2iE3pPba562bRqyBdfGfS522wkpRFjmLdhlgTu
 6iMLlxGkkZUiBfnsf3e6TwKYoNyzDfaY4Xd0VTQjjOqRLs9Pk2nUnG40C7ZjV4Lc1+of
 oPkGMqt5kSj2H6G523K4HvWRG8DxfKgHtMPZ8=
X-Google-DKIM-Signature: v=1; a=rsa-sha256; c=relaxed/relaxed;
 d=1e100.net; s=20230601; t=1696360595; x=1696965395;
 h=cc:to:from:subject:message-id:date:x-gm-message-state:from:to:cc
 :subject:date:message-id:reply-to;
 bh=KAdzTbjBqrN6UtHMogfoEo2exbYI3JWzYB3kOi8laoA=;
 b=nYLLpZ3D2uI6rY2doSupWMn8zOLjhpGTtwt+kr7v77nWpi1fH6QTriPkebcXs50KOT
 0cWcymlHKRQjSO+kSpeh5gdbvUaxxECynqIdb4SbBL4+IHFKpgxjCsFFm7kQyouieshT
 XmllFJ4BxJVuujB+zqNme8SMO1ljI63oMugR+jvflqnlm4tkumjPkQurxpX/h+QfY7ne
 RuKsrRFqlB7WJknvhc5EDkch32uIsgsPfbjf2FaWYgXj0dMrLppr7+rJKAsZ0QqefzAD
 HGMpzgwzACHC/PUM8JyysA7okQ9qWZlLVEO4kcQw9lLj667dDrXo11howvMDv6ourn/V
 HjCw==
X-Gm-Message-State: AOJu0YxdtB4XoYXjbzA9HBY6z8cGCIvtzmLY/ikYCIe1e1MJSoAFJ+5G
 +CERQAZl1MUJvS5VAhr+mIuvzjvprpH+UG909MMwShe+7brYesG/wgF4PABiiP36mW29WFNPLw=
 =
X-Google-Smtp-Source: AGHT+IErW1iaELjJVnO7fJ0qc3/z7GJLz8Zz3CkcTGC9SREY28LKMZ8Hd/cKxZki9hx/scmIizpVR6He+Hkg
X-Received: by 2002:a05:6e02:20ee:b0:34f:d1bc:c47c with SMTP id
 q14-20020a056e0220ee00b0034fd1bcc47cmr428823ilv.22.1696360594911; 
 Tue, 03 Oct 2023 12:16:34 -0700 (PDT)
Received: from postal.iol.unh.edu (postal.iol.unh.edu.
 [2606:4100:3880:1234::84]) by smtp-relay.gmail.com with ESMTPS id
 n20-20020a056e0208f400b0035130c258dasm206085ilt.45.2023.10.03.12.16.34
 (version=TLS1_2 cipher=ECDHE-ECDSA-AES128-GCM-SHA256 bits=128/128);
 Tue, 03 Oct 2023 12:16:34 -0700 (PDT)
X-Relaying-Domain: iol.unh.edu
Date: Tue, 03 Oct 2023 12:16:34 -0700 (PDT)
Message-ID: <651c6892.050a0220.e2ef0.559eSMTPIN_ADDED_MISSING@mx.google.com>
Received: from [172.21.0.2] (unknown [172.18.0.240])
 by postal.iol.unh.edu (Postfix) with ESMTP id 4AF4B605C351;
 Tue,  3 Oct 2023 15:16:34 -0400 (EDT)
Subject: |SUCCESS| pw132284 [PATCH] eventdev: fix max link profiles info
From: dpdklab@iol.unh.edu
To: Test Report <test-report@dpdk.org>
Cc: dpdk-test-reports@iol.unh.edu
Content-Type: text/plain
X-BeenThere: test-report@dpdk.org
X-Mailman-Version: 2.1.29
Precedence: list
List-Id: automatic DPDK test reports <test-report.dpdk.org>
List-Unsubscribe: <https://mails.dpdk.org/options/test-report>,
 <mailto:test-report-request@dpdk.org?subject=unsubscribe>
List-Archive: <http://mails.dpdk.org/archives/test-report/>
List-Post: <mailto:test-report@dpdk.org>
List-Help: <mailto:test-report-request@dpdk.org?subject=help>
List-Subscribe: <https://mails.dpdk.org/listinfo/test-report>,
 <mailto:test-report-request@dpdk.org?subject=subscribe>
Errors-To: test-report-bounces@dpdk.org

Test-Label: iol-compile-arm64-testing
Test-Status: SUCCESS
http://dpdk.org/patch/132284

_Testing PASS_

Submitter: Pavan Nikhilesh Bhagavatula <pbhagavatula@marvell.com>
Date: Tuesday, October 03 2023 15:25:35 
DPDK git baseline: Repo:dpdk-next-eventdev
  Branch: master
  CommitID:9b1122634e8affeb1a3d957f3a96e48ae17956bc

132284 --> testing pass

Test environment and result as below:

+----------------------------------------+--------------------+
|              Environment               | dpdk_meson_compile |
+========================================+====================+
| Ubuntu 20.04 ARM SVE                   | PASS               |
+----------------------------------------+--------------------+
| Ubuntu 20.04 aarch32 GCC Cross Compile | PASS               |
+----------------------------------------+--------------------+
| Ubuntu 20.04 ARM GCC Cross Compile     | PASS               |
+----------------------------------------+--------------------+
| Ubuntu 20.04 (ARM)                     | PASS               |
+----------------------------------------+--------------------+
| Debian 11 (Buster) (ARM)               | PASS               |
+----------------------------------------+--------------------+
| Ubuntu 20.04 ARM Clang Cross Compile   | PASS               |
+----------------------------------------+--------------------+
| CentOS Stream 9 (ARM)                  | PASS               |
+----------------------------------------+--------------------+
| Fedora 37 (ARM)                        | PASS               |
+----------------------------------------+--------------------+


Ubuntu 20.04 ARM SVE
	Kernel: 5.4.0-80-generic
	Compiler: gcc 10.3.0 (Ubuntu 10.3.0-1ubuntu1~20.04)

Ubuntu 20.04 aarch32 GCC Cross Compile
	Kernel: 5.4.0-72-generic
	Compiler: gcc 9.3.0

Ubuntu 20.04 ARM GCC Cross Compile
	Kernel: 5.4.0-72-generic
	Compiler: aarch64-linux-gnu-gcc (Ubuntu 9.3.0-17ubuntu1~20.04) 9.3.0

Ubuntu 20.04 (ARM)
	Kernel: Container Host Kernel
	Compiler: gcc 9.4.0

Debian 11 (Buster) (ARM)
	Kernel: Container Host Kernel
	Compiler: gcc 10.2.1

Ubuntu 20.04 ARM Clang Cross Compile
	Kernel: 5.4.0-72-generic
	Compiler: clang version 10.0.0-4ubuntu1

CentOS Stream 9 (ARM)
	Kernel: Container Host Kernel
	Compiler: gcc 11.3.1

Fedora 37 (ARM)
	Kernel: Depends on container host
	Compiler: gcc 12.3.1

To view detailed results, visit:
https://lab.dpdk.org/results/dashboard/patchsets/27814/

UNH-IOL DPDK Community Lab

To manage your email subscriptions, visit: 
https://lab.dpdk.org/results/dashboard/preferences/subscriptions/