From mboxrd@z Thu Jan  1 00:00:00 1970
Return-Path: <test-report-bounces@dpdk.org>
Received: from mails.dpdk.org (mails.dpdk.org [217.70.189.124])
	by inbox.dpdk.org (Postfix) with ESMTP id BAB5E426B7
	for <public@inbox.dpdk.org>; Wed,  4 Oct 2023 17:30:29 +0200 (CEST)
Received: from mails.dpdk.org (localhost [127.0.0.1])
	by mails.dpdk.org (Postfix) with ESMTP id 97455402A9;
	Wed,  4 Oct 2023 17:30:29 +0200 (CEST)
Received: from mail-io1-f100.google.com (mail-io1-f100.google.com
 [209.85.166.100])
 by mails.dpdk.org (Postfix) with ESMTP id F31FC402A9
 for <test-report@dpdk.org>; Wed,  4 Oct 2023 17:30:28 +0200 (CEST)
Received: by mail-io1-f100.google.com with SMTP id
 ca18e2360f4ac-79fd60f40ebso32425539f.1
 for <test-report@dpdk.org>; Wed, 04 Oct 2023 08:30:28 -0700 (PDT)
DKIM-Signature: v=1; a=rsa-sha256; c=relaxed/relaxed;
 d=iol.unh.edu; s=unh-iol; t=1696433428; x=1697038228; darn=dpdk.org;
 h=cc:to:from:subject:message-id:date:from:to:cc:subject:date
 :message-id:reply-to;
 bh=A3dI0L2iYfYyFUgbDJay54kmT2xASl29NS8EvEz3M0o=;
 b=AZGvXoZtdmpkbT4b5C5bhT4m/wvKGhhVC4zYTTmg1WqgnEg+HL+M4YQsfUi0PTd3Ay
 iUbZ7k250BRpLrsNqlP1owCDG0nhx0NF7XnO8oWB6gxa9FkgmT7wGc3g6s8N0pihH2Yh
 CJLZlpRvlb9aQzdCMoi4Q1qnPK/7bJyycSq50=
X-Google-DKIM-Signature: v=1; a=rsa-sha256; c=relaxed/relaxed;
 d=1e100.net; s=20230601; t=1696433428; x=1697038228;
 h=cc:to:from:subject:message-id:date:x-gm-message-state:from:to:cc
 :subject:date:message-id:reply-to;
 bh=A3dI0L2iYfYyFUgbDJay54kmT2xASl29NS8EvEz3M0o=;
 b=gwGe/9z4AvCO+I5ihEwwASneiods0q4Kr9AMsYE7EZ54y9+Wv8OhDi4bwxZP3olLFd
 xpD7txNNOKxRpb2vRLZ9pYjA9y8fUm0pTssy2KAcYiQP2K0CmVZQeJ87q/MHcaiYIWMa
 Wco9gEz6MtVJcXQstTD2VkN92Vcbw2qkb7HMd084xLiOtEjgmj2OuIm/PEcJ2i8GTjeb
 KKIhlRo5PwmPDlMw8XUw7N5hJPqfCUYWXbbATF5RnjrK+yvWaULJJocX4GZjdaYqkLde
 YlfsIx6SK37m6rTROr4wbcyAGSUQEp0mK1bSKnZeWJhaMN7AdgK27E7VAtbNWAxPDq2N
 nmBg==
X-Gm-Message-State: AOJu0Yw/3POB1LDqpJNfBi6XkzN/JXOBFLHghRrHzPOyGoBDQ3fU96L1
 h44xfnWKbZUXFNE1nURbxd5VFfMsPQO5520sQ6ZyxEBSzVFwo5e8QNTcYg==
X-Google-Smtp-Source: AGHT+IEa0VtAvmq8bUj3mguRq+qm1X2OOyo/kKTjm/f2BYQ1BaDoW6tlAKFkEJ1qAE0zzWcdVuZG4AeWoe2P
X-Received: by 2002:a6b:5f19:0:b0:791:ad01:3f3e with SMTP id
 t25-20020a6b5f19000000b00791ad013f3emr28192iob.0.1696433428148; 
 Wed, 04 Oct 2023 08:30:28 -0700 (PDT)
Received: from postal.iol.unh.edu (postal.iol.unh.edu. [132.177.123.84])
 by smtp-relay.gmail.com with ESMTPS id
 p18-20020a0566380e9200b0043a21630facsm242562jas.45.2023.10.04.08.30.28
 (version=TLS1_2 cipher=ECDHE-ECDSA-AES128-GCM-SHA256 bits=128/128);
 Wed, 04 Oct 2023 08:30:28 -0700 (PDT)
X-Relaying-Domain: iol.unh.edu
Date: Wed, 04 Oct 2023 08:30:28 -0700 (PDT)
Message-ID: <651d8514.050a0220.e0da5.8614SMTPIN_ADDED_MISSING@mx.google.com>
Received: from [172.21.0.2] (unknown [172.18.0.240])
 by postal.iol.unh.edu (Postfix) with ESMTP id 9511C6052514;
 Wed,  4 Oct 2023 11:30:27 -0400 (EDT)
Subject: |SUCCESS| pw132298 [PATCH] [v3] net/axgbe: use CPUID to identify cpu
From: dpdklab@iol.unh.edu
To: Test Report <test-report@dpdk.org>
Cc: dpdk-test-reports@iol.unh.edu
Content-Type: text/plain
X-BeenThere: test-report@dpdk.org
X-Mailman-Version: 2.1.29
Precedence: list
List-Id: automatic DPDK test reports <test-report.dpdk.org>
List-Unsubscribe: <https://mails.dpdk.org/options/test-report>,
 <mailto:test-report-request@dpdk.org?subject=unsubscribe>
List-Archive: <http://mails.dpdk.org/archives/test-report/>
List-Post: <mailto:test-report@dpdk.org>
List-Help: <mailto:test-report-request@dpdk.org?subject=help>
List-Subscribe: <https://mails.dpdk.org/listinfo/test-report>,
 <mailto:test-report-request@dpdk.org?subject=subscribe>
Errors-To: test-report-bounces@dpdk.org

Test-Label: iol-unit-amd64-testing
Test-Status: SUCCESS
http://dpdk.org/patch/132298

_Testing PASS_

Submitter: Selwin Sebastian <selwin.sebastian@amd.com>
Date: Wednesday, October 04 2023 10:07:54 
DPDK git baseline: Repo:dpdk
  Branch: master
  CommitID:687a5b12b14f02f0d3624f4b36b34dba8119a680

132298 --> testing pass

Test environment and result as below:

+---------------------+----------------+
|     Environment     | dpdk_unit_test |
+=====================+================+
| Windows Server 2019 | PASS           |
+---------------------+----------------+
| CentOS Stream 8     | PASS           |
+---------------------+----------------+
| CentOS Stream 9     | PASS           |
+---------------------+----------------+
| Debian Buster       | PASS           |
+---------------------+----------------+
| Debian Bullseye     | PASS           |
+---------------------+----------------+
| Fedora 37           | PASS           |
+---------------------+----------------+
| Fedora 38           | PASS           |
+---------------------+----------------+
| RHEL8               | PASS           |
+---------------------+----------------+
| openSUSE Leap 15    | PASS           |
+---------------------+----------------+


Windows Server 2019
	Kernel: 10.0
	Compiler: clang 14.0 and gcc 8.1.0 (MinGW)

CentOS Stream 8
	Kernel: 4.18.0-240.10.1.el8_3.x86_64
	Compiler: gcc 8.4.1 20200928

CentOS Stream 9
	Kernel: 4.18.0-240.10.1.el8_3.x86_64
	Compiler: gcc 11.3.1 20220421

Debian Buster
	Kernel: 5.4.0-122-generic
	Compiler: gcc 8.3.0-6

Debian Bullseye
	Kernel: 5.4.0-122-generic
	Compiler: gcc 10.2.1-6

Fedora 37
	Kernel: Depends on container host system
	Compiler: gcc 12.3.1

Fedora 38
	Kernel: Depends on container host
	Compiler: gcc 13.1.1

RHEL8
	Kernel: 4.18.0-240.10.1.el8_3.x86_64
	Compiler: gcc 8.3.1 20191121 (Red Hat 8.3.1-5)

openSUSE Leap 15
	Kernel: 4.18.0-240.10.1.el8_3.x86_64
	Compiler: gcc 7.5.0

To view detailed results, visit:
https://lab.dpdk.org/results/dashboard/patchsets/27821/

UNH-IOL DPDK Community Lab

To manage your email subscriptions, visit: 
https://lab.dpdk.org/results/dashboard/preferences/subscriptions/