From mboxrd@z Thu Jan  1 00:00:00 1970
Return-Path: <test-report-bounces@dpdk.org>
Received: from mails.dpdk.org (mails.dpdk.org [217.70.189.124])
	by inbox.dpdk.org (Postfix) with ESMTP id 67C2F426C9
	for <public@inbox.dpdk.org>; Fri,  6 Oct 2023 05:59:49 +0200 (CEST)
Received: from mails.dpdk.org (localhost [127.0.0.1])
	by mails.dpdk.org (Postfix) with ESMTP id 631E9402A8;
	Fri,  6 Oct 2023 05:59:49 +0200 (CEST)
Received: from mail-ot1-f98.google.com (mail-ot1-f98.google.com
 [209.85.210.98]) by mails.dpdk.org (Postfix) with ESMTP id 41825402A8
 for <test-report@dpdk.org>; Fri,  6 Oct 2023 05:59:48 +0200 (CEST)
Received: by mail-ot1-f98.google.com with SMTP id
 46e09a7af769-6b9e478e122so1183674a34.1
 for <test-report@dpdk.org>; Thu, 05 Oct 2023 20:59:48 -0700 (PDT)
DKIM-Signature: v=1; a=rsa-sha256; c=relaxed/relaxed;
 d=iol.unh.edu; s=unh-iol; t=1696564787; x=1697169587; darn=dpdk.org;
 h=cc:to:from:subject:message-id:date:from:to:cc:subject:date
 :message-id:reply-to;
 bh=hdzYGtwltF0PzsKv4xU0ZjWvYT4LRfscl32Uexf/xjg=;
 b=MpiOmVlEoPF1uRO/VWZbcnWN4RjcWMkjUELlxoPy6wAByocPHQgXMtppHuSYWv6GLi
 rvJb2L35PsSfWEUgWMAPbE2qsXADBbztUeSL/flPRaJcGDQOtWqkj4spro1U1pKCIZSx
 Pq0F5kPWA5LqNpPRbfTE2PXt0daCgjCYBszTw=
X-Google-DKIM-Signature: v=1; a=rsa-sha256; c=relaxed/relaxed;
 d=1e100.net; s=20230601; t=1696564787; x=1697169587;
 h=cc:to:from:subject:message-id:date:x-gm-message-state:from:to:cc
 :subject:date:message-id:reply-to;
 bh=hdzYGtwltF0PzsKv4xU0ZjWvYT4LRfscl32Uexf/xjg=;
 b=EpUTxy7q15zOFk+3odE3r04nOQ37SmUkZJB/ZtbpgbyicHTpJNZ/rfIAF6bmN8okMp
 EHA712e1K/7tg9bzFCR40LI+67O3qEk/6cVTWTZ8GhY6X4SJT6CMyjmo1BJRZYf1nT97
 Yfy6gXmdf6bqqNovuQrqGp8O1TlEm1m+eFSBBx8sHdM+MzYQxNCV6CPteSKE8+5SWTfT
 TMKqSazkkh05HfF+Z7UKLWv666pVTMYaXVnEab4c+h16VVXNcliuCjEEEHP0KKbBiaJv
 yX8I6ZEZTyoJalEzR8sgSdjqGyNatPIWVx3Anl3IeMI8RMwIp9FUeWksI2hPTog2ePrV
 sXMw==
X-Gm-Message-State: AOJu0YweKuv29U0AWicis9FUeKKTHAYspysUcfOMh6OiG7EvHH1Q086U
 faH6JSbzrsmHr/x9GnmGSnj2R+A5CwyqH9DEgnQBKZZDWDKklbVab66GgA==
X-Google-Smtp-Source: AGHT+IF3vkSnNvUt5g5ClC4HTHbDmEUuFJO1GbJPjXRKlUAO2yFQ+uhHu2lY9W9xPzyEFyWW/SkwDrX9FE0O
X-Received: by 2002:a05:6870:64a7:b0:1d1:40a6:e82d with SMTP id
 cz39-20020a05687064a700b001d140a6e82dmr7716178oab.59.1696564787697; 
 Thu, 05 Oct 2023 20:59:47 -0700 (PDT)
Received: from postal.iol.unh.edu (postal.iol.unh.edu. [132.177.123.84])
 by smtp-relay.gmail.com with ESMTPS id
 j5-20020a056870530500b001cca1dc6d7esm263537oan.5.2023.10.05.20.59.47
 (version=TLS1_2 cipher=ECDHE-ECDSA-AES128-GCM-SHA256 bits=128/128);
 Thu, 05 Oct 2023 20:59:47 -0700 (PDT)
X-Relaying-Domain: iol.unh.edu
Date: Thu, 05 Oct 2023 20:59:47 -0700 (PDT)
Message-ID: <651f8633.050a0220.3737a8.e2b8SMTPIN_ADDED_MISSING@mx.google.com>
Received: from [172.21.0.3] (unknown [172.18.0.240])
 by postal.iol.unh.edu (Postfix) with ESMTP id 2E496605C351;
 Thu,  5 Oct 2023 23:59:47 -0400 (EDT)
Subject: |SUCCESS| pw132354 [PATCH] net/netvsc: add support for mtu_set
From: dpdklab@iol.unh.edu
To: Test Report <test-report@dpdk.org>
Cc: dpdk-test-reports@iol.unh.edu
Content-Type: text/plain
X-BeenThere: test-report@dpdk.org
X-Mailman-Version: 2.1.29
Precedence: list
List-Id: automatic DPDK test reports <test-report.dpdk.org>
List-Unsubscribe: <https://mails.dpdk.org/options/test-report>,
 <mailto:test-report-request@dpdk.org?subject=unsubscribe>
List-Archive: <http://mails.dpdk.org/archives/test-report/>
List-Post: <mailto:test-report@dpdk.org>
List-Help: <mailto:test-report-request@dpdk.org?subject=help>
List-Subscribe: <https://mails.dpdk.org/listinfo/test-report>,
 <mailto:test-report-request@dpdk.org?subject=subscribe>
Errors-To: test-report-bounces@dpdk.org

Test-Label: iol-compile-amd64-testing
Test-Status: SUCCESS
http://dpdk.org/patch/132354

_Testing PASS_

Submitter: Sam Andrew <samandrew@microsoft.com>
Date: Thursday, October 05 2023 23:17:28 
DPDK git baseline: Repo:dpdk
  Branch: master
  CommitID:3bcd5b3198d4a31176b1ac73fc7236a12186fffe

132354 --> testing pass

Test environment and result as below:

+---------------------+--------------------+----------------------+
|     Environment     | dpdk_meson_compile | dpdk_mingw64_compile |
+=====================+====================+======================+
| FreeBSD 13          | PASS               | SKIPPED              |
+---------------------+--------------------+----------------------+
| Fedora 37           | PASS               | SKIPPED              |
+---------------------+--------------------+----------------------+
| CentOS Stream 9     | PASS               | SKIPPED              |
+---------------------+--------------------+----------------------+
| Debian Bullseye     | PASS               | SKIPPED              |
+---------------------+--------------------+----------------------+
| Debian Buster       | PASS               | SKIPPED              |
+---------------------+--------------------+----------------------+
| CentOS Stream 8     | PASS               | SKIPPED              |
+---------------------+--------------------+----------------------+
| RHEL8               | PASS               | SKIPPED              |
+---------------------+--------------------+----------------------+
| Fedora 38           | PASS               | SKIPPED              |
+---------------------+--------------------+----------------------+
| Ubuntu 20.04        | PASS               | SKIPPED              |
+---------------------+--------------------+----------------------+
| openSUSE Leap 15    | PASS               | SKIPPED              |
+---------------------+--------------------+----------------------+
| Windows Server 2019 | PASS               | PASS                 |
+---------------------+--------------------+----------------------+
| Alpine              | PASS               | SKIPPED              |
+---------------------+--------------------+----------------------+
| Ubuntu 22.04        | PASS               | SKIPPED              |
+---------------------+--------------------+----------------------+


FreeBSD 13
	Kernel: 13.0
	Compiler: clang 11.0.1

Fedora 37
	Kernel: Depends on container host system
	Compiler: gcc 12.3.1

CentOS Stream 9
	Kernel: 4.18.0-240.10.1.el8_3.x86_64
	Compiler: gcc 11.3.1 20220421

Debian Bullseye
	Kernel: 5.4.0-122-generic
	Compiler: gcc 10.2.1-6

Debian Buster
	Kernel: 5.4.0-122-generic
	Compiler: gcc 8.3.0-6

CentOS Stream 8
	Kernel: 4.18.0-240.10.1.el8_3.x86_64
	Compiler: gcc 8.4.1 20200928

RHEL8
	Kernel: 4.18.0-240.10.1.el8_3.x86_64
	Compiler: gcc 8.3.1 20191121 (Red Hat 8.3.1-5)

Fedora 38
	Kernel: Depends on container host
	Compiler: gcc 13.1.1

Ubuntu 20.04
	Kernel: 5.4.0-153-generic
	Compiler: gcc 9.4.0-1ubuntu1~20.04.1

openSUSE Leap 15
	Kernel: 4.18.0-240.10.1.el8_3.x86_64
	Compiler: gcc 7.5.0

Windows Server 2019
	Kernel: 10.0
	Compiler: clang 14.0 and gcc 8.1.0 (MinGW)

Alpine
	Kernel: 5.4.0-73-generic
	Compiler: gcc (Alpine 10.3.1_git20210424) 10.3.1 20210424

Ubuntu 22.04
	Kernel: 4.18.0-240.10.1.el8_3.x86_64
	Compiler: gcc 11.3.0

To view detailed results, visit:
https://lab.dpdk.org/results/dashboard/patchsets/27838/

UNH-IOL DPDK Community Lab

To manage your email subscriptions, visit: 
https://lab.dpdk.org/results/dashboard/preferences/subscriptions/