From mboxrd@z Thu Jan  1 00:00:00 1970
Return-Path: <test-report-bounces@dpdk.org>
Received: from mails.dpdk.org (mails.dpdk.org [217.70.189.124])
	by inbox.dpdk.org (Postfix) with ESMTP id 13EA0426CA
	for <public@inbox.dpdk.org>; Fri,  6 Oct 2023 06:03:29 +0200 (CEST)
Received: from mails.dpdk.org (localhost [127.0.0.1])
	by mails.dpdk.org (Postfix) with ESMTP id 0F161402A8;
	Fri,  6 Oct 2023 06:03:29 +0200 (CEST)
Received: from mail-ot1-f98.google.com (mail-ot1-f98.google.com
 [209.85.210.98]) by mails.dpdk.org (Postfix) with ESMTP id BB125402A8
 for <test-report@dpdk.org>; Fri,  6 Oct 2023 06:03:27 +0200 (CEST)
Received: by mail-ot1-f98.google.com with SMTP id
 46e09a7af769-6c4bf619b57so1120831a34.1
 for <test-report@dpdk.org>; Thu, 05 Oct 2023 21:03:27 -0700 (PDT)
DKIM-Signature: v=1; a=rsa-sha256; c=relaxed/relaxed;
 d=iol.unh.edu; s=unh-iol; t=1696565007; x=1697169807; darn=dpdk.org;
 h=cc:to:from:subject:message-id:date:from:to:cc:subject:date
 :message-id:reply-to;
 bh=hdzYGtwltF0PzsKv4xU0ZjWvYT4LRfscl32Uexf/xjg=;
 b=g/U14GbIqdx1RK4mPZZ6qbDQV1nQDYoNq+UkXfarZz4KKb2NeMjj60y0qjlradB/C6
 vOSGJSRQTho26vSlLadd5rwPhhBt5vxKVS9WNqM2HMgv7Gn+ctPn5axtV8hIwXENwLcT
 kjprz709NO9RA3RZNYJOI9S268b+GkACIbIT4=
X-Google-DKIM-Signature: v=1; a=rsa-sha256; c=relaxed/relaxed;
 d=1e100.net; s=20230601; t=1696565007; x=1697169807;
 h=cc:to:from:subject:message-id:date:x-gm-message-state:from:to:cc
 :subject:date:message-id:reply-to;
 bh=hdzYGtwltF0PzsKv4xU0ZjWvYT4LRfscl32Uexf/xjg=;
 b=V8MKFrn9aJwcgnHj9mS/wmBqMv2BaivnsB9Er1bLKxeGJJtWz87fuiBGLjzYOJpXsJ
 sH4l3kBrPDDIhV4zgshStNGJ2qhAbBnUE5MUH6Xn9SJRg/DCRU+1Ssyfwp9fdPhiPQmw
 +toY8yKSyaIlBCDoKyw7bjY9Za2d5IiMAAPpPZP3NlsT0MikzEpJr44QdVpUwTh3+gvk
 ygv+wkaufETtnCy77GNsh8/IzEH6u7tZ3gq1mjeKyRCrNjM8gv0ja6jycZ8Z65YI2Nmf
 sqEnt9eivacfI1p+w2QnZ6SGAo8NRHENFnSoU0dulxn248uasAQJ2oUqcK9Ebkwh8SmN
 0sdw==
X-Gm-Message-State: AOJu0YzR+kIFo2Jy/Gfsfq64wIk5f5C8YfOAvO3CUdhdIli6DtjLFDXU
 7/hxhIq4JoU7Tn4yWZ+RqeiwLHQqcbiY6pwUlHkq672PtJbFgCNYPxDk/D4ZthuJH5YT/69vSA=
 =
X-Google-Smtp-Source: AGHT+IF2O29+j5bQl3STGp8ymxg8F2ClMFaGK9K474oSqADP6Lxinhl6yIFyUbmL4CH+Tu4cZyW3aTsmMg6K
X-Received: by 2002:a9d:6a4b:0:b0:6bc:f999:a544 with SMTP id
 h11-20020a9d6a4b000000b006bcf999a544mr6692404otn.15.1696565007172; 
 Thu, 05 Oct 2023 21:03:27 -0700 (PDT)
Received: from postal.iol.unh.edu (postal.iol.unh.edu.
 [2606:4100:3880:1234::84]) by smtp-relay.gmail.com with ESMTPS id
 o2-20020a4a2c02000000b0057b73fcec61sm133405ooo.9.2023.10.05.21.03.27
 (version=TLS1_2 cipher=ECDHE-ECDSA-AES128-GCM-SHA256 bits=128/128);
 Thu, 05 Oct 2023 21:03:27 -0700 (PDT)
X-Relaying-Domain: iol.unh.edu
Date: Thu, 05 Oct 2023 21:03:27 -0700 (PDT)
Message-ID: <651f870f.4a0a0220.24b5b.517bSMTPIN_ADDED_MISSING@mx.google.com>
Received: from [172.21.0.2] (unknown [172.18.0.240])
 by postal.iol.unh.edu (Postfix) with ESMTP id 9CF37605C351;
 Fri,  6 Oct 2023 00:03:26 -0400 (EDT)
Subject: |SUCCESS| pw132354 [PATCH] net/netvsc: add support for mtu_set
From: dpdklab@iol.unh.edu
To: Test Report <test-report@dpdk.org>
Cc: dpdk-test-reports@iol.unh.edu
Content-Type: text/plain
X-BeenThere: test-report@dpdk.org
X-Mailman-Version: 2.1.29
Precedence: list
List-Id: automatic DPDK test reports <test-report.dpdk.org>
List-Unsubscribe: <https://mails.dpdk.org/options/test-report>,
 <mailto:test-report-request@dpdk.org?subject=unsubscribe>
List-Archive: <http://mails.dpdk.org/archives/test-report/>
List-Post: <mailto:test-report@dpdk.org>
List-Help: <mailto:test-report-request@dpdk.org?subject=help>
List-Subscribe: <https://mails.dpdk.org/listinfo/test-report>,
 <mailto:test-report-request@dpdk.org?subject=subscribe>
Errors-To: test-report-bounces@dpdk.org

Test-Label: iol-compile-amd64-testing
Test-Status: SUCCESS
http://dpdk.org/patch/132354

_Testing PASS_

Submitter: Sam Andrew <samandrew@microsoft.com>
Date: Thursday, October 05 2023 23:17:28 
DPDK git baseline: Repo:dpdk
  Branch: master
  CommitID:3bcd5b3198d4a31176b1ac73fc7236a12186fffe

132354 --> testing pass

Test environment and result as below:

+---------------------+--------------------+----------------------+
|     Environment     | dpdk_meson_compile | dpdk_mingw64_compile |
+=====================+====================+======================+
| FreeBSD 13          | PASS               | SKIPPED              |
+---------------------+--------------------+----------------------+
| Fedora 37           | PASS               | SKIPPED              |
+---------------------+--------------------+----------------------+
| CentOS Stream 9     | PASS               | SKIPPED              |
+---------------------+--------------------+----------------------+
| Debian Bullseye     | PASS               | SKIPPED              |
+---------------------+--------------------+----------------------+
| Debian Buster       | PASS               | SKIPPED              |
+---------------------+--------------------+----------------------+
| CentOS Stream 8     | PASS               | SKIPPED              |
+---------------------+--------------------+----------------------+
| RHEL8               | PASS               | SKIPPED              |
+---------------------+--------------------+----------------------+
| Fedora 38           | PASS               | SKIPPED              |
+---------------------+--------------------+----------------------+
| Ubuntu 20.04        | PASS               | SKIPPED              |
+---------------------+--------------------+----------------------+
| openSUSE Leap 15    | PASS               | SKIPPED              |
+---------------------+--------------------+----------------------+
| Windows Server 2019 | PASS               | PASS                 |
+---------------------+--------------------+----------------------+
| Alpine              | PASS               | SKIPPED              |
+---------------------+--------------------+----------------------+
| Ubuntu 22.04        | PASS               | SKIPPED              |
+---------------------+--------------------+----------------------+


FreeBSD 13
	Kernel: 13.0
	Compiler: clang 11.0.1

Fedora 37
	Kernel: Depends on container host system
	Compiler: gcc 12.3.1

CentOS Stream 9
	Kernel: 4.18.0-240.10.1.el8_3.x86_64
	Compiler: gcc 11.3.1 20220421

Debian Bullseye
	Kernel: 5.4.0-122-generic
	Compiler: gcc 10.2.1-6

Debian Buster
	Kernel: 5.4.0-122-generic
	Compiler: gcc 8.3.0-6

CentOS Stream 8
	Kernel: 4.18.0-240.10.1.el8_3.x86_64
	Compiler: gcc 8.4.1 20200928

RHEL8
	Kernel: 4.18.0-240.10.1.el8_3.x86_64
	Compiler: gcc 8.3.1 20191121 (Red Hat 8.3.1-5)

Fedora 38
	Kernel: Depends on container host
	Compiler: gcc 13.1.1

Ubuntu 20.04
	Kernel: 5.4.0-153-generic
	Compiler: gcc 9.4.0-1ubuntu1~20.04.1

openSUSE Leap 15
	Kernel: 4.18.0-240.10.1.el8_3.x86_64
	Compiler: gcc 7.5.0

Windows Server 2019
	Kernel: 10.0
	Compiler: clang 14.0 and gcc 8.1.0 (MinGW)

Alpine
	Kernel: 5.4.0-73-generic
	Compiler: gcc (Alpine 10.3.1_git20210424) 10.3.1 20210424

Ubuntu 22.04
	Kernel: 4.18.0-240.10.1.el8_3.x86_64
	Compiler: gcc 11.3.0

To view detailed results, visit:
https://lab.dpdk.org/results/dashboard/patchsets/27838/

UNH-IOL DPDK Community Lab

To manage your email subscriptions, visit: 
https://lab.dpdk.org/results/dashboard/preferences/subscriptions/