From mboxrd@z Thu Jan  1 00:00:00 1970
Return-Path: <test-report-bounces@dpdk.org>
Received: from mails.dpdk.org (mails.dpdk.org [217.70.189.124])
	by inbox.dpdk.org (Postfix) with ESMTP id DA52D426CA
	for <public@inbox.dpdk.org>; Fri,  6 Oct 2023 06:45:49 +0200 (CEST)
Received: from mails.dpdk.org (localhost [127.0.0.1])
	by mails.dpdk.org (Postfix) with ESMTP id D1A4B402A8;
	Fri,  6 Oct 2023 06:45:49 +0200 (CEST)
Received: from mail-oa1-f97.google.com (mail-oa1-f97.google.com
 [209.85.160.97]) by mails.dpdk.org (Postfix) with ESMTP id 0A64F402A8
 for <test-report@dpdk.org>; Fri,  6 Oct 2023 06:45:49 +0200 (CEST)
Received: by mail-oa1-f97.google.com with SMTP id
 586e51a60fabf-1dd8304b980so1121235fac.2
 for <test-report@dpdk.org>; Thu, 05 Oct 2023 21:45:48 -0700 (PDT)
DKIM-Signature: v=1; a=rsa-sha256; c=relaxed/relaxed;
 d=iol.unh.edu; s=unh-iol; t=1696567548; x=1697172348; darn=dpdk.org;
 h=cc:to:from:subject:message-id:date:from:to:cc:subject:date
 :message-id:reply-to;
 bh=4NakE7fcjB5jJGrp7k4L3bdoUt9LIb6N0yLOB9zCdgc=;
 b=OEKsbQ3MACZJvTYRTViVJUlN9l7LHcM97YqYox67BRfusj+sKLv9ZTzI0xS64+aKBZ
 nJk69yMiD4qLPTMnx48sKtqC6punKKbJCvZuYfduf4WiuOLYGtLOlcEcgPTPivMxbe8E
 cm4tB4cVGmzZx9cm95GCwsXytjBFHmVKvtLzA=
X-Google-DKIM-Signature: v=1; a=rsa-sha256; c=relaxed/relaxed;
 d=1e100.net; s=20230601; t=1696567548; x=1697172348;
 h=cc:to:from:subject:message-id:date:x-gm-message-state:from:to:cc
 :subject:date:message-id:reply-to;
 bh=4NakE7fcjB5jJGrp7k4L3bdoUt9LIb6N0yLOB9zCdgc=;
 b=wG3rjrxr+ZlI51gYJGrR2YU/wqOtkot/oYsSPzrvvqoAV5px5Q7SbD5pi850nSO1uL
 UAoiOSsMA1UVTIIQoJhJNnT9lhRa+1NdplAlioTMqf8+oKRFuTfzpgBsGwlXIxtMqHXc
 8TsnMXcLRJ9e9qVcImyS3sXQcr9Fv0lJK5op8ZHCeQBp7GSstYVm2IijOAWdyQTe83sY
 aC9Iqw2zsZbpKgS0bHAQL+7j3L+cT/5TXo1r8Kz4QfH1M/BT9DtLT0c5XvOUWj/qg9ko
 8zFfRqbL/MSWQJyTfuCY+850CrmXqq/GRt14S1oQaiUe1TDPl/IqVxCuFtdcn/PT3iLH
 91xg==
X-Gm-Message-State: AOJu0YyDVBXF6+A6hyqzKXZlVJ/+8omnpxnALqOhAYKxAIB2CDudym9j
 Onor8/fr/EKJDT4YCQMf+cUkeuLMlJzKkhfjK+1R/f+Ga1fp8hxsxfzojQ==
X-Google-Smtp-Source: AGHT+IGIvsGoM8EJNJw0RoHlZu+a6lqiZTM0BVWFhqkCkyTlz73yg/fRkQcp1vI4wpIq8ZKc3B5M77hhoQZq
X-Received: by 2002:a05:6870:9f84:b0:1e5:6286:e50e with SMTP id
 xm4-20020a0568709f8400b001e56286e50emr3251911oab.17.1696567548491; 
 Thu, 05 Oct 2023 21:45:48 -0700 (PDT)
Received: from postal.iol.unh.edu (postal.iol.unh.edu. [132.177.123.84])
 by smtp-relay.gmail.com with ESMTPS id
 tp8-20020a0568718b8800b001d6adcf4196sm243580oab.38.2023.10.05.21.45.48
 (version=TLS1_2 cipher=ECDHE-ECDSA-AES128-GCM-SHA256 bits=128/128);
 Thu, 05 Oct 2023 21:45:48 -0700 (PDT)
X-Relaying-Domain: iol.unh.edu
Date: Thu, 05 Oct 2023 21:45:48 -0700 (PDT)
Message-ID: <651f90fc.050a0220.ee914.c84eSMTPIN_ADDED_MISSING@mx.google.com>
Received: from [172.21.0.2] (unknown [172.18.0.240])
 by postal.iol.unh.edu (Postfix) with ESMTP id F1135605C351;
 Fri,  6 Oct 2023 00:45:47 -0400 (EDT)
Subject: |SUCCESS| pw132354 [PATCH] net/netvsc: add support for mtu_set
From: dpdklab@iol.unh.edu
To: Test Report <test-report@dpdk.org>
Cc: dpdk-test-reports@iol.unh.edu
Content-Type: text/plain
X-BeenThere: test-report@dpdk.org
X-Mailman-Version: 2.1.29
Precedence: list
List-Id: automatic DPDK test reports <test-report.dpdk.org>
List-Unsubscribe: <https://mails.dpdk.org/options/test-report>,
 <mailto:test-report-request@dpdk.org?subject=unsubscribe>
List-Archive: <http://mails.dpdk.org/archives/test-report/>
List-Post: <mailto:test-report@dpdk.org>
List-Help: <mailto:test-report-request@dpdk.org?subject=help>
List-Subscribe: <https://mails.dpdk.org/listinfo/test-report>,
 <mailto:test-report-request@dpdk.org?subject=subscribe>
Errors-To: test-report-bounces@dpdk.org

Test-Label: iol-unit-amd64-testing
Test-Status: SUCCESS
http://dpdk.org/patch/132354

_Testing PASS_

Submitter: Sam Andrew <samandrew@microsoft.com>
Date: Thursday, October 05 2023 23:17:28 
DPDK git baseline: Repo:dpdk
  Branch: master
  CommitID:3bcd5b3198d4a31176b1ac73fc7236a12186fffe

132354 --> testing pass

Test environment and result as below:

+---------------------+----------------+
|     Environment     | dpdk_unit_test |
+=====================+================+
| CentOS Stream 9     | PASS           |
+---------------------+----------------+
| CentOS Stream 8     | PASS           |
+---------------------+----------------+
| Fedora 38           | PASS           |
+---------------------+----------------+
| Fedora 37           | PASS           |
+---------------------+----------------+
| Windows Server 2019 | PASS           |
+---------------------+----------------+
| Debian Buster       | PASS           |
+---------------------+----------------+
| Debian Bullseye     | PASS           |
+---------------------+----------------+
| openSUSE Leap 15    | PASS           |
+---------------------+----------------+
| RHEL8               | PASS           |
+---------------------+----------------+
| Ubuntu 22.04        | PASS           |
+---------------------+----------------+
| Ubuntu 20.04        | PASS           |
+---------------------+----------------+


CentOS Stream 9
	Kernel: 4.18.0-240.10.1.el8_3.x86_64
	Compiler: gcc 11.3.1 20220421

CentOS Stream 8
	Kernel: 4.18.0-240.10.1.el8_3.x86_64
	Compiler: gcc 8.4.1 20200928

Fedora 38
	Kernel: Depends on container host
	Compiler: gcc 13.1.1

Fedora 37
	Kernel: Depends on container host system
	Compiler: gcc 12.3.1

Windows Server 2019
	Kernel: 10.0
	Compiler: clang 14.0 and gcc 8.1.0 (MinGW)

Debian Buster
	Kernel: 5.4.0-122-generic
	Compiler: gcc 8.3.0-6

Debian Bullseye
	Kernel: 5.4.0-122-generic
	Compiler: gcc 10.2.1-6

openSUSE Leap 15
	Kernel: 4.18.0-240.10.1.el8_3.x86_64
	Compiler: gcc 7.5.0

RHEL8
	Kernel: 4.18.0-240.10.1.el8_3.x86_64
	Compiler: gcc 8.3.1 20191121 (Red Hat 8.3.1-5)

Ubuntu 22.04
	Kernel: 4.18.0-240.10.1.el8_3.x86_64
	Compiler: gcc 11.3.0

Ubuntu 20.04
	Kernel: 5.4.0-153-generic
	Compiler: gcc 9.4.0-1ubuntu1~20.04.1

To view detailed results, visit:
https://lab.dpdk.org/results/dashboard/patchsets/27838/

UNH-IOL DPDK Community Lab

To manage your email subscriptions, visit: 
https://lab.dpdk.org/results/dashboard/preferences/subscriptions/