From mboxrd@z Thu Jan  1 00:00:00 1970
Return-Path: <test-report-bounces@dpdk.org>
Received: from mails.dpdk.org (mails.dpdk.org [217.70.189.124])
	by inbox.dpdk.org (Postfix) with ESMTP id 1AD1942359
	for <public@inbox.dpdk.org>; Wed, 11 Oct 2023 04:33:22 +0200 (CEST)
Received: from mails.dpdk.org (localhost [127.0.0.1])
	by mails.dpdk.org (Postfix) with ESMTP id 165DC400EF;
	Wed, 11 Oct 2023 04:33:22 +0200 (CEST)
Received: from mail-qv1-f99.google.com (mail-qv1-f99.google.com
 [209.85.219.99]) by mails.dpdk.org (Postfix) with ESMTP id 71212400EF
 for <test-report@dpdk.org>; Wed, 11 Oct 2023 04:33:21 +0200 (CEST)
Received: by mail-qv1-f99.google.com with SMTP id
 6a1803df08f44-66cf09873e8so4398196d6.1
 for <test-report@dpdk.org>; Tue, 10 Oct 2023 19:33:21 -0700 (PDT)
DKIM-Signature: v=1; a=rsa-sha256; c=relaxed/relaxed;
 d=iol.unh.edu; s=unh-iol; t=1696991601; x=1697596401; darn=dpdk.org;
 h=cc:to:from:subject:message-id:date:from:to:cc:subject:date
 :message-id:reply-to;
 bh=RCIc0BWakHZNSKqg7zkG2ptzUP9I1rbDUtrdU7Ez8j4=;
 b=OKJRtck9+qoMuraRSTQ/b4ETrHzK1rRGQWBkDBDonRgcyD1nEYshrNJINFM+2BEHGB
 t9r9HiTrD2fYXsZfH+daYh9+sGxIhmOMbs7/gp+PVkWc4z4A3mVJItNU1nhCmIJutqKC
 W3MShmWy3olLwXvEz4SbSNXCQCTC4eUgK8CHM=
X-Google-DKIM-Signature: v=1; a=rsa-sha256; c=relaxed/relaxed;
 d=1e100.net; s=20230601; t=1696991601; x=1697596401;
 h=cc:to:from:subject:message-id:date:x-gm-message-state:from:to:cc
 :subject:date:message-id:reply-to;
 bh=RCIc0BWakHZNSKqg7zkG2ptzUP9I1rbDUtrdU7Ez8j4=;
 b=OK1KM05zZ2rHCOgxYFGjEsjuMrcnYFwSCHUKEiqMZY+yqIzaFk2hVEHPq3XxfM84As
 M9YcveewfmJIQpXM1pelWzLkxoQgHfXd1JyCTtfWP1Rr0gf4yng1Qh/le5M/P0oij5sF
 2sRHXzi4WgVQCLDvwV5CbPrq8aiK2K6K89/t26zxr4B/A3F76QtOx2aHenZbyWyCxe9J
 wGsezRq6EToWEM2ELK+ah1U3hItHIJZYxofNj4tZ3kw42maH0CQu0l3ElCJoTHgWiKH0
 kgwPd0r3ZseSL/9krTgr/ewfD+wjYwbBL649sQQR38cK5HQKIK6iR3HKcElIfM9/GOLu
 zz4w==
X-Gm-Message-State: AOJu0YzJSPEMJ6RnIe1stMFrugEx/QVOH4zXCqSLmDBqFnFQy7zFCl9q
 Hqma+3XsSIpKfe7cvcjlyDqQ5sNv0lGnSfIybJOpRoPGNxywtAI9EboDRQ==
X-Google-Smtp-Source: AGHT+IFp8AhswGzqIFs8TBSGvQFdi0K9qlgg6EDtgf6BPwxwfnEMBsIdXGTe6shb1gZQjGRBidPrPVWUV6PK
X-Received: by 2002:a05:6214:540d:b0:66c:f988:20da with SMTP id
 ql13-20020a056214540d00b0066cf98820damr3666701qvb.28.1696991600880; 
 Tue, 10 Oct 2023 19:33:20 -0700 (PDT)
Received: from postal.iol.unh.edu (postal.iol.unh.edu. [132.177.123.84])
 by smtp-relay.gmail.com with ESMTPS id
 t10-20020a0ca68a000000b00656373f9c3asm773073qva.65.2023.10.10.19.33.20
 (version=TLS1_2 cipher=ECDHE-ECDSA-AES128-GCM-SHA256 bits=128/128);
 Tue, 10 Oct 2023 19:33:20 -0700 (PDT)
X-Relaying-Domain: iol.unh.edu
Date: Tue, 10 Oct 2023 19:33:20 -0700 (PDT)
Message-ID: <65260970.0c0a0220.1c3b1.973dSMTPIN_ADDED_MISSING@mx.google.com>
Received: from [172.21.0.2] (unknown [172.18.0.240])
 by postal.iol.unh.edu (Postfix) with ESMTP id 9344A6052514;
 Tue, 10 Oct 2023 22:33:20 -0400 (EDT)
Subject: |SUCCESS| pw132462 [PATCH] [v2] ethdev: add calculate hash function
From: dpdklab@iol.unh.edu
To: Test Report <test-report@dpdk.org>
Cc: dpdk-test-reports@iol.unh.edu
Content-Type: text/plain
X-BeenThere: test-report@dpdk.org
X-Mailman-Version: 2.1.29
Precedence: list
List-Id: automatic DPDK test reports <test-report.dpdk.org>
List-Unsubscribe: <https://mails.dpdk.org/options/test-report>,
 <mailto:test-report-request@dpdk.org?subject=unsubscribe>
List-Archive: <http://mails.dpdk.org/archives/test-report/>
List-Post: <mailto:test-report@dpdk.org>
List-Help: <mailto:test-report-request@dpdk.org?subject=help>
List-Subscribe: <https://mails.dpdk.org/listinfo/test-report>,
 <mailto:test-report-request@dpdk.org?subject=subscribe>
Errors-To: test-report-bounces@dpdk.org

Test-Label: iol-compile-arm64-testing
Test-Status: SUCCESS
http://dpdk.org/patch/132462

_Testing PASS_

Submitter: Ori Kam <orika@nvidia.com>
Date: Tuesday, October 10 2023 14:24:01 
DPDK git baseline: Repo:dpdk
  Branch: master
  CommitID:4dd146e597d81d900140a904e0b3b9feb1b0be6c

132462 --> testing pass

Test environment and result as below:

+----------------------------------------+--------------------+
|              Environment               | dpdk_meson_compile |
+========================================+====================+
| Ubuntu 20.04 ARM SVE                   | PASS               |
+----------------------------------------+--------------------+
| Ubuntu 20.04 aarch32 GCC Cross Compile | PASS               |
+----------------------------------------+--------------------+
| Ubuntu 20.04 ARM Clang Cross Compile   | PASS               |
+----------------------------------------+--------------------+
| Ubuntu 20.04 ARM GCC Cross Compile     | PASS               |
+----------------------------------------+--------------------+


Ubuntu 20.04 ARM SVE
	Kernel: 5.4.0-80-generic
	Compiler: gcc 10.3.0 (Ubuntu 10.3.0-1ubuntu1~20.04)

Ubuntu 20.04 aarch32 GCC Cross Compile
	Kernel: 5.4.0-72-generic
	Compiler: gcc 9.3.0

Ubuntu 20.04 ARM Clang Cross Compile
	Kernel: 5.4.0-72-generic
	Compiler: clang version 10.0.0-4ubuntu1

Ubuntu 20.04 ARM GCC Cross Compile
	Kernel: 5.4.0-72-generic
	Compiler: aarch64-linux-gnu-gcc (Ubuntu 9.3.0-17ubuntu1~20.04) 9.3.0

To view detailed results, visit:
https://lab.dpdk.org/results/dashboard/patchsets/27881/

UNH-IOL DPDK Community Lab

To manage your email subscriptions, visit: 
https://lab.dpdk.org/results/dashboard/preferences/subscriptions/