From mboxrd@z Thu Jan  1 00:00:00 1970
Return-Path: <test-report-bounces@dpdk.org>
Received: from mails.dpdk.org (mails.dpdk.org [217.70.189.124])
	by inbox.dpdk.org (Postfix) with ESMTP id 4DF1742359
	for <public@inbox.dpdk.org>; Wed, 11 Oct 2023 04:34:46 +0200 (CEST)
Received: from mails.dpdk.org (localhost [127.0.0.1])
	by mails.dpdk.org (Postfix) with ESMTP id 484FD400EF;
	Wed, 11 Oct 2023 04:34:46 +0200 (CEST)
Received: from mail-ua1-f98.google.com (mail-ua1-f98.google.com
 [209.85.222.98]) by mails.dpdk.org (Postfix) with ESMTP id DB3A8400EF
 for <test-report@dpdk.org>; Wed, 11 Oct 2023 04:34:44 +0200 (CEST)
Received: by mail-ua1-f98.google.com with SMTP id
 a1e0cc1a2514c-7b5fafed01aso640856241.0
 for <test-report@dpdk.org>; Tue, 10 Oct 2023 19:34:44 -0700 (PDT)
DKIM-Signature: v=1; a=rsa-sha256; c=relaxed/relaxed;
 d=iol.unh.edu; s=unh-iol; t=1696991684; x=1697596484; darn=dpdk.org;
 h=cc:to:from:subject:message-id:date:from:to:cc:subject:date
 :message-id:reply-to;
 bh=sdlTITtbkWFsWF6B3EXdg6O2tqMKFgZCP/ttkgjOYrI=;
 b=DmJIURYFdN+QeBoUfZdELRdxNKBD/hpRjxlNAoBO80JM6U9Xpa0HEvuwqfR/N1MuWr
 kpMfesS8A2s7fl2XwKCQwrXGzXFTY8OqIf+wOjeRE2WG46xXLTklewcbfuO2yeeQFTlx
 B7nyRZXruBw1+xmlxnaUIaRYxP2JFkyjknH9I=
X-Google-DKIM-Signature: v=1; a=rsa-sha256; c=relaxed/relaxed;
 d=1e100.net; s=20230601; t=1696991684; x=1697596484;
 h=cc:to:from:subject:message-id:date:x-gm-message-state:from:to:cc
 :subject:date:message-id:reply-to;
 bh=sdlTITtbkWFsWF6B3EXdg6O2tqMKFgZCP/ttkgjOYrI=;
 b=iwN3zc9p7RupsQwUYKTCBhtkiovD+l7SLUiOitZfOmd/Kdx982pWGRS0moTqVtvK51
 98lqJXg4tZLbN1l8qoAD9CQJczXoG6MiXazD3mRoUFkfebUgNmK4VWyu21xr1E2WHPd3
 rwh8EX5qomw1Nyd0icgKy1U98+0rcB4UrbdVI02X2cIfaZ8V5pxxVS6vE9z24p7Og1pT
 QqWR2VogNPMj9vzqek63AhvuU0rkBnVeH7gcEWZWZ+o5JSp5sTuWHJ+HOcYNIyrb9nXg
 uqZDU/Vi+C7mUzcOa6rkxFO2zGhK9lGv091XHxidIS0OHHjYoQu7Jmoo+MTlY9jvaM2X
 7+Kw==
X-Gm-Message-State: AOJu0Ywpb3zgMhvaoAV9xptNz9FIHZjUaUdMVjXY/kpN2USOTPZf8jWs
 lxfyMr5qdNj8MF+pAHHkFBloMYRCx2HI7k0NaCL6Hs4bsZF2jsNEkih7PAbEqL6k+99QeEmLNA=
 =
X-Google-Smtp-Source: AGHT+IFpj6lNlMz6DM/nkm9fCuUx0R0lfLu/mLzdb5NoqmZ83NSDaH6XS64TFKNeU5H/RbeOcIN4riWAxK8m
X-Received: by 2002:a67:f7cf:0:b0:452:c3a4:1f99 with SMTP id
 a15-20020a67f7cf000000b00452c3a41f99mr17450822vsp.4.1696991684148; 
 Tue, 10 Oct 2023 19:34:44 -0700 (PDT)
Received: from postal.iol.unh.edu (postal.iol.unh.edu.
 [2606:4100:3880:1234::84]) by smtp-relay.gmail.com with ESMTPS id
 f19-20020a0ccc93000000b0065d040cc4c3sm541369qvl.21.2023.10.10.19.34.44
 (version=TLS1_2 cipher=ECDHE-ECDSA-AES128-GCM-SHA256 bits=128/128);
 Tue, 10 Oct 2023 19:34:44 -0700 (PDT)
X-Relaying-Domain: iol.unh.edu
Date: Tue, 10 Oct 2023 19:34:44 -0700 (PDT)
Message-ID: <652609c4.0c0a0220.45c00.93f6SMTPIN_ADDED_MISSING@mx.google.com>
Received: from [172.21.0.2] (unknown [172.18.0.240])
 by postal.iol.unh.edu (Postfix) with ESMTP id E18CA6052514;
 Tue, 10 Oct 2023 22:34:43 -0400 (EDT)
Subject: |SUCCESS| pw132462 [PATCH] [v2] ethdev: add calculate hash function
From: dpdklab@iol.unh.edu
To: Test Report <test-report@dpdk.org>
Cc: dpdk-test-reports@iol.unh.edu
Content-Type: text/plain
X-BeenThere: test-report@dpdk.org
X-Mailman-Version: 2.1.29
Precedence: list
List-Id: automatic DPDK test reports <test-report.dpdk.org>
List-Unsubscribe: <https://mails.dpdk.org/options/test-report>,
 <mailto:test-report-request@dpdk.org?subject=unsubscribe>
List-Archive: <http://mails.dpdk.org/archives/test-report/>
List-Post: <mailto:test-report@dpdk.org>
List-Help: <mailto:test-report-request@dpdk.org?subject=help>
List-Subscribe: <https://mails.dpdk.org/listinfo/test-report>,
 <mailto:test-report-request@dpdk.org?subject=subscribe>
Errors-To: test-report-bounces@dpdk.org

Test-Label: iol-compile-amd64-testing
Test-Status: SUCCESS
http://dpdk.org/patch/132462

_Testing PASS_

Submitter: Ori Kam <orika@nvidia.com>
Date: Tuesday, October 10 2023 14:24:01 
DPDK git baseline: Repo:dpdk
  Branch: master
  CommitID:4dd146e597d81d900140a904e0b3b9feb1b0be6c

132462 --> testing pass

Test environment and result as below:

+---------------------+--------------------+----------------------+
|     Environment     | dpdk_meson_compile | dpdk_mingw64_compile |
+=====================+====================+======================+
| FreeBSD 13          | PASS               | SKIPPED              |
+---------------------+--------------------+----------------------+
| Windows Server 2019 | PASS               | PASS                 |
+---------------------+--------------------+----------------------+
| CentOS Stream 8     | PASS               | SKIPPED              |
+---------------------+--------------------+----------------------+
| CentOS Stream 9     | PASS               | SKIPPED              |
+---------------------+--------------------+----------------------+
| Debian Buster       | PASS               | SKIPPED              |
+---------------------+--------------------+----------------------+
| Debian Bullseye     | PASS               | SKIPPED              |
+---------------------+--------------------+----------------------+
| Fedora 37           | PASS               | SKIPPED              |
+---------------------+--------------------+----------------------+
| Fedora 38           | PASS               | SKIPPED              |
+---------------------+--------------------+----------------------+
| RHEL8               | PASS               | SKIPPED              |
+---------------------+--------------------+----------------------+
| Ubuntu 22.04        | PASS               | SKIPPED              |
+---------------------+--------------------+----------------------+
| Ubuntu 20.04        | PASS               | SKIPPED              |
+---------------------+--------------------+----------------------+
| openSUSE Leap 15    | PASS               | SKIPPED              |
+---------------------+--------------------+----------------------+
| Alpine              | PASS               | SKIPPED              |
+---------------------+--------------------+----------------------+


FreeBSD 13
	Kernel: 13.0
	Compiler: clang 11.0.1

Windows Server 2019
	Kernel: 10.0
	Compiler: clang 14.0 and gcc 8.1.0 (MinGW)

CentOS Stream 8
	Kernel: 4.18.0-240.10.1.el8_3.x86_64
	Compiler: gcc 8.4.1 20200928

CentOS Stream 9
	Kernel: 4.18.0-240.10.1.el8_3.x86_64
	Compiler: gcc 11.3.1 20220421

Debian Buster
	Kernel: 5.4.0-122-generic
	Compiler: gcc 8.3.0-6

Debian Bullseye
	Kernel: 5.4.0-122-generic
	Compiler: gcc 10.2.1-6

Fedora 37
	Kernel: Depends on container host system
	Compiler: gcc 12.3.1

Fedora 38
	Kernel: Depends on container host
	Compiler: gcc 13.1.1

RHEL8
	Kernel: 4.18.0-240.10.1.el8_3.x86_64
	Compiler: gcc 8.3.1 20191121 (Red Hat 8.3.1-5)

Ubuntu 22.04
	Kernel: 4.18.0-240.10.1.el8_3.x86_64
	Compiler: gcc 11.3.0

Ubuntu 20.04
	Kernel: 5.4.0-153-generic
	Compiler: gcc 9.4.0-1ubuntu1~20.04.1

openSUSE Leap 15
	Kernel: 4.18.0-240.10.1.el8_3.x86_64
	Compiler: gcc 7.5.0

Alpine
	Kernel: 5.4.0-73-generic
	Compiler: gcc (Alpine 10.3.1_git20210424) 10.3.1 20210424

To view detailed results, visit:
https://lab.dpdk.org/results/dashboard/patchsets/27881/

UNH-IOL DPDK Community Lab

To manage your email subscriptions, visit: 
https://lab.dpdk.org/results/dashboard/preferences/subscriptions/