From mboxrd@z Thu Jan  1 00:00:00 1970
Return-Path: <test-report-bounces@dpdk.org>
Received: from mails.dpdk.org (mails.dpdk.org [217.70.189.124])
	by inbox.dpdk.org (Postfix) with ESMTP id 9FEE342359
	for <public@inbox.dpdk.org>; Wed, 11 Oct 2023 04:56:32 +0200 (CEST)
Received: from mails.dpdk.org (localhost [127.0.0.1])
	by mails.dpdk.org (Postfix) with ESMTP id 9ACB3400EF;
	Wed, 11 Oct 2023 04:56:32 +0200 (CEST)
Received: from mail-oo1-f97.google.com (mail-oo1-f97.google.com
 [209.85.161.97]) by mails.dpdk.org (Postfix) with ESMTP id 7DEDE400EF
 for <test-report@dpdk.org>; Wed, 11 Oct 2023 04:56:31 +0200 (CEST)
Received: by mail-oo1-f97.google.com with SMTP id
 006d021491bc7-57b811a6ce8so3575763eaf.3
 for <test-report@dpdk.org>; Tue, 10 Oct 2023 19:56:31 -0700 (PDT)
DKIM-Signature: v=1; a=rsa-sha256; c=relaxed/relaxed;
 d=iol.unh.edu; s=unh-iol; t=1696992991; x=1697597791; darn=dpdk.org;
 h=cc:to:from:subject:message-id:date:from:to:cc:subject:date
 :message-id:reply-to;
 bh=gFmSu0kyfLfciu/SfUKcleNOf47wAqFkAJEBi7iPoAY=;
 b=UdCq2crFMan39VM0cMGfnQbZ+a0u0qfp6XW51Zq+CUHYaEdmFDv1rGqZGg5b2qep9q
 87TskNkzAjwyRGfNFbH4aFgucACL61LFa+Zd3FwQ8DkCcy7fuMO/+P5uz2+ctbFwQ9ig
 phj8/ZEomgYAFD3GRsHc3ZnM5RzVeoe/J4cbU=
X-Google-DKIM-Signature: v=1; a=rsa-sha256; c=relaxed/relaxed;
 d=1e100.net; s=20230601; t=1696992991; x=1697597791;
 h=cc:to:from:subject:message-id:date:x-gm-message-state:from:to:cc
 :subject:date:message-id:reply-to;
 bh=gFmSu0kyfLfciu/SfUKcleNOf47wAqFkAJEBi7iPoAY=;
 b=Po4v6jQSYXKgx06B92ZWPtmKcZQMqj1htWLKwtefH3VF2BMsv+TzrEkBdKd53xanXL
 8X4vAzc2OjVAm8REJSSRlFylmwUrwIUoCiuiJKfFdEkOZ+IaXJ9DCDEEzuNVTw00/7Vr
 NY8he8Q9EISb9QQnzyJGqgqX1XYOF71A+0S3kp0ANJ1fDdJJUhdC0R4P6MXHLblGIj7t
 pBdF2aWCRPHhZq5QmDUEnVI+WA0p9aYv7qx8VZ0PkgucUBwqoXDVX5lnZ7d3ZKz6zh+8
 MSweq2056rfOI+7vUZVNI10Sko8B/PCV6qoc63a6lwV0zDybkxoDuF6KZhlVCngwk1hP
 rxpw==
X-Gm-Message-State: AOJu0Ywvd+aaw3IK7IUjt+xf2IgY0ktvwrmi7/gkEfvDbuA2FlzCMx0P
 hJvzMJ7x8dfbmtNYLzgm2R5SP+nLCboRkWuOycvtu1ZOymeomwjAIKmMpg==
X-Google-Smtp-Source: AGHT+IEyHxr9krEeDHnZjtZ70YOa+xAS1BidoPaXkTQ4o09aA15s0Hx/2JC+NJecBLZ2zeBL8ANgfrJmsL4n
X-Received: by 2002:a4a:9b11:0:b0:573:bf68:8dbc with SMTP id
 a17-20020a4a9b11000000b00573bf688dbcmr18407369ook.7.1696992990857; 
 Tue, 10 Oct 2023 19:56:30 -0700 (PDT)
Received: from postal.iol.unh.edu (postal.iol.unh.edu. [132.177.123.84])
 by smtp-relay.gmail.com with ESMTPS id
 a36-20020a4a98a7000000b0057df00cc712sm924683ooj.14.2023.10.10.19.56.30
 (version=TLS1_2 cipher=ECDHE-ECDSA-AES128-GCM-SHA256 bits=128/128);
 Tue, 10 Oct 2023 19:56:30 -0700 (PDT)
X-Relaying-Domain: iol.unh.edu
Date: Tue, 10 Oct 2023 19:56:30 -0700 (PDT)
Message-ID: <65260ede.4a0a0220.19b41.21e4SMTPIN_ADDED_MISSING@mx.google.com>
Received: from [172.21.0.2] (unknown [172.18.0.240])
 by postal.iol.unh.edu (Postfix) with ESMTP id 5D60F6052514;
 Tue, 10 Oct 2023 22:56:30 -0400 (EDT)
Subject: |SUCCESS| pw132462 [PATCH] [v2] ethdev: add calculate hash function
From: dpdklab@iol.unh.edu
To: Test Report <test-report@dpdk.org>
Cc: dpdk-test-reports@iol.unh.edu
Content-Type: text/plain
X-BeenThere: test-report@dpdk.org
X-Mailman-Version: 2.1.29
Precedence: list
List-Id: automatic DPDK test reports <test-report.dpdk.org>
List-Unsubscribe: <https://mails.dpdk.org/options/test-report>,
 <mailto:test-report-request@dpdk.org?subject=unsubscribe>
List-Archive: <http://mails.dpdk.org/archives/test-report/>
List-Post: <mailto:test-report@dpdk.org>
List-Help: <mailto:test-report-request@dpdk.org?subject=help>
List-Subscribe: <https://mails.dpdk.org/listinfo/test-report>,
 <mailto:test-report-request@dpdk.org?subject=subscribe>
Errors-To: test-report-bounces@dpdk.org

Test-Label: iol-unit-amd64-testing
Test-Status: SUCCESS
http://dpdk.org/patch/132462

_Testing PASS_

Submitter: Ori Kam <orika@nvidia.com>
Date: Tuesday, October 10 2023 14:24:01 
DPDK git baseline: Repo:dpdk
  Branch: master
  CommitID:4dd146e597d81d900140a904e0b3b9feb1b0be6c

132462 --> testing pass

Test environment and result as below:

+------------------+----------------+
|   Environment    | dpdk_unit_test |
+==================+================+
| CentOS Stream 8  | PASS           |
+------------------+----------------+
| CentOS Stream 9  | PASS           |
+------------------+----------------+
| Debian Buster    | PASS           |
+------------------+----------------+
| Fedora 37        | PASS           |
+------------------+----------------+
| Debian Bullseye  | PASS           |
+------------------+----------------+
| Fedora 38        | PASS           |
+------------------+----------------+
| openSUSE Leap 15 | PASS           |
+------------------+----------------+
| RHEL8            | PASS           |
+------------------+----------------+
| Ubuntu 20.04     | PASS           |
+------------------+----------------+
| Ubuntu 22.04     | PASS           |
+------------------+----------------+


CentOS Stream 8
	Kernel: 4.18.0-240.10.1.el8_3.x86_64
	Compiler: gcc 8.4.1 20200928

CentOS Stream 9
	Kernel: 4.18.0-240.10.1.el8_3.x86_64
	Compiler: gcc 11.3.1 20220421

Debian Buster
	Kernel: 5.4.0-122-generic
	Compiler: gcc 8.3.0-6

Fedora 37
	Kernel: Depends on container host system
	Compiler: gcc 12.3.1

Debian Bullseye
	Kernel: 5.4.0-122-generic
	Compiler: gcc 10.2.1-6

Fedora 38
	Kernel: Depends on container host
	Compiler: gcc 13.1.1

openSUSE Leap 15
	Kernel: 4.18.0-240.10.1.el8_3.x86_64
	Compiler: gcc 7.5.0

RHEL8
	Kernel: 4.18.0-240.10.1.el8_3.x86_64
	Compiler: gcc 8.3.1 20191121 (Red Hat 8.3.1-5)

Ubuntu 20.04
	Kernel: 5.4.0-153-generic
	Compiler: gcc 9.4.0-1ubuntu1~20.04.1

Ubuntu 22.04
	Kernel: 4.18.0-240.10.1.el8_3.x86_64
	Compiler: gcc 11.3.0

To view detailed results, visit:
https://lab.dpdk.org/results/dashboard/patchsets/27881/

UNH-IOL DPDK Community Lab

To manage your email subscriptions, visit: 
https://lab.dpdk.org/results/dashboard/preferences/subscriptions/