From mboxrd@z Thu Jan  1 00:00:00 1970
Return-Path: <test-report-bounces@dpdk.org>
Received: from mails.dpdk.org (mails.dpdk.org [217.70.189.124])
	by inbox.dpdk.org (Postfix) with ESMTP id 4EA4043182
	for <public@inbox.dpdk.org>; Mon, 16 Oct 2023 22:34:40 +0200 (CEST)
Received: from mails.dpdk.org (localhost [127.0.0.1])
	by mails.dpdk.org (Postfix) with ESMTP id 49762400D6;
	Mon, 16 Oct 2023 22:34:40 +0200 (CEST)
Received: from mail-io1-f99.google.com (mail-io1-f99.google.com
 [209.85.166.99]) by mails.dpdk.org (Postfix) with ESMTP id 11DEA400D6
 for <test-report@dpdk.org>; Mon, 16 Oct 2023 22:34:39 +0200 (CEST)
Received: by mail-io1-f99.google.com with SMTP id
 ca18e2360f4ac-79fa2dbd793so215999839f.2
 for <test-report@dpdk.org>; Mon, 16 Oct 2023 13:34:39 -0700 (PDT)
DKIM-Signature: v=1; a=rsa-sha256; c=relaxed/relaxed;
 d=iol.unh.edu; s=unh-iol; t=1697488478; x=1698093278; darn=dpdk.org;
 h=cc:to:from:subject:message-id:date:from:to:cc:subject:date
 :message-id:reply-to;
 bh=DA4R8deiczvvNF0JCRCxe3N8fS67zw01jJ0Dn/cJss4=;
 b=UTMdHNi48mqqqTG38DxcIIlxh11wmw6oNviMdLXGytjlsECaoSRbgapnJcP0Sw3nZf
 LKMokNAZGbG3GGqrkXrfc0BGFO/5CWgjbBgqr9Petb+kEv+nTCzE9Yjba4+wZr6iPQCT
 H7IsppO3gW6FRCplOorPETrHMiUvyY6By1UPs=
X-Google-DKIM-Signature: v=1; a=rsa-sha256; c=relaxed/relaxed;
 d=1e100.net; s=20230601; t=1697488478; x=1698093278;
 h=cc:to:from:subject:message-id:date:x-gm-message-state:from:to:cc
 :subject:date:message-id:reply-to;
 bh=DA4R8deiczvvNF0JCRCxe3N8fS67zw01jJ0Dn/cJss4=;
 b=CFd+enB4DQlBqBv4aKzTkGNzgo2gzzKsVoR4tlqc9Zsj+z+88FNtALajRdN48S9cTs
 flvksaATTQgv3Ze2tDnrZWgW0q1WBo+LqKyXydEcSymEXsFGoEyDvGP/SI1yzjNM9ES2
 RTJ+r/FqiKh9FFeXhBjHPlY7HNTVrV6shoMtFQiV71crMl3s85hg5WNi65uc1SJvZoYX
 XkIJfnTBFb8lOrCyySN7reBmyfnKUt2G9rJ4QNxiiVpvIxp2Ryh6LSDOUr6WM0imcGSK
 EXJo4CNwDXeNs0bZ8HP6pwai6A8OIiN5mMct5qQaZ2Hc+lGAfx16Gm6L1kzRHPLmBRAd
 VBkA==
X-Gm-Message-State: AOJu0Yx/kzdLiEvn14iEyFQm3aFN3GC45p1Txpm7WvPU/N5Zmtn3ve6u
 AvdoRYRRwkBubH2iHSDaiZDz7e6U1O4PsRwtBNEkd3jefWBJXQISISlGSl7Fq6pl8GO/FrRl7g=
 =
X-Google-Smtp-Source: AGHT+IEYly17yLP+3slWDHeKFqwhNnq7filQQ4PNjC+BCY5txt2gVIblzaSYvaKgYHX1DCqIvX/TzRgFz3C7
X-Received: by 2002:a92:c88b:0:b0:357:5e06:a49b with SMTP id
 w11-20020a92c88b000000b003575e06a49bmr587328ilo.2.1697488478490; 
 Mon, 16 Oct 2023 13:34:38 -0700 (PDT)
Received: from postal.iol.unh.edu (postal.iol.unh.edu.
 [2606:4100:3880:1234::84]) by smtp-relay.gmail.com with ESMTPS id
 s20-20020a056638219400b0042b12b1b40asm10837jaj.48.2023.10.16.13.34.38
 (version=TLS1_2 cipher=ECDHE-ECDSA-AES128-GCM-SHA256 bits=128/128);
 Mon, 16 Oct 2023 13:34:38 -0700 (PDT)
X-Relaying-Domain: iol.unh.edu
Date: Mon, 16 Oct 2023 13:34:38 -0700 (PDT)
Message-ID: <652d9e5e.050a0220.8cebb.06e7SMTPIN_ADDED_MISSING@mx.google.com>
Received: from [172.21.0.2] (unknown [172.18.0.240])
 by postal.iol.unh.edu (Postfix) with ESMTP id 0BFFA602A042;
 Mon, 16 Oct 2023 16:34:37 -0400 (EDT)
Subject: |SUCCESS| pw132635 [PATCH] event/cnxk: update fc check to use SQEs
From: dpdklab@iol.unh.edu
To: Test Report <test-report@dpdk.org>
Cc: dpdk-test-reports@iol.unh.edu
Content-Type: text/plain
X-BeenThere: test-report@dpdk.org
X-Mailman-Version: 2.1.29
Precedence: list
List-Id: automatic DPDK test reports <test-report.dpdk.org>
List-Unsubscribe: <https://mails.dpdk.org/options/test-report>,
 <mailto:test-report-request@dpdk.org?subject=unsubscribe>
List-Archive: <http://mails.dpdk.org/archives/test-report/>
List-Post: <mailto:test-report@dpdk.org>
List-Help: <mailto:test-report-request@dpdk.org?subject=help>
List-Subscribe: <https://mails.dpdk.org/listinfo/test-report>,
 <mailto:test-report-request@dpdk.org?subject=subscribe>
Errors-To: test-report-bounces@dpdk.org

Test-Label: iol-compile-amd64-testing
Test-Status: SUCCESS
http://dpdk.org/patch/132635

_Testing PASS_

Submitter: Pavan Nikhilesh Bhagavatula <pbhagavatula@marvell.com>
Date: Monday, October 16 2023 15:10:55 
DPDK git baseline: Repo:dpdk
  Branch: master
  CommitID:441e777b85f1ea1eb6a2a970ff5d5c8e027f520c

132635 --> testing pass

Test environment and result as below:

+------------------+--------------------+
|   Environment    | dpdk_meson_compile |
+==================+====================+
| FreeBSD 13       | PASS               |
+------------------+--------------------+
| CentOS Stream 9  | PASS               |
+------------------+--------------------+
| CentOS Stream 8  | PASS               |
+------------------+--------------------+
| Debian Bullseye  | PASS               |
+------------------+--------------------+
| Debian Buster    | PASS               |
+------------------+--------------------+
| Fedora 37        | PASS               |
+------------------+--------------------+
| RHEL8            | PASS               |
+------------------+--------------------+
| Ubuntu 20.04     | PASS               |
+------------------+--------------------+
| Ubuntu 22.04     | PASS               |
+------------------+--------------------+
| Fedora 38        | PASS               |
+------------------+--------------------+
| openSUSE Leap 15 | PASS               |
+------------------+--------------------+
| Alpine           | PASS               |
+------------------+--------------------+


FreeBSD 13
	Kernel: 13.0
	Compiler: clang 11.0.1

CentOS Stream 9
	Kernel: 4.18.0-240.10.1.el8_3.x86_64
	Compiler: gcc 11.3.1 20220421

CentOS Stream 8
	Kernel: 4.18.0-240.10.1.el8_3.x86_64
	Compiler: gcc 8.4.1 20200928

Debian Bullseye
	Kernel: 5.4.0-122-generic
	Compiler: gcc 10.2.1-6

Debian Buster
	Kernel: 5.4.0-122-generic
	Compiler: gcc 8.3.0-6

Fedora 37
	Kernel: Depends on container host system
	Compiler: gcc 12.3.1

RHEL8
	Kernel: 4.18.0-240.10.1.el8_3.x86_64
	Compiler: gcc 8.3.1 20191121 (Red Hat 8.3.1-5)

Ubuntu 20.04
	Kernel: 5.4.0-153-generic
	Compiler: gcc 9.4.0-1ubuntu1~20.04.1

Ubuntu 22.04
	Kernel: 4.18.0-240.10.1.el8_3.x86_64
	Compiler: gcc 11.3.0

Fedora 38
	Kernel: Depends on container host
	Compiler: gcc 13.1.1

openSUSE Leap 15
	Kernel: 4.18.0-240.10.1.el8_3.x86_64
	Compiler: gcc 7.5.0

Alpine
	Kernel: 5.4.0-73-generic
	Compiler: gcc (Alpine 10.3.1_git20210424) 10.3.1 20210424

To view detailed results, visit:
https://lab.dpdk.org/results/dashboard/patchsets/27943/

UNH-IOL DPDK Community Lab

To manage your email subscriptions, visit: 
https://lab.dpdk.org/results/dashboard/preferences/subscriptions/