From mboxrd@z Thu Jan  1 00:00:00 1970
Return-Path: <test-report-bounces@dpdk.org>
Received: from mails.dpdk.org (mails.dpdk.org [217.70.189.124])
	by inbox.dpdk.org (Postfix) with ESMTP id 33C8F43182
	for <public@inbox.dpdk.org>; Mon, 16 Oct 2023 22:37:28 +0200 (CEST)
Received: from mails.dpdk.org (localhost [127.0.0.1])
	by mails.dpdk.org (Postfix) with ESMTP id 2F020400D6;
	Mon, 16 Oct 2023 22:37:28 +0200 (CEST)
Received: from mail-ot1-f99.google.com (mail-ot1-f99.google.com
 [209.85.210.99]) by mails.dpdk.org (Postfix) with ESMTP id 40F85402E5
 for <test-report@dpdk.org>; Mon, 16 Oct 2023 22:37:27 +0200 (CEST)
Received: by mail-ot1-f99.google.com with SMTP id
 46e09a7af769-6c6368a1a97so2991592a34.1
 for <test-report@dpdk.org>; Mon, 16 Oct 2023 13:37:27 -0700 (PDT)
DKIM-Signature: v=1; a=rsa-sha256; c=relaxed/relaxed;
 d=iol.unh.edu; s=unh-iol; t=1697488646; x=1698093446; darn=dpdk.org;
 h=cc:to:from:subject:message-id:date:from:to:cc:subject:date
 :message-id:reply-to;
 bh=DA4R8deiczvvNF0JCRCxe3N8fS67zw01jJ0Dn/cJss4=;
 b=bPamXvNtJoimSv+Y+NsD8XZu6W5iV57EyNv2pmlY8XX5uY9Hdf+9EQCTk+8r1NMA/F
 u9AYqpwCjDMissCnmNRSFU0jiXmBCRqJ/tyqILqCCzZqJDcoipchQc6dDUU3m/E4b+ww
 aXNq42GmkmZxS2VobwRbC5X74PUS2Z9ry7f5g=
X-Google-DKIM-Signature: v=1; a=rsa-sha256; c=relaxed/relaxed;
 d=1e100.net; s=20230601; t=1697488646; x=1698093446;
 h=cc:to:from:subject:message-id:date:x-gm-message-state:from:to:cc
 :subject:date:message-id:reply-to;
 bh=DA4R8deiczvvNF0JCRCxe3N8fS67zw01jJ0Dn/cJss4=;
 b=Ef/iSMCM/9Al6ySdrSZj1Ik3ksTaes8oxEXCrPvJp/Ax7EqB9bp923C+aBPXiAcB9T
 kLIDIO4ooUhmLEEM8ro2NtxanJHdr76YT6y6/exCeJeSvzTn1qF0qcSpRf0btg5gzxLZ
 D7roRfnnRzQ9qpLVleApr/yVbz6cUtvVdnvAsFSlxpF1BxTjr7N3kOSlxLsfPHjjbjJI
 IrOrcsPMlk0PEj6IQvy+f+6SoEH6/XyurS1pjw1V985Btll/xlaSDEhcv5CakTZEZgNL
 QQSEL3tQEgG2ttLqvn2zF4C32Pf3cHv2N7ba4kkskziQ129DU8Qoc7hFEle8tDn8ncIs
 nTzQ==
X-Gm-Message-State: AOJu0YyZ26rveBTR3lHtDhUG3F8cCCP6gHoEuGmduNxePwJ6cPAq2E9U
 ov4tEsTZJ4cKzdP1bj5a5x/5oALZy2Atg9vJVjSwyAJt7cYZhkohttfg9iahux4OQ6W0Pl34kw=
 =
X-Google-Smtp-Source: AGHT+IE9JIZxTGprKAI6hsCckorF9TCSxELn1CRaLG73AL5wpqMaG8mgBovL7wK5oIeoy1nZt3fSufsplrRI
X-Received: by 2002:a05:6870:c69d:b0:1e9:7912:3bd9 with SMTP id
 cv29-20020a056870c69d00b001e979123bd9mr4997092oab.9.1697488646693; 
 Mon, 16 Oct 2023 13:37:26 -0700 (PDT)
Received: from postal.iol.unh.edu (postal.iol.unh.edu.
 [2606:4100:3880:1234::84]) by smtp-relay.gmail.com with ESMTPS id
 bb36-20020a056871b22400b001d6f6c4911csm630474oac.11.2023.10.16.13.37.26
 (version=TLS1_2 cipher=ECDHE-ECDSA-AES128-GCM-SHA256 bits=128/128);
 Mon, 16 Oct 2023 13:37:26 -0700 (PDT)
X-Relaying-Domain: iol.unh.edu
Date: Mon, 16 Oct 2023 13:37:26 -0700 (PDT)
Message-ID: <652d9f06.050a0220.b3a47.e7bcSMTPIN_ADDED_MISSING@mx.google.com>
Received: from [172.21.0.2] (unknown [172.18.0.240])
 by postal.iol.unh.edu (Postfix) with ESMTP id 2F187602A042;
 Mon, 16 Oct 2023 16:37:26 -0400 (EDT)
Subject: |SUCCESS| pw132635 [PATCH] event/cnxk: update fc check to use SQEs
From: dpdklab@iol.unh.edu
To: Test Report <test-report@dpdk.org>
Cc: dpdk-test-reports@iol.unh.edu
Content-Type: text/plain
X-BeenThere: test-report@dpdk.org
X-Mailman-Version: 2.1.29
Precedence: list
List-Id: automatic DPDK test reports <test-report.dpdk.org>
List-Unsubscribe: <https://mails.dpdk.org/options/test-report>,
 <mailto:test-report-request@dpdk.org?subject=unsubscribe>
List-Archive: <http://mails.dpdk.org/archives/test-report/>
List-Post: <mailto:test-report@dpdk.org>
List-Help: <mailto:test-report-request@dpdk.org?subject=help>
List-Subscribe: <https://mails.dpdk.org/listinfo/test-report>,
 <mailto:test-report-request@dpdk.org?subject=subscribe>
Errors-To: test-report-bounces@dpdk.org

Test-Label: iol-compile-amd64-testing
Test-Status: SUCCESS
http://dpdk.org/patch/132635

_Testing PASS_

Submitter: Pavan Nikhilesh Bhagavatula <pbhagavatula@marvell.com>
Date: Monday, October 16 2023 15:10:55 
DPDK git baseline: Repo:dpdk
  Branch: master
  CommitID:441e777b85f1ea1eb6a2a970ff5d5c8e027f520c

132635 --> testing pass

Test environment and result as below:

+------------------+--------------------+
|   Environment    | dpdk_meson_compile |
+==================+====================+
| FreeBSD 13       | PASS               |
+------------------+--------------------+
| CentOS Stream 9  | PASS               |
+------------------+--------------------+
| CentOS Stream 8  | PASS               |
+------------------+--------------------+
| Debian Bullseye  | PASS               |
+------------------+--------------------+
| Debian Buster    | PASS               |
+------------------+--------------------+
| Fedora 37        | PASS               |
+------------------+--------------------+
| RHEL8            | PASS               |
+------------------+--------------------+
| Ubuntu 20.04     | PASS               |
+------------------+--------------------+
| Ubuntu 22.04     | PASS               |
+------------------+--------------------+
| Fedora 38        | PASS               |
+------------------+--------------------+
| openSUSE Leap 15 | PASS               |
+------------------+--------------------+
| Alpine           | PASS               |
+------------------+--------------------+


FreeBSD 13
	Kernel: 13.0
	Compiler: clang 11.0.1

CentOS Stream 9
	Kernel: 4.18.0-240.10.1.el8_3.x86_64
	Compiler: gcc 11.3.1 20220421

CentOS Stream 8
	Kernel: 4.18.0-240.10.1.el8_3.x86_64
	Compiler: gcc 8.4.1 20200928

Debian Bullseye
	Kernel: 5.4.0-122-generic
	Compiler: gcc 10.2.1-6

Debian Buster
	Kernel: 5.4.0-122-generic
	Compiler: gcc 8.3.0-6

Fedora 37
	Kernel: Depends on container host system
	Compiler: gcc 12.3.1

RHEL8
	Kernel: 4.18.0-240.10.1.el8_3.x86_64
	Compiler: gcc 8.3.1 20191121 (Red Hat 8.3.1-5)

Ubuntu 20.04
	Kernel: 5.4.0-153-generic
	Compiler: gcc 9.4.0-1ubuntu1~20.04.1

Ubuntu 22.04
	Kernel: 4.18.0-240.10.1.el8_3.x86_64
	Compiler: gcc 11.3.0

Fedora 38
	Kernel: Depends on container host
	Compiler: gcc 13.1.1

openSUSE Leap 15
	Kernel: 4.18.0-240.10.1.el8_3.x86_64
	Compiler: gcc 7.5.0

Alpine
	Kernel: 5.4.0-73-generic
	Compiler: gcc (Alpine 10.3.1_git20210424) 10.3.1 20210424

To view detailed results, visit:
https://lab.dpdk.org/results/dashboard/patchsets/27943/

UNH-IOL DPDK Community Lab

To manage your email subscriptions, visit: 
https://lab.dpdk.org/results/dashboard/preferences/subscriptions/