From mboxrd@z Thu Jan  1 00:00:00 1970
Return-Path: <test-report-bounces@dpdk.org>
Received: from mails.dpdk.org (mails.dpdk.org [217.70.189.124])
	by inbox.dpdk.org (Postfix) with ESMTP id DE95243182
	for <public@inbox.dpdk.org>; Mon, 16 Oct 2023 22:40:17 +0200 (CEST)
Received: from mails.dpdk.org (localhost [127.0.0.1])
	by mails.dpdk.org (Postfix) with ESMTP id D9DAF400D6;
	Mon, 16 Oct 2023 22:40:17 +0200 (CEST)
Received: from mail-qv1-f97.google.com (mail-qv1-f97.google.com
 [209.85.219.97]) by mails.dpdk.org (Postfix) with ESMTP id A5B23400D6
 for <test-report@dpdk.org>; Mon, 16 Oct 2023 22:40:16 +0200 (CEST)
Received: by mail-qv1-f97.google.com with SMTP id
 6a1803df08f44-66d093265dfso32344586d6.3
 for <test-report@dpdk.org>; Mon, 16 Oct 2023 13:40:16 -0700 (PDT)
DKIM-Signature: v=1; a=rsa-sha256; c=relaxed/relaxed;
 d=iol.unh.edu; s=unh-iol; t=1697488816; x=1698093616; darn=dpdk.org;
 h=cc:to:from:subject:message-id:date:from:to:cc:subject:date
 :message-id:reply-to;
 bh=DA4R8deiczvvNF0JCRCxe3N8fS67zw01jJ0Dn/cJss4=;
 b=MrkmVthxTRxsyB5Fv+0Va6zfO+sHSD733yuDfhFAD6teUNLKtObz/ompYhodC5IWnK
 BLYW3ujLL6X04r63/iUhQqRAHWqTyS8/H4EBlOngkbDAxbmZHZT6j9sgjZmSqXrU/AMj
 17JONQM7hSZr+hC3Zzg0PoJDeug2wgniF/PJA=
X-Google-DKIM-Signature: v=1; a=rsa-sha256; c=relaxed/relaxed;
 d=1e100.net; s=20230601; t=1697488816; x=1698093616;
 h=cc:to:from:subject:message-id:date:x-gm-message-state:from:to:cc
 :subject:date:message-id:reply-to;
 bh=DA4R8deiczvvNF0JCRCxe3N8fS67zw01jJ0Dn/cJss4=;
 b=Pk075DbkhNjYJXINiVkkseMeS4S9yhnzK46nzTwTbM74KBUBocL8xptCgMPZ8qnCtx
 hHGtMFgsPjHsiO10/61QpHx8EfHmYx8Nm56o/eBmaKenV6Y0sylm/QzGATOTF6cJX2JS
 WxZIQFvgOD2+Nsucp39exazhfrjTawU2Umyqx2XzMKAZARt34F06kzp3NubK0cI16DoV
 Y7fU3w3blWtRrQUwFKu6x5DvOyp42GVrzr8yi2XGeRFQjOoCyV2Ld6o4GjMxqU7oAzN4
 t7Bc1dCGlSt5p74oCc9rDoVFHEEDnv9lCXxeuHheFsQ4ze14eTj230sZEf7Kjn+8jvy5
 dJxA==
X-Gm-Message-State: AOJu0YxGIhUTQNM8dlo6Y/myurYLvHTolv0uSms6jMAr4kOvBCQmrWCa
 blA063IlNvQYODJltpLtYeGjNcecoDoMcU7PRnvDdKQj+DtFPUPlVWuFYw==
X-Google-Smtp-Source: AGHT+IHivF23FAEMnIZt++QuXPcXwigh26dvXDWO7dsKVzuv+fVXfq1NB+v0QOu69zCIv0eAmaJwSyXWHx8w
X-Received: by 2002:a05:6214:20ad:b0:66d:4e1:3d29 with SMTP id
 13-20020a05621420ad00b0066d04e13d29mr565289qvd.43.1697488816176; 
 Mon, 16 Oct 2023 13:40:16 -0700 (PDT)
Received: from postal.iol.unh.edu (postal.iol.unh.edu. [132.177.123.84])
 by smtp-relay.gmail.com with ESMTPS id
 c17-20020a0ce651000000b00668bb8be220sm403076qvn.9.2023.10.16.13.40.16
 (version=TLS1_2 cipher=ECDHE-ECDSA-AES128-GCM-SHA256 bits=128/128);
 Mon, 16 Oct 2023 13:40:16 -0700 (PDT)
X-Relaying-Domain: iol.unh.edu
Date: Mon, 16 Oct 2023 13:40:16 -0700 (PDT)
Message-ID: <652d9fb0.0c0a0220.f6d3d.5ac0SMTPIN_ADDED_MISSING@mx.google.com>
Received: from [172.21.0.2] (unknown [172.18.0.240])
 by postal.iol.unh.edu (Postfix) with ESMTP id D9EC0602A042;
 Mon, 16 Oct 2023 16:40:15 -0400 (EDT)
Subject: |SUCCESS| pw132635 [PATCH] event/cnxk: update fc check to use SQEs
From: dpdklab@iol.unh.edu
To: Test Report <test-report@dpdk.org>
Cc: dpdk-test-reports@iol.unh.edu
Content-Type: text/plain
X-BeenThere: test-report@dpdk.org
X-Mailman-Version: 2.1.29
Precedence: list
List-Id: automatic DPDK test reports <test-report.dpdk.org>
List-Unsubscribe: <https://mails.dpdk.org/options/test-report>,
 <mailto:test-report-request@dpdk.org?subject=unsubscribe>
List-Archive: <http://mails.dpdk.org/archives/test-report/>
List-Post: <mailto:test-report@dpdk.org>
List-Help: <mailto:test-report-request@dpdk.org?subject=help>
List-Subscribe: <https://mails.dpdk.org/listinfo/test-report>,
 <mailto:test-report-request@dpdk.org?subject=subscribe>
Errors-To: test-report-bounces@dpdk.org

Test-Label: iol-compile-amd64-testing
Test-Status: SUCCESS
http://dpdk.org/patch/132635

_Testing PASS_

Submitter: Pavan Nikhilesh Bhagavatula <pbhagavatula@marvell.com>
Date: Monday, October 16 2023 15:10:55 
DPDK git baseline: Repo:dpdk
  Branch: master
  CommitID:441e777b85f1ea1eb6a2a970ff5d5c8e027f520c

132635 --> testing pass

Test environment and result as below:

+------------------+--------------------+
|   Environment    | dpdk_meson_compile |
+==================+====================+
| FreeBSD 13       | PASS               |
+------------------+--------------------+
| CentOS Stream 9  | PASS               |
+------------------+--------------------+
| CentOS Stream 8  | PASS               |
+------------------+--------------------+
| Debian Bullseye  | PASS               |
+------------------+--------------------+
| Debian Buster    | PASS               |
+------------------+--------------------+
| Fedora 37        | PASS               |
+------------------+--------------------+
| RHEL8            | PASS               |
+------------------+--------------------+
| Ubuntu 20.04     | PASS               |
+------------------+--------------------+
| Ubuntu 22.04     | PASS               |
+------------------+--------------------+
| Fedora 38        | PASS               |
+------------------+--------------------+
| openSUSE Leap 15 | PASS               |
+------------------+--------------------+
| Alpine           | PASS               |
+------------------+--------------------+


FreeBSD 13
	Kernel: 13.0
	Compiler: clang 11.0.1

CentOS Stream 9
	Kernel: 4.18.0-240.10.1.el8_3.x86_64
	Compiler: gcc 11.3.1 20220421

CentOS Stream 8
	Kernel: 4.18.0-240.10.1.el8_3.x86_64
	Compiler: gcc 8.4.1 20200928

Debian Bullseye
	Kernel: 5.4.0-122-generic
	Compiler: gcc 10.2.1-6

Debian Buster
	Kernel: 5.4.0-122-generic
	Compiler: gcc 8.3.0-6

Fedora 37
	Kernel: Depends on container host system
	Compiler: gcc 12.3.1

RHEL8
	Kernel: 4.18.0-240.10.1.el8_3.x86_64
	Compiler: gcc 8.3.1 20191121 (Red Hat 8.3.1-5)

Ubuntu 20.04
	Kernel: 5.4.0-153-generic
	Compiler: gcc 9.4.0-1ubuntu1~20.04.1

Ubuntu 22.04
	Kernel: 4.18.0-240.10.1.el8_3.x86_64
	Compiler: gcc 11.3.0

Fedora 38
	Kernel: Depends on container host
	Compiler: gcc 13.1.1

openSUSE Leap 15
	Kernel: 4.18.0-240.10.1.el8_3.x86_64
	Compiler: gcc 7.5.0

Alpine
	Kernel: 5.4.0-73-generic
	Compiler: gcc (Alpine 10.3.1_git20210424) 10.3.1 20210424

To view detailed results, visit:
https://lab.dpdk.org/results/dashboard/patchsets/27943/

UNH-IOL DPDK Community Lab

To manage your email subscriptions, visit: 
https://lab.dpdk.org/results/dashboard/preferences/subscriptions/