From mboxrd@z Thu Jan  1 00:00:00 1970
Return-Path: <test-report-bounces@dpdk.org>
Received: from mails.dpdk.org (mails.dpdk.org [217.70.189.124])
	by inbox.dpdk.org (Postfix) with ESMTP id 1F17343182
	for <public@inbox.dpdk.org>; Mon, 16 Oct 2023 22:46:09 +0200 (CEST)
Received: from mails.dpdk.org (localhost [127.0.0.1])
	by mails.dpdk.org (Postfix) with ESMTP id 19CCB400D6;
	Mon, 16 Oct 2023 22:46:09 +0200 (CEST)
Received: from mail-pg1-f226.google.com (mail-pg1-f226.google.com
 [209.85.215.226])
 by mails.dpdk.org (Postfix) with ESMTP id 0060E400D6
 for <test-report@dpdk.org>; Mon, 16 Oct 2023 22:46:07 +0200 (CEST)
Received: by mail-pg1-f226.google.com with SMTP id
 41be03b00d2f7-564b6276941so3683160a12.3
 for <test-report@dpdk.org>; Mon, 16 Oct 2023 13:46:07 -0700 (PDT)
DKIM-Signature: v=1; a=rsa-sha256; c=relaxed/relaxed;
 d=iol.unh.edu; s=unh-iol; t=1697489167; x=1698093967; darn=dpdk.org;
 h=cc:to:from:subject:message-id:date:from:to:cc:subject:date
 :message-id:reply-to;
 bh=FrdeKZMwHtDNeVpvFo1Ask/VKGWJEQe3tGnQot4wkuI=;
 b=MT/rbkFPheV8VsM4rnfrovpgSzJsmG5qnujKgM2oxXqr4jr9AwvKpNtcLuF6gPQ868
 nA5MHb8xkn5kM+UvxxyrAK3IxkD88TYD2vG8d4onmPw67ZS2Zky8QmHJQbP4NBLEBmke
 kG6zCZz+fyA+tq/hY8jmjvEK+tcPMfWE7B9us=
X-Google-DKIM-Signature: v=1; a=rsa-sha256; c=relaxed/relaxed;
 d=1e100.net; s=20230601; t=1697489167; x=1698093967;
 h=cc:to:from:subject:message-id:date:x-gm-message-state:from:to:cc
 :subject:date:message-id:reply-to;
 bh=FrdeKZMwHtDNeVpvFo1Ask/VKGWJEQe3tGnQot4wkuI=;
 b=dW9NqSBkp73+4CRooaQatStr1OHWlWijREfRxFr+ytdtHKtJbbIukRMVxoncJWSwMS
 moNSuADGtXGffh3lX2B6pNKYuk5jb5TRAjJwAdQVHEW9hXBRcw3L23xn645bpDfLHCHS
 0R8p5IJX3cwbu0FYDkYVkyCCI24L70Ltz7J9/RAdja5ZLY1KiqgS9cpZV2+lwM8QI9lT
 OKIh4RjSNO/DzKMTLQqt7jytbo+u7BiUBYIImDqf5XqkWepT6npXPOXC6KqOqueH5n2r
 g6Pmqam3FbC90AK4OF5Dnm4OxQJvW2QUCxxEAMbkgbPxGOZu2b5kEOzwFIAGdJ4mSYAG
 3dcQ==
X-Gm-Message-State: AOJu0YxHC09wmgEu9yL4RobtzXu7gIktTjKIVWWcgXYA6uclkrzB/QDb
 ite1vqnPiZmWrIRMsT0t49tn7nzgRQONjgn6vdu2D1tG/7OxkEdAzb5DVQRiGxLWn7V1ChMcHw=
 =
X-Google-Smtp-Source: AGHT+IEmlEJl6JeMB3SWCaU4hV9vn/gXM8RirKOnepYwrAkSM0Dsk7tLcfyntnMYomvyWd1wQzUxXjAfSk5R
X-Received: by 2002:a17:90b:4b8f:b0:27d:427f:1bf4 with SMTP id
 lr15-20020a17090b4b8f00b0027d427f1bf4mr293951pjb.19.1697489167134; 
 Mon, 16 Oct 2023 13:46:07 -0700 (PDT)
Received: from postal.iol.unh.edu (postal.iol.unh.edu.
 [2606:4100:3880:1234::84]) by smtp-relay.gmail.com with ESMTPS id
 me13-20020a17090b17cd00b0026b123272edsm568095pjb.1.2023.10.16.13.46.07
 (version=TLS1_2 cipher=ECDHE-ECDSA-AES128-GCM-SHA256 bits=128/128);
 Mon, 16 Oct 2023 13:46:07 -0700 (PDT)
X-Relaying-Domain: iol.unh.edu
Date: Mon, 16 Oct 2023 13:46:07 -0700 (PDT)
Message-ID: <652da10f.170a0220.7a53b.10cdSMTPIN_ADDED_MISSING@mx.google.com>
Received: from [172.21.0.4] (unknown [172.18.0.240])
 by postal.iol.unh.edu (Postfix) with ESMTP id A828A602A042;
 Mon, 16 Oct 2023 16:46:05 -0400 (EDT)
Subject: |SUCCESS| pw132635 [PATCH] event/cnxk: update fc check to use SQEs
From: dpdklab@iol.unh.edu
To: Test Report <test-report@dpdk.org>
Cc: dpdk-test-reports@iol.unh.edu
Content-Type: text/plain
X-BeenThere: test-report@dpdk.org
X-Mailman-Version: 2.1.29
Precedence: list
List-Id: automatic DPDK test reports <test-report.dpdk.org>
List-Unsubscribe: <https://mails.dpdk.org/options/test-report>,
 <mailto:test-report-request@dpdk.org?subject=unsubscribe>
List-Archive: <http://mails.dpdk.org/archives/test-report/>
List-Post: <mailto:test-report@dpdk.org>
List-Help: <mailto:test-report-request@dpdk.org?subject=help>
List-Subscribe: <https://mails.dpdk.org/listinfo/test-report>,
 <mailto:test-report-request@dpdk.org?subject=subscribe>
Errors-To: test-report-bounces@dpdk.org

Test-Label: iol-unit-amd64-testing
Test-Status: SUCCESS
http://dpdk.org/patch/132635

_Testing PASS_

Submitter: Pavan Nikhilesh Bhagavatula <pbhagavatula@marvell.com>
Date: Monday, October 16 2023 15:10:55 
DPDK git baseline: Repo:dpdk
  Branch: master
  CommitID:441e777b85f1ea1eb6a2a970ff5d5c8e027f520c

132635 --> testing pass

Test environment and result as below:

+-----------------+----------------+
|   Environment   | dpdk_unit_test |
+=================+================+
| CentOS Stream 8 | PASS           |
+-----------------+----------------+
| Debian Buster   | PASS           |
+-----------------+----------------+
| Debian Bullseye | PASS           |
+-----------------+----------------+
| CentOS Stream 9 | PASS           |
+-----------------+----------------+
| Ubuntu 22.04    | PASS           |
+-----------------+----------------+
| Fedora 37       | PASS           |
+-----------------+----------------+
| Fedora 38       | PASS           |
+-----------------+----------------+


CentOS Stream 8
	Kernel: 4.18.0-240.10.1.el8_3.x86_64
	Compiler: gcc 8.4.1 20200928

Debian Buster
	Kernel: 5.4.0-122-generic
	Compiler: gcc 8.3.0-6

Debian Bullseye
	Kernel: 5.4.0-122-generic
	Compiler: gcc 10.2.1-6

CentOS Stream 9
	Kernel: 4.18.0-240.10.1.el8_3.x86_64
	Compiler: gcc 11.3.1 20220421

Ubuntu 22.04
	Kernel: 4.18.0-240.10.1.el8_3.x86_64
	Compiler: gcc 11.3.0

Fedora 37
	Kernel: Depends on container host system
	Compiler: gcc 12.3.1

Fedora 38
	Kernel: Depends on container host
	Compiler: gcc 13.1.1

To view detailed results, visit:
https://lab.dpdk.org/results/dashboard/patchsets/27943/

UNH-IOL DPDK Community Lab

To manage your email subscriptions, visit: 
https://lab.dpdk.org/results/dashboard/preferences/subscriptions/