From mboxrd@z Thu Jan  1 00:00:00 1970
Return-Path: <test-report-bounces@dpdk.org>
Received: from mails.dpdk.org (mails.dpdk.org [217.70.189.124])
	by inbox.dpdk.org (Postfix) with ESMTP id 902514318E
	for <public@inbox.dpdk.org>; Tue, 17 Oct 2023 18:50:58 +0200 (CEST)
Received: from mails.dpdk.org (localhost [127.0.0.1])
	by mails.dpdk.org (Postfix) with ESMTP id 89A934003C;
	Tue, 17 Oct 2023 18:50:58 +0200 (CEST)
Received: from mail-pl1-f228.google.com (mail-pl1-f228.google.com
 [209.85.214.228])
 by mails.dpdk.org (Postfix) with ESMTP id 81D314003C
 for <test-report@dpdk.org>; Tue, 17 Oct 2023 18:50:57 +0200 (CEST)
Received: by mail-pl1-f228.google.com with SMTP id
 d9443c01a7336-1ca816f868fso15902215ad.1
 for <test-report@dpdk.org>; Tue, 17 Oct 2023 09:50:57 -0700 (PDT)
DKIM-Signature: v=1; a=rsa-sha256; c=relaxed/relaxed;
 d=iol.unh.edu; s=unh-iol; t=1697561456; x=1698166256; darn=dpdk.org;
 h=cc:to:from:subject:message-id:date:from:to:cc:subject:date
 :message-id:reply-to;
 bh=vAo8N4eBhpF+wcWn5WLwukhd5/1HBTVC1Qgf8ZS7Sek=;
 b=ieFQUmhcckQx8Qt+zaCqNBncm32SI/dAvJtATVyTXF3I1DpbXVHFdSUAcsb8MBG4ef
 AVO8dUT17v9hBnQhUBfahWRA32h6dNQQRb5GTCo1Jw4PCGWQa4/CJk8s9/zA+hR5IHNw
 vRqHcHrJ8nWt/0aLlcT/UPLVyrmmEUEQF8zdc=
X-Google-DKIM-Signature: v=1; a=rsa-sha256; c=relaxed/relaxed;
 d=1e100.net; s=20230601; t=1697561456; x=1698166256;
 h=cc:to:from:subject:message-id:date:x-gm-message-state:from:to:cc
 :subject:date:message-id:reply-to;
 bh=vAo8N4eBhpF+wcWn5WLwukhd5/1HBTVC1Qgf8ZS7Sek=;
 b=ojpa7KzqWnER/sEvnT+sYYA95v9gJI63uM6a1yR9JyWyRJEJAyaANj0oiZZghjroX6
 HL6XgWXilD6/giHSyIVOEqjpMl+UnongKhCBVYtFF4bWpheIB2ASuWRFa9bqIwnWt/vb
 4Bt4Otj13Zbz+T3M+YHe2sde8PgDQR6jj2SkMIe/+IO6t5uQK0oUSQ0gaXGSnOCOX9XZ
 xt1+6VA3BcmDDba4YF7vFIVm4oedklY4FXhUAKbpidnyDfoZFqMJnQdYhemG4rB8Nm6I
 p+o0Ha8v17Z3DoyqTXFvb4Gam+MuKnTB0mcwohRm3VxROhoRjK1XIPZH68FYCHlE9O/x
 YRzA==
X-Gm-Message-State: AOJu0YzQ5o9K8914yV7BBUCOBJ7Z/LA5FIYnCe6Ntex+FjsgTEOQY9nu
 AVAvqmHVvE7DrbYRu8WtyT2E3JrWNvdE5ES+/i+Tua7TZJxkbu9Y5I2zAg==
X-Google-Smtp-Source: AGHT+IFdYpClDp5a1Ydigwe+5SIUYir6Kpej11RgrtsjdRvoppgKtrLXstQl1OOxS4qjR9jJgJGjzYk/a2iV
X-Received: by 2002:a17:902:fa90:b0:1c7:365a:566d with SMTP id
 lc16-20020a170902fa9000b001c7365a566dmr2555485plb.66.1697561456700; 
 Tue, 17 Oct 2023 09:50:56 -0700 (PDT)
Received: from postal.iol.unh.edu (postal.iol.unh.edu. [132.177.123.84])
 by smtp-relay.gmail.com with ESMTPS id
 v2-20020a170902d68200b001bbb8550252sm167986ply.65.2023.10.17.09.50.56
 (version=TLS1_2 cipher=ECDHE-ECDSA-AES128-GCM-SHA256 bits=128/128);
 Tue, 17 Oct 2023 09:50:56 -0700 (PDT)
X-Relaying-Domain: iol.unh.edu
Date: Tue, 17 Oct 2023 09:50:56 -0700 (PDT)
Message-ID: <652ebb70.170a0220.54bcf.39dbSMTPIN_ADDED_MISSING@mx.google.com>
Received: from [172.21.0.3] (unknown [172.18.0.240])
 by postal.iol.unh.edu (Postfix) with ESMTP id D642A602A042;
 Tue, 17 Oct 2023 12:50:55 -0400 (EDT)
Subject: |SUCCESS| pw132739 [PATCH] net/cpfl: remove devargs from adapter
From: dpdklab@iol.unh.edu
To: Test Report <test-report@dpdk.org>
Cc: dpdk-test-reports@iol.unh.edu
Content-Type: text/plain
X-BeenThere: test-report@dpdk.org
X-Mailman-Version: 2.1.29
Precedence: list
List-Id: automatic DPDK test reports <test-report.dpdk.org>
List-Unsubscribe: <https://mails.dpdk.org/options/test-report>,
 <mailto:test-report-request@dpdk.org?subject=unsubscribe>
List-Archive: <http://mails.dpdk.org/archives/test-report/>
List-Post: <mailto:test-report@dpdk.org>
List-Help: <mailto:test-report-request@dpdk.org?subject=help>
List-Subscribe: <https://mails.dpdk.org/listinfo/test-report>,
 <mailto:test-report-request@dpdk.org?subject=subscribe>
Errors-To: test-report-bounces@dpdk.org

Test-Label: iol-compile-amd64-testing
Test-Status: SUCCESS
http://dpdk.org/patch/132739

_Testing PASS_

Submitter: Xing, Beilei <beilei.xing@intel.com>
Date: Tuesday, October 17 2023 18:06:26 
DPDK git baseline: Repo:dpdk
  Branch: master
  CommitID:55bc9233a2065b3003e90710e4d139159f7c3ebf

132739 --> testing pass

Test environment and result as below:

+---------------------+--------------------+----------------------+
|     Environment     | dpdk_meson_compile | dpdk_mingw64_compile |
+=====================+====================+======================+
| FreeBSD 13          | PASS               | SKIPPED              |
+---------------------+--------------------+----------------------+
| Windows Server 2019 | PASS               | PASS                 |
+---------------------+--------------------+----------------------+
| Debian Bullseye     | PASS               | SKIPPED              |
+---------------------+--------------------+----------------------+
| Fedora 38           | PASS               | SKIPPED              |
+---------------------+--------------------+----------------------+
| CentOS Stream 8     | PASS               | SKIPPED              |
+---------------------+--------------------+----------------------+
| Fedora 37           | PASS               | SKIPPED              |
+---------------------+--------------------+----------------------+
| CentOS Stream 9     | PASS               | SKIPPED              |
+---------------------+--------------------+----------------------+
| Debian Buster       | PASS               | SKIPPED              |
+---------------------+--------------------+----------------------+
| Ubuntu 20.04        | PASS               | SKIPPED              |
+---------------------+--------------------+----------------------+


FreeBSD 13
	Kernel: 13.0
	Compiler: clang 11.0.1

Windows Server 2019
	Kernel: 10.0
	Compiler: clang 14.0 and gcc 8.1.0 (MinGW)

Debian Bullseye
	Kernel: 5.4.0-122-generic
	Compiler: gcc 10.2.1-6

Fedora 38
	Kernel: Depends on container host
	Compiler: clang 16.0.3

CentOS Stream 8
	Kernel: 4.18.0-240.10.1.el8_3.x86_64
	Compiler: gcc 8.4.1 20200928

Fedora 37
	Kernel: Depends on container host system
	Compiler: gcc 12.3.1

CentOS Stream 9
	Kernel: 4.18.0-240.10.1.el8_3.x86_64
	Compiler: gcc 11.3.1 20220421

Debian Buster
	Kernel: 5.4.0-122-generic
	Compiler: gcc 8.3.0-6

Ubuntu 20.04
	Kernel: 5.4.0-153-generic
	Compiler: gcc 9.4.0-1ubuntu1~20.04.1

To view detailed results, visit:
https://lab.dpdk.org/results/dashboard/patchsets/27964/

UNH-IOL DPDK Community Lab

To manage your email subscriptions, visit: 
https://lab.dpdk.org/results/dashboard/preferences/subscriptions/