From mboxrd@z Thu Jan  1 00:00:00 1970
Return-Path: <test-report-bounces@dpdk.org>
Received: from mails.dpdk.org (mails.dpdk.org [217.70.189.124])
	by inbox.dpdk.org (Postfix) with ESMTP id 549D54318E
	for <public@inbox.dpdk.org>; Tue, 17 Oct 2023 19:11:23 +0200 (CEST)
Received: from mails.dpdk.org (localhost [127.0.0.1])
	by mails.dpdk.org (Postfix) with ESMTP id 459D542DDC;
	Tue, 17 Oct 2023 19:11:23 +0200 (CEST)
Received: from mail-oo1-f97.google.com (mail-oo1-f97.google.com
 [209.85.161.97]) by mails.dpdk.org (Postfix) with ESMTP id 5F89E402B3
 for <test-report@dpdk.org>; Tue, 17 Oct 2023 19:11:21 +0200 (CEST)
Received: by mail-oo1-f97.google.com with SMTP id
 006d021491bc7-57f0f81b2aeso3278148eaf.3
 for <test-report@dpdk.org>; Tue, 17 Oct 2023 10:11:21 -0700 (PDT)
DKIM-Signature: v=1; a=rsa-sha256; c=relaxed/relaxed;
 d=iol.unh.edu; s=unh-iol; t=1697562680; x=1698167480; darn=dpdk.org;
 h=cc:to:from:subject:message-id:date:from:to:cc:subject:date
 :message-id:reply-to;
 bh=ZTmZJA1C0kdX8nFAaTlu2JzwdhRF42LtygISPr+KYHY=;
 b=E3TNJ7QvA6fatNCJXSxlCWuP4MgRoT25LkM4pX2gyX2fJENrzS8d0niQB3nR7YtZz6
 3Ys8iXXYpIQV0KN1R/jUO3VW92K1BKqa1w7qYiG+fZZ/kKzIAhCieMB1IA0pXGjLOQYW
 WJE0Lf3WIL+Tc3xGmyX533iIFZbabgukwGGYE=
X-Google-DKIM-Signature: v=1; a=rsa-sha256; c=relaxed/relaxed;
 d=1e100.net; s=20230601; t=1697562680; x=1698167480;
 h=cc:to:from:subject:message-id:date:x-gm-message-state:from:to:cc
 :subject:date:message-id:reply-to;
 bh=ZTmZJA1C0kdX8nFAaTlu2JzwdhRF42LtygISPr+KYHY=;
 b=fsBbbWEdGdS9qUiFSYRlUqeAIW8Ti84u/8Q422PI9FPe7KMQ5iFAey4coInl3r3veu
 KD+b/rtVrPPwd7VWWMfDwW0+g8lL2VShRQsKOcOjvPzJcF/Nj8FEuvq2PlepOY8Iyv7o
 OT3WpDvU+8PC3cwDbnQd0m0JT5haok4Dq+HKvFsgdipfsk1+91KvMhf/imPibZgS8+w5
 w1jq5xRW63DujxsXCKdqG+b3m15fEJmqVtrwXAHqSQiFVISPCp+QeLzW94D4I3vrxrON
 K4wQblS/jmlNg8VqBUHHcigjqH9pwb9dORpMKpqjQOAZUquavp17lB/JJreGgp1OTXwq
 STRA==
X-Gm-Message-State: AOJu0YwX64a2Eq2lXeiyHlbDEc/upcRYnd6wL2CczZPRl04NwusoCkE4
 n++mCqHrOQv9+zh/QvKMXAdlBWJlGAWNJekBn53f1YXEKLYaQyWcGLgmnHNOqCeQBer2B7CRYQ=
 =
X-Google-Smtp-Source: AGHT+IH2z4MhcAa7Hbw6h6wwo34pwsjRoDAljakVTYv3wSByO/TJSIb5rgLh3Mjkie8dD92ksnjw2Fx7UH/6
X-Received: by 2002:a4a:be18:0:b0:581:ea70:8a30 with SMTP id
 l24-20020a4abe18000000b00581ea708a30mr1216173oop.7.1697562680780; 
 Tue, 17 Oct 2023 10:11:20 -0700 (PDT)
Received: from postal.iol.unh.edu (postal.iol.unh.edu.
 [2606:4100:3880:1234::84]) by smtp-relay.gmail.com with ESMTPS id
 x10-20020a4a97ca000000b0057b6469990asm239994ooi.2.2023.10.17.10.11.20
 (version=TLS1_2 cipher=ECDHE-ECDSA-AES128-GCM-SHA256 bits=128/128);
 Tue, 17 Oct 2023 10:11:20 -0700 (PDT)
X-Relaying-Domain: iol.unh.edu
Date: Tue, 17 Oct 2023 10:11:20 -0700 (PDT)
Message-ID: <652ec038.4a0a0220.10ce5b.61c3SMTPIN_ADDED_MISSING@mx.google.com>
Received: from [172.21.0.4] (unknown [172.18.0.240])
 by postal.iol.unh.edu (Postfix) with ESMTP id 499C7602A043;
 Tue, 17 Oct 2023 13:11:20 -0400 (EDT)
Subject: |SUCCESS| pw132739 [PATCH] net/cpfl: remove devargs from adapter
From: dpdklab@iol.unh.edu
To: Test Report <test-report@dpdk.org>
Cc: dpdk-test-reports@iol.unh.edu
Content-Type: text/plain
X-BeenThere: test-report@dpdk.org
X-Mailman-Version: 2.1.29
Precedence: list
List-Id: automatic DPDK test reports <test-report.dpdk.org>
List-Unsubscribe: <https://mails.dpdk.org/options/test-report>,
 <mailto:test-report-request@dpdk.org?subject=unsubscribe>
List-Archive: <http://mails.dpdk.org/archives/test-report/>
List-Post: <mailto:test-report@dpdk.org>
List-Help: <mailto:test-report-request@dpdk.org?subject=help>
List-Subscribe: <https://mails.dpdk.org/listinfo/test-report>,
 <mailto:test-report-request@dpdk.org?subject=subscribe>
Errors-To: test-report-bounces@dpdk.org

Test-Label: iol-unit-amd64-testing
Test-Status: SUCCESS
http://dpdk.org/patch/132739

_Testing PASS_

Submitter: Xing, Beilei <beilei.xing@intel.com>
Date: Tuesday, October 17 2023 18:06:26 
DPDK git baseline: Repo:dpdk
  Branch: master
  CommitID:55bc9233a2065b3003e90710e4d139159f7c3ebf

132739 --> testing pass

Test environment and result as below:

+---------------------+----------------+
|     Environment     | dpdk_unit_test |
+=====================+================+
| CentOS Stream 8     | PASS           |
+---------------------+----------------+
| Windows Server 2019 | PASS           |
+---------------------+----------------+
| CentOS Stream 9     | PASS           |
+---------------------+----------------+
| Fedora 38           | PASS           |
+---------------------+----------------+
| Debian Buster       | PASS           |
+---------------------+----------------+
| Debian Bullseye     | PASS           |
+---------------------+----------------+
| Fedora 37           | PASS           |
+---------------------+----------------+


CentOS Stream 8
	Kernel: 4.18.0-240.10.1.el8_3.x86_64
	Compiler: gcc 8.4.1 20200928

Windows Server 2019
	Kernel: 10.0
	Compiler: clang 14.0 and gcc 8.1.0 (MinGW)

CentOS Stream 9
	Kernel: 4.18.0-240.10.1.el8_3.x86_64
	Compiler: gcc 11.3.1 20220421

Fedora 38
	Kernel: Depends on container host
	Compiler: gcc 13.1.1

Debian Buster
	Kernel: 5.4.0-122-generic
	Compiler: gcc 8.3.0-6

Debian Bullseye
	Kernel: 5.4.0-122-generic
	Compiler: gcc 10.2.1-6

Fedora 37
	Kernel: Depends on container host system
	Compiler: gcc 12.3.1

To view detailed results, visit:
https://lab.dpdk.org/results/dashboard/patchsets/27964/

UNH-IOL DPDK Community Lab

To manage your email subscriptions, visit: 
https://lab.dpdk.org/results/dashboard/preferences/subscriptions/