From mboxrd@z Thu Jan  1 00:00:00 1970
Return-Path: <test-report-bounces@dpdk.org>
Received: from mails.dpdk.org (mails.dpdk.org [217.70.189.124])
	by inbox.dpdk.org (Postfix) with ESMTP id C12D0431B1
	for <public@inbox.dpdk.org>; Thu, 19 Oct 2023 21:17:40 +0200 (CEST)
Received: from mails.dpdk.org (localhost [127.0.0.1])
	by mails.dpdk.org (Postfix) with ESMTP id BC5654029E;
	Thu, 19 Oct 2023 21:17:40 +0200 (CEST)
Received: from mail-io1-f99.google.com (mail-io1-f99.google.com
 [209.85.166.99]) by mails.dpdk.org (Postfix) with ESMTP id B53ED4029E
 for <test-report@dpdk.org>; Thu, 19 Oct 2023 21:17:39 +0200 (CEST)
Received: by mail-io1-f99.google.com with SMTP id
 ca18e2360f4ac-7a67bc84c87so2700639f.0
 for <test-report@dpdk.org>; Thu, 19 Oct 2023 12:17:39 -0700 (PDT)
DKIM-Signature: v=1; a=rsa-sha256; c=relaxed/relaxed;
 d=iol.unh.edu; s=unh-iol; t=1697743059; x=1698347859; darn=dpdk.org;
 h=cc:to:from:subject:message-id:date:from:to:cc:subject:date
 :message-id:reply-to;
 bh=r9RNH42lWEc74p/WMPMAtbRAQn/4uQrrtwBuiMYis/s=;
 b=hx2EQWAuWuzZuQwtTGI01cUWcmwPfYR3biTzZqSqNbXuzaUOPsqvkh6lhm5vhOBEx6
 KBP+uVTO74hU+n2Be8E5bkbKWM1e/NiDdmSSxdlm3GC9gb5GV8Qx8kaVuznWcwlWAqJL
 LmSEeQJZuJnsZkzSpZkCXQCGsiAswpuvp2UpM=
X-Google-DKIM-Signature: v=1; a=rsa-sha256; c=relaxed/relaxed;
 d=1e100.net; s=20230601; t=1697743059; x=1698347859;
 h=cc:to:from:subject:message-id:date:x-gm-message-state:from:to:cc
 :subject:date:message-id:reply-to;
 bh=r9RNH42lWEc74p/WMPMAtbRAQn/4uQrrtwBuiMYis/s=;
 b=bwFS7Fak1UJXN3C6qQtXyMjWenCpmNR7IG1Z6azYs6y+tLiOVWOcKiaDfKpUVI9O5G
 nJGCy3uQwkK/oWdKyxkeJNY4F2RZ0R42T1nMkXEIGy2njFmTLIxgKt/nTw9i9jLRJM5h
 XAev+RY5XOEwBuWqaRRQWgaWC/yTIgUruNlf0AvasAPqTHWl1Ins5O4ScudxDrRKdIRz
 I06MYxDp/hAGljbmYkgLz6rnvbjte35tWHlpJsCJ4SRscU1KjMqb8haT8sL3jmnMyqty
 2wAN5/yn41cI6Hrm9ubVsg7GkR+stRP0avJi84aPO7JUED044N0mKXTV0smbGjSqvUo/
 H87A==
X-Gm-Message-State: AOJu0YwT78sZ73muv49fx+EorhzxmfdQnU094MT65Y+4nr5lw8ifGAKf
 klBBZWiIsgjwh5hXznpWK6ogL0DBv1czCET2dooHk0G5wr7H1ynH9dyo4+cVWcI0gnwXwF6xMw=
 =
X-Google-Smtp-Source: AGHT+IHVqvSztmxUHZnam0knbJMjPY/s90Clh5IGLSAvuy7a+4VTdMkcOtSof43GFhFTRNyIfHeZ5s6PC0hB
X-Received: by 2002:a05:6602:1592:b0:794:da97:d194 with SMTP id
 e18-20020a056602159200b00794da97d194mr4218287iow.19.1697743059169; 
 Thu, 19 Oct 2023 12:17:39 -0700 (PDT)
Received: from postal.iol.unh.edu (postal.iol.unh.edu.
 [2606:4100:3880:1234::84]) by smtp-relay.gmail.com with ESMTPS id
 go10-20020a0566382c8a00b0045393a37c8fsm14087jab.59.2023.10.19.12.17.39
 (version=TLS1_2 cipher=ECDHE-ECDSA-AES128-GCM-SHA256 bits=128/128);
 Thu, 19 Oct 2023 12:17:39 -0700 (PDT)
X-Relaying-Domain: iol.unh.edu
Date: Thu, 19 Oct 2023 12:17:39 -0700 (PDT)
Message-ID: <653180d3.050a0220.8dbc4.0a60SMTPIN_ADDED_MISSING@mx.google.com>
Received: from [172.21.0.2] (unknown [172.18.0.240])
 by postal.iol.unh.edu (Postfix) with ESMTP id B186A602A042;
 Thu, 19 Oct 2023 15:17:38 -0400 (EDT)
Subject: |SUCCESS| pw132970 [PATCH] net/nfp: support represented port action
From: dpdklab@iol.unh.edu
To: Test Report <test-report@dpdk.org>
Cc: dpdk-test-reports@iol.unh.edu
Content-Type: text/plain
X-BeenThere: test-report@dpdk.org
X-Mailman-Version: 2.1.29
Precedence: list
List-Id: automatic DPDK test reports <test-report.dpdk.org>
List-Unsubscribe: <https://mails.dpdk.org/options/test-report>,
 <mailto:test-report-request@dpdk.org?subject=unsubscribe>
List-Archive: <http://mails.dpdk.org/archives/test-report/>
List-Post: <mailto:test-report@dpdk.org>
List-Help: <mailto:test-report-request@dpdk.org?subject=help>
List-Subscribe: <https://mails.dpdk.org/listinfo/test-report>,
 <mailto:test-report-request@dpdk.org?subject=subscribe>
Errors-To: test-report-bounces@dpdk.org

Test-Label: iol-compile-amd64-testing
Test-Status: SUCCESS
http://dpdk.org/patch/132970

_Testing PASS_

Submitter: Chaoyong He <chaoyong.he@corigine.com>
Date: Thursday, October 19 2023 06:54:03 
DPDK git baseline: Repo:dpdk
  Branch: master
  CommitID:d7b8b11866a7c4b5975eaedd15dcc9a6f0cd92ce

132970 --> testing pass

Test environment and result as below:

+---------------------+--------------------+----------------------+
|     Environment     | dpdk_meson_compile | dpdk_mingw64_compile |
+=====================+====================+======================+
| CentOS Stream 9     | PASS               | SKIPPED              |
+---------------------+--------------------+----------------------+
| Debian Buster       | PASS               | SKIPPED              |
+---------------------+--------------------+----------------------+
| CentOS Stream 8     | PASS               | SKIPPED              |
+---------------------+--------------------+----------------------+
| FreeBSD 13          | PASS               | SKIPPED              |
+---------------------+--------------------+----------------------+
| Fedora 37           | PASS               | SKIPPED              |
+---------------------+--------------------+----------------------+
| Ubuntu 20.04        | PASS               | SKIPPED              |
+---------------------+--------------------+----------------------+
| openSUSE Leap 15    | PASS               | SKIPPED              |
+---------------------+--------------------+----------------------+
| RHEL8               | PASS               | SKIPPED              |
+---------------------+--------------------+----------------------+
| Debian Bullseye     | PASS               | SKIPPED              |
+---------------------+--------------------+----------------------+
| Fedora 38           | PASS               | SKIPPED              |
+---------------------+--------------------+----------------------+
| Ubuntu 22.04        | PASS               | SKIPPED              |
+---------------------+--------------------+----------------------+
| Windows Server 2019 | PASS               | PASS                 |
+---------------------+--------------------+----------------------+
| Alpine              | PASS               | SKIPPED              |
+---------------------+--------------------+----------------------+


CentOS Stream 9
	Kernel: 4.18.0-240.10.1.el8_3.x86_64
	Compiler: gcc 11.3.1 20220421

Debian Buster
	Kernel: 5.4.0-122-generic
	Compiler: gcc 8.3.0-6

CentOS Stream 8
	Kernel: 4.18.0-240.10.1.el8_3.x86_64
	Compiler: gcc 8.4.1 20200928

FreeBSD 13
	Kernel: 13.0
	Compiler: clang 11.0.1

Fedora 37
	Kernel: Depends on container host system
	Compiler: gcc 12.3.1

Ubuntu 20.04
	Kernel: 5.4.0-153-generic
	Compiler: gcc 9.4.0-1ubuntu1~20.04.1

openSUSE Leap 15
	Kernel: 4.18.0-240.10.1.el8_3.x86_64
	Compiler: gcc 7.5.0

RHEL8
	Kernel: 4.18.0-240.10.1.el8_3.x86_64
	Compiler: gcc 8.3.1 20191121 (Red Hat 8.3.1-5)

Debian Bullseye
	Kernel: 5.4.0-122-generic
	Compiler: gcc 10.2.1-6

Fedora 38
	Kernel: Depends on container host
	Compiler: gcc 13.1.1

Ubuntu 22.04
	Kernel: 4.18.0-240.10.1.el8_3.x86_64
	Compiler: gcc 11.3.0

Windows Server 2019
	Kernel: 10.0
	Compiler: clang 14.0 and gcc 8.1.0 (MinGW)

Alpine
	Kernel: 5.4.0-73-generic
	Compiler: gcc (Alpine 10.3.1_git20210424) 10.3.1 20210424

To view detailed results, visit:
https://lab.dpdk.org/results/dashboard/patchsets/28005/

UNH-IOL DPDK Community Lab

To manage your email subscriptions, visit: 
https://lab.dpdk.org/results/dashboard/preferences/subscriptions/