From mboxrd@z Thu Jan  1 00:00:00 1970
Return-Path: <test-report-bounces@dpdk.org>
Received: from mails.dpdk.org (mails.dpdk.org [217.70.189.124])
	by inbox.dpdk.org (Postfix) with ESMTP id DCB9F43352
	for <public@inbox.dpdk.org>; Fri, 17 Nov 2023 12:05:55 +0100 (CET)
Received: from mails.dpdk.org (localhost [127.0.0.1])
	by mails.dpdk.org (Postfix) with ESMTP id D7DF740648;
	Fri, 17 Nov 2023 12:05:55 +0100 (CET)
Received: from mail-pl1-f226.google.com (mail-pl1-f226.google.com
 [209.85.214.226])
 by mails.dpdk.org (Postfix) with ESMTP id 08E1940648
 for <test-report@dpdk.org>; Fri, 17 Nov 2023 12:05:53 +0100 (CET)
Received: by mail-pl1-f226.google.com with SMTP id
 d9443c01a7336-1ce1603f5cdso16585215ad.3
 for <test-report@dpdk.org>; Fri, 17 Nov 2023 03:05:52 -0800 (PST)
DKIM-Signature: v=1; a=rsa-sha256; c=relaxed/relaxed;
 d=iol.unh.edu; s=unh-iol; t=1700219152; x=1700823952; darn=dpdk.org;
 h=cc:to:from:subject:message-id:date:from:to:cc:subject:date
 :message-id:reply-to;
 bh=Jf9zlW2deiV59Iq+D6gIbStaC9Ui6i+QnKK+SDiAjpU=;
 b=JmUY9QhCkk9UjNo+EWJmz+KsEjidqnrz27klV1rrkOGEzvUngN3xdLJWiVwfxfFHl6
 karqKfjv+t67ntnvI7uPFvAA4lORe5LiW+BO9OuzKY89Ge4c3ckUMPW9r3Xqe71qsl4z
 ghSMEROMN0iIJPaLftT73fXqg5hw6lM6Val/Y=
X-Google-DKIM-Signature: v=1; a=rsa-sha256; c=relaxed/relaxed;
 d=1e100.net; s=20230601; t=1700219152; x=1700823952;
 h=cc:to:from:subject:message-id:date:x-gm-message-state:from:to:cc
 :subject:date:message-id:reply-to;
 bh=Jf9zlW2deiV59Iq+D6gIbStaC9Ui6i+QnKK+SDiAjpU=;
 b=O7qLk63S2eYUfFkxnm2/VHCQtX/sD3H/UVTsZ14A4PvBaXSFfwfgp1fwlYxMo9BYZS
 WBWgf6nu1AbB2e4smLuMLjJcsshpuXmJnVn30wwIkPIZ54LQx2aCuGKZILqeyvjRpJnX
 oyYJdvLqqd2/4Okg5GtywG3KFODSrzV78glIbGeODWv8jy/ynSYIc+ur1BzUFbmkOs1K
 wW2MrveuPan2Lqej+Nh+kFrwSpGzCDq+bUh4nwVi9N0pAzYe6mtItjXGCNqMhCaWlOUP
 8dyE4tKfCyYioSBq0gq7IKnEHmpSZ9YXEVFsjQj8g2FOtYXMG31dV6/4ZGA9nooePL3e
 dNug==
X-Gm-Message-State: AOJu0YyYzQ13c3UeTzdreRQLybAFfLHguiCLHAimtFdtgz4pt7kMKr0V
 cQFnZuBU8AnbNMv2I0FdPVNPuiSCQ0VjD9sg1U8ITHjH7kXuONkBu2elVdZqFmpRzAYvB1hKgQ=
 =
X-Google-Smtp-Source: AGHT+IFxS6rcrlhjMLdJpouFmZX8GTln6izpyfY5pQRiD21/EQCrCuItfo6aDiU74SHQbbx2Lx4pNiAnkG1t
X-Received: by 2002:a17:902:7082:b0:1ca:8abd:6b52 with SMTP id
 z2-20020a170902708200b001ca8abd6b52mr10961983plk.69.1700219152323; 
 Fri, 17 Nov 2023 03:05:52 -0800 (PST)
Received: from postal.iol.unh.edu (postal.iol.unh.edu.
 [2606:4100:3880:1234::84]) by smtp-relay.gmail.com with ESMTPS id
 ik2-20020a170902ab0200b001c75912adacsm69561plb.113.2023.11.17.03.05.52
 (version=TLS1_2 cipher=ECDHE-ECDSA-AES128-GCM-SHA256 bits=128/128);
 Fri, 17 Nov 2023 03:05:52 -0800 (PST)
X-Relaying-Domain: iol.unh.edu
Date: Fri, 17 Nov 2023 03:05:52 -0800 (PST)
Message-ID: <65574910.170a0220.28b0d.324fSMTPIN_ADDED_MISSING@mx.google.com>
Received: from [172.21.0.2] (unknown [172.18.0.240])
 by postal.iol.unh.edu (Postfix) with ESMTP id 672BF605C234;
 Fri, 17 Nov 2023 06:05:51 -0500 (EST)
Subject: |SUCCESS| pw134445 [PATCH] [v2] net/txgbe: fix out of bound access
From: dpdklab@iol.unh.edu
To: Test Report <test-report@dpdk.org>
Cc: dpdk-test-reports@iol.unh.edu
Content-Type: text/plain
X-BeenThere: test-report@dpdk.org
X-Mailman-Version: 2.1.29
Precedence: list
List-Id: automatic DPDK test reports <test-report.dpdk.org>
List-Unsubscribe: <https://mails.dpdk.org/options/test-report>,
 <mailto:test-report-request@dpdk.org?subject=unsubscribe>
List-Archive: <http://mails.dpdk.org/archives/test-report/>
List-Post: <mailto:test-report@dpdk.org>
List-Help: <mailto:test-report-request@dpdk.org?subject=help>
List-Subscribe: <https://mails.dpdk.org/listinfo/test-report>,
 <mailto:test-report-request@dpdk.org?subject=subscribe>
Errors-To: test-report-bounces@dpdk.org

Test-Label: iol-unit-amd64-testing
Test-Status: SUCCESS
http://dpdk.org/patch/134445

_Testing PASS_

Submitter: Ferruh Yigit <ferruh.yigit@amd.com>
Date: Friday, November 17 2023 10:12:04 
DPDK git baseline: Repo:dpdk
  Branch: master
  CommitID:6d7129a6e93b7cb52efff009b29ef1a0f2cb76b4

134445 --> testing pass

Test environment and result as below:

+---------------------+----------------+
|     Environment     | dpdk_unit_test |
+=====================+================+
| Debian Bullseye     | PASS           |
+---------------------+----------------+
| Windows Server 2019 | PASS           |
+---------------------+----------------+
| CentOS Stream 9     | PASS           |
+---------------------+----------------+
| CentOS Stream 8     | PASS           |
+---------------------+----------------+


Debian Bullseye
	Kernel: 5.4.0-122-generic
	Compiler: gcc 10.2.1-6

Windows Server 2019
	Kernel: 10.0
	Compiler: clang 14.0 and gcc 8.1.0 (MinGW)

CentOS Stream 9
	Kernel: 4.18.0-240.10.1.el8_3.x86_64
	Compiler: gcc 11.3.1 20220421

CentOS Stream 8
	Kernel: 4.18.0-240.10.1.el8_3.x86_64
	Compiler: gcc 8.4.1 20200928

To view detailed results, visit:
https://lab.dpdk.org/results/dashboard/patchsets/28406/

UNH-IOL DPDK Community Lab

To manage your email subscriptions, visit: 
https://lab.dpdk.org/results/dashboard/preferences/subscriptions/