From mboxrd@z Thu Jan  1 00:00:00 1970
Return-Path: <test-report-bounces@dpdk.org>
Received: from mails.dpdk.org (mails.dpdk.org [217.70.189.124])
	by inbox.dpdk.org (Postfix) with ESMTP id F2221436D5
	for <public@inbox.dpdk.org>; Tue, 12 Dec 2023 20:15:14 +0100 (CET)
Received: from mails.dpdk.org (localhost [127.0.0.1])
	by mails.dpdk.org (Postfix) with ESMTP id ECC3242E64;
	Tue, 12 Dec 2023 20:15:14 +0100 (CET)
Received: from mail-pl1-f227.google.com (mail-pl1-f227.google.com
 [209.85.214.227])
 by mails.dpdk.org (Postfix) with ESMTP id D86B842E63
 for <test-report@dpdk.org>; Tue, 12 Dec 2023 20:15:13 +0100 (CET)
Received: by mail-pl1-f227.google.com with SMTP id
 d9443c01a7336-1d34a6b3566so617115ad.2
 for <test-report@dpdk.org>; Tue, 12 Dec 2023 11:15:13 -0800 (PST)
DKIM-Signature: v=1; a=rsa-sha256; c=relaxed/relaxed;
 d=iol.unh.edu; s=unh-iol; t=1702408513; x=1703013313; darn=dpdk.org;
 h=cc:to:from:subject:message-id:date:from:to:cc:subject:date
 :message-id:reply-to;
 bh=fN8JXWHwK+F+MxWBmjk7ozPsgwlLh6nfV/AWrOwam7w=;
 b=N659ZeVBeysqZOqRLfEmZl9JvC04nYglIsG747IKy/GLhebJSawGKt/sujMSvJmlww
 gjpiaWy8CUwpufGXlF/x+6mqhkOD/tT49zOeEPYNXylV3K130wGmK3eLrA3t0THxHDEU
 p2HzfZhvSzGxaIrgkAiyMUqVKkswoikZgIDfM=
X-Google-DKIM-Signature: v=1; a=rsa-sha256; c=relaxed/relaxed;
 d=1e100.net; s=20230601; t=1702408513; x=1703013313;
 h=cc:to:from:subject:message-id:date:x-gm-message-state:from:to:cc
 :subject:date:message-id:reply-to;
 bh=fN8JXWHwK+F+MxWBmjk7ozPsgwlLh6nfV/AWrOwam7w=;
 b=IlplNyb1ZoB5cnM5igPTgU5t2k9euG9DVxHqi328iFS29TfzbI9tzQhUH6S2FZiMu5
 nW3Qbbc+xAhASjuY+O8/bjQIb3DEIBYP2fX+/YE37DAU7ZTYLByxeR52iC7Ags4VjlLU
 UTaGJPyEQDe4xpqGBWA+oRI69mOHijrAIvQtHOON/YV3lSkhlyKBYRQqUxok6BMlWoVd
 szRncFvDBeCYwUzn1OBpbbC5TgaP1fbSXlXKO73zsHyvVOv47roZuiN8qjNq9nJX1Kaa
 PpQRP8hnyHGZVqkPP/JL8NRQuceVABfEXSocKq4vp0AUR+2LG6b+11Bzf0vrT5NIfzJj
 bULw==
X-Gm-Message-State: AOJu0YyCZEaD2ue0Vr2pJlNxn5GLYDyUAGIUM6Jg6bhNQdli3mD1QEX0
 hKZRqyd4ScLrPW1yu6jOny+sdj1gueTlyLKOeNq/0KGTFYBL68Z6mdFkDw==
X-Google-Smtp-Source: AGHT+IFLlCRLdWSNAAN86Mi2OpmCvILTqISogmi9MJ+NCrQbTsRxDrJ3RuAyCQY492xb1ngReh36Cwc/kt2k
X-Received: by 2002:a17:903:44a:b0:1d3:4129:1951 with SMTP id
 iw10-20020a170903044a00b001d341291951mr683158plb.30.1702408513160; 
 Tue, 12 Dec 2023 11:15:13 -0800 (PST)
Received: from postal.iol.unh.edu (postal.iol.unh.edu. [132.177.123.84])
 by smtp-relay.gmail.com with ESMTPS id
 k10-20020a170902694a00b001d049ef0c11sm568538plt.2.2023.12.12.11.15.13
 (version=TLS1_2 cipher=ECDHE-ECDSA-AES128-GCM-SHA256 bits=128/128);
 Tue, 12 Dec 2023 11:15:13 -0800 (PST)
X-Relaying-Domain: iol.unh.edu
Date: Tue, 12 Dec 2023 11:15:13 -0800 (PST)
Message-ID: <6578b141.170a0220.c9f3a.1165SMTPIN_ADDED_MISSING@mx.google.com>
Received: from [172.21.0.2] (unknown [172.18.0.240])
 by postal.iol.unh.edu (Postfix) with ESMTP id 9DE31605C311;
 Tue, 12 Dec 2023 14:15:12 -0500 (EST)
Subject: |SUCCESS| pw135071 [PATCH] cryptodev: remove unused extern
From: dpdklab@iol.unh.edu
To: Test Report <test-report@dpdk.org>
Cc: dpdk-test-reports@iol.unh.edu, Akhil Goyal <gakhil@marvell.com>
Content-Type: text/plain
X-BeenThere: test-report@dpdk.org
X-Mailman-Version: 2.1.29
Precedence: list
List-Id: automatic DPDK test reports <test-report.dpdk.org>
List-Unsubscribe: <https://mails.dpdk.org/options/test-report>,
 <mailto:test-report-request@dpdk.org?subject=unsubscribe>
List-Archive: <http://mails.dpdk.org/archives/test-report/>
List-Post: <mailto:test-report@dpdk.org>
List-Help: <mailto:test-report-request@dpdk.org?subject=help>
List-Subscribe: <https://mails.dpdk.org/listinfo/test-report>,
 <mailto:test-report-request@dpdk.org?subject=subscribe>
Errors-To: test-report-bounces@dpdk.org

Test-Label: iol-compile-amd64-testing
Test-Status: SUCCESS
http://dpdk.org/patch/135071

_Testing PASS_

Submitter: Stephen Hemminger <stephen@networkplumber.org>
Date: Tuesday, December 12 2023 16:31:04 
DPDK git baseline: Repo:dpdk-next-crypto
  Branch: master
  CommitID:c858f006d1f7161986c88847259a400d8f80d81b

135071 --> testing pass

Test environment and result as below:

+---------------------+--------------------+----------------------+
|     Environment     | dpdk_meson_compile | dpdk_mingw64_compile |
+=====================+====================+======================+
| Windows Server 2022 | PASS               | SKIPPED              |
+---------------------+--------------------+----------------------+
| FreeBSD 13          | PASS               | SKIPPED              |
+---------------------+--------------------+----------------------+
| Windows Server 2019 | PASS               | PASS                 |
+---------------------+--------------------+----------------------+
| Debian Buster       | PASS               | SKIPPED              |
+---------------------+--------------------+----------------------+
| CentOS Stream 8     | PASS               | SKIPPED              |
+---------------------+--------------------+----------------------+
| openSUSE Leap 15    | PASS               | SKIPPED              |
+---------------------+--------------------+----------------------+
| Debian Bullseye     | PASS               | SKIPPED              |
+---------------------+--------------------+----------------------+
| Fedora 37           | PASS               | SKIPPED              |
+---------------------+--------------------+----------------------+
| Fedora 38           | PASS               | SKIPPED              |
+---------------------+--------------------+----------------------+
| RHEL8               | PASS               | SKIPPED              |
+---------------------+--------------------+----------------------+
| Ubuntu 22.04        | PASS               | SKIPPED              |
+---------------------+--------------------+----------------------+


Windows Server 2022
	Kernel: OS Build 20348.2031
	Compiler: MSVC VS-Preview

FreeBSD 13
	Kernel: 13.0
	Compiler: clang 11.0.1

Windows Server 2019
	Kernel: 10.0
	Compiler: clang 14.0 and gcc 8.1.0 (MinGW)

Debian Buster
	Kernel: 5.4.0-122-generic
	Compiler: gcc 8.3.0-6

CentOS Stream 8
	Kernel: 4.18.0-240.10.1.el8_3.x86_64
	Compiler: gcc 8.4.1 20200928

openSUSE Leap 15
	Kernel: 4.18.0-240.10.1.el8_3.x86_64
	Compiler: gcc 7.5.0

Debian Bullseye
	Kernel: 5.4.0-122-generic
	Compiler: gcc 10.2.1-6

Fedora 37
	Kernel: Depends on container host system
	Compiler: gcc 12.3.1

Fedora 38
	Kernel: Depends on container host
	Compiler: clang 16.0.3

RHEL8
	Kernel: 4.18.0-240.10.1.el8_3.x86_64
	Compiler: gcc 8.3.1 20191121 (Red Hat 8.3.1-5)

Ubuntu 22.04
	Kernel: 4.18.0-240.10.1.el8_3.x86_64
	Compiler: gcc 11.3.0

To view detailed results, visit:
https://lab.dpdk.org/results/dashboard/patchsets/28599/

UNH-IOL DPDK Community Lab

To manage your email subscriptions, visit: 
https://lab.dpdk.org/results/dashboard/preferences/subscriptions/