From: dpdklab@iol.unh.edu
To: Test Report <test-report@dpdk.org>
Cc: dpdk-test-reports@iol.unh.edu
Subject: |SUCCESS| pw135417 [PATCH] examples/ipsec-secgw: use bulk free
Date: Wed, 20 Dec 2023 21:54:00 -0800 (PST) [thread overview]
Message-ID: <6583d2f8.250a0220.21ea1.3eb5SMTPIN_ADDED_MISSING@mx.google.com> (raw)
Test-Label: iol-unit-arm64-testing
Test-Status: SUCCESS
http://dpdk.org/patch/135417
_Testing PASS_
Submitter: Anoob Joseph <anoobj@marvell.com>
Date: Thursday, December 21 2023 04:40:33
DPDK git baseline: Repo:dpdk
Branch: master
CommitID:e5dc404d33ac1c6cea5c62a88489746c5cb5e35e
135417 --> testing pass
Test environment and result as below:
+-----------------------+---------------------------+------------------------------+----------------+
| Environment | cryptodev_sw_zuc_autotest | cryptodev_sw_snow3g_autotest | dpdk_unit_test |
+=======================+===========================+==============================+================+
| Debian 11 (arm) | PASS | PASS | SKIPPED |
+-----------------------+---------------------------+------------------------------+----------------+
| CentOS Stream 9 (ARM) | SKIPPED | SKIPPED | PASS |
+-----------------------+---------------------------+------------------------------+----------------+
Debian 11 (arm)
Kernel: Container Host Kernel
Compiler: gcc 10.2.1
CentOS Stream 9 (ARM)
Kernel: Container Host Kernel
Compiler: gcc 11.3.1
To view detailed results, visit:
https://lab.dpdk.org/results/dashboard/patchsets/28705/
UNH-IOL DPDK Community Lab
To manage your email subscriptions, visit:
https://lab.dpdk.org/results/dashboard/preferences/subscriptions/
next reply other threads:[~2023-12-21 5:54 UTC|newest]
Thread overview: 69+ messages / expand[flat|nested] mbox.gz Atom feed top
2023-12-21 5:54 dpdklab [this message]
-- strict thread matches above, loose matches on Subject: below --
2023-12-21 8:51 dpdklab
2023-12-21 7:07 dpdklab
2023-12-21 6:46 dpdklab
2023-12-21 6:43 dpdklab
2023-12-21 6:41 dpdklab
2023-12-21 6:40 dpdklab
2023-12-21 6:38 dpdklab
2023-12-21 6:36 dpdklab
2023-12-21 6:36 dpdklab
2023-12-21 6:36 dpdklab
2023-12-21 6:35 dpdklab
2023-12-21 6:32 dpdklab
2023-12-21 6:31 dpdklab
2023-12-21 6:30 dpdklab
2023-12-21 6:26 dpdklab
2023-12-21 6:25 dpdklab
2023-12-21 6:24 dpdklab
2023-12-21 6:22 dpdklab
2023-12-21 6:22 dpdklab
2023-12-21 6:21 dpdklab
2023-12-21 6:21 dpdklab
2023-12-21 6:20 dpdklab
2023-12-21 6:19 dpdklab
2023-12-21 6:17 dpdklab
2023-12-21 6:13 dpdklab
2023-12-21 6:13 dpdklab
2023-12-21 6:12 dpdklab
2023-12-21 6:12 dpdklab
2023-12-21 6:12 dpdklab
2023-12-21 6:10 dpdklab
2023-12-21 6:07 dpdklab
2023-12-21 6:06 dpdklab
2023-12-21 6:06 dpdklab
2023-12-21 6:06 dpdklab
2023-12-21 6:05 dpdklab
2023-12-21 6:05 dpdklab
2023-12-21 6:04 dpdklab
2023-12-21 6:03 dpdklab
2023-12-21 6:03 dpdklab
2023-12-21 6:02 dpdklab
2023-12-21 6:01 dpdklab
2023-12-21 6:01 dpdklab
2023-12-21 6:00 dpdklab
2023-12-21 5:58 dpdklab
2023-12-21 5:58 dpdklab
2023-12-21 5:57 dpdklab
2023-12-21 5:57 dpdklab
2023-12-21 5:57 dpdklab
2023-12-21 5:57 dpdklab
2023-12-21 5:57 dpdklab
2023-12-21 5:56 dpdklab
2023-12-21 5:56 dpdklab
2023-12-21 5:56 dpdklab
2023-12-21 5:56 dpdklab
2023-12-21 5:55 dpdklab
2023-12-21 5:55 dpdklab
2023-12-21 5:54 dpdklab
2023-12-21 5:54 dpdklab
2023-12-21 5:54 dpdklab
2023-12-21 5:53 dpdklab
2023-12-21 5:52 dpdklab
2023-12-21 5:52 dpdklab
2023-12-21 5:52 dpdklab
2023-12-21 5:52 dpdklab
[not found] <20231221044033.432-1-anoobj@marvell.com>
2023-12-21 4:22 ` qemudev
2023-12-21 4:26 ` qemudev
2023-12-21 4:41 ` checkpatch
2023-12-21 5:43 ` 0-day Robot
Reply instructions:
You may reply publicly to this message via plain-text email
using any one of the following methods:
* Save the following mbox file, import it into your mail client,
and reply-to-all from there: mbox
Avoid top-posting and favor interleaved quoting:
https://en.wikipedia.org/wiki/Posting_style#Interleaved_style
* Reply using the --to, --cc, and --in-reply-to
switches of git-send-email(1):
git send-email \
--in-reply-to=6583d2f8.250a0220.21ea1.3eb5SMTPIN_ADDED_MISSING@mx.google.com \
--to=dpdklab@iol.unh.edu \
--cc=dpdk-test-reports@iol.unh.edu \
--cc=test-report@dpdk.org \
/path/to/YOUR_REPLY
https://kernel.org/pub/software/scm/git/docs/git-send-email.html
* If your mail client supports setting the In-Reply-To header
via mailto: links, try the mailto: link
Be sure your reply has a Subject: header at the top and a blank line
before the message body.
This is a public inbox, see mirroring instructions
for how to clone and mirror all data and code used for this inbox;
as well as URLs for NNTP newsgroup(s).