From mboxrd@z Thu Jan  1 00:00:00 1970
Return-Path: <test-report-bounces@dpdk.org>
Received: from mails.dpdk.org (mails.dpdk.org [217.70.189.124])
	by inbox.dpdk.org (Postfix) with ESMTP id 611F843897
	for <public@inbox.dpdk.org>; Thu, 11 Jan 2024 23:24:47 +0100 (CET)
Received: from mails.dpdk.org (localhost [127.0.0.1])
	by mails.dpdk.org (Postfix) with ESMTP id 59C4640269;
	Thu, 11 Jan 2024 23:24:47 +0100 (CET)
Received: from mail-yb1-f226.google.com (mail-yb1-f226.google.com
 [209.85.219.226])
 by mails.dpdk.org (Postfix) with ESMTP id 9D19240266
 for <test-report@dpdk.org>; Thu, 11 Jan 2024 23:24:46 +0100 (CET)
Received: by mail-yb1-f226.google.com with SMTP id
 3f1490d57ef6-dbdbfaab70eso5090198276.3
 for <test-report@dpdk.org>; Thu, 11 Jan 2024 14:24:46 -0800 (PST)
DKIM-Signature: v=1; a=rsa-sha256; c=relaxed/relaxed;
 d=iol.unh.edu; s=unh-iol; t=1705011886; x=1705616686; darn=dpdk.org;
 h=cc:to:from:subject:message-id:date:from:to:cc:subject:date
 :message-id:reply-to;
 bh=MvaPUy+sPNr+8qarNcMyOuZMQPi8d1QRX8UFxNwdLxE=;
 b=f2QHqCk+4DgpP8P3AMMXRbJgzJsX7/G6zFNwy3AxbCSdIAvjD6sFt6tvHD35c+fKlT
 VoLbx77Ke0W/lDCc+ZensyiO5eCSjWezQnvij7KiXj1eApRrttBrm1hnvA1KpGNDIpz+
 8zNiS3el+DsVga75A/achk6oOvxmPbaRpKlMw=
X-Google-DKIM-Signature: v=1; a=rsa-sha256; c=relaxed/relaxed;
 d=1e100.net; s=20230601; t=1705011886; x=1705616686;
 h=cc:to:from:subject:message-id:date:x-gm-message-state:from:to:cc
 :subject:date:message-id:reply-to;
 bh=MvaPUy+sPNr+8qarNcMyOuZMQPi8d1QRX8UFxNwdLxE=;
 b=uHnbe2m6zU0UcwBgb7zDKLZ6cVDsq/qxP/aCEaeiXjUO71D+iY2R6YrLE6DydaRTL5
 up/QU2mcprsBjTQflnV/HjLQS/oIMNR/sH8k2z6Ron2PqQbLm7bALc4UEcLJrQmM0AN9
 kxVUAw+NXC+yq2nVXQxgA/zmhIOSn5odnkOfXCXCjtCrBbzJWUgW9E+SkWzgRz5NzS/I
 yX3gVBh1RGqnzi6OfPbnKBzS+Jix5YSFspoZLzEQBMWi19IDUgsDEVn9tXdu3zlC/IEY
 QrHR/RXlwQ5L+de0DD/mKgveSoowE0d34uw3GsAV78dOmOW9dI5bO9+ndUbkaWmh1bkN
 FSaw==
X-Gm-Message-State: AOJu0Yw5rKtTNlDWmS46Itn/yfuYXvPvdugvCVqpnqhFkMxmIgvKTgpe
 UCGiZXj0ot9yMxp68DF3TMGwYQsk/cjexgNg1pg4qJu9IVi/0b0fnwnE/m3zAsCIBw==
X-Google-Smtp-Source: AGHT+IH0yy/7EMgcAt6GPmmxW+yABY/yGACg3yoSs4pqFTeFYintDpcSxrQij4NycKQogyHq8srJRJ8qjYY8
X-Received: by 2002:a0d:e655:0:b0:5f7:3c92:b32c with SMTP id
 p82-20020a0de655000000b005f73c92b32cmr525246ywe.54.1705011886054; 
 Thu, 11 Jan 2024 14:24:46 -0800 (PST)
Received: from postal.iol.unh.edu (postal.iol.unh.edu. [132.177.123.84])
 by smtp-relay.gmail.com with ESMTPS id
 a3-20020a81bc03000000b005af949b6498sm51843ywi.60.2024.01.11.14.24.45
 (version=TLS1_2 cipher=ECDHE-ECDSA-AES128-GCM-SHA256 bits=128/128);
 Thu, 11 Jan 2024 14:24:46 -0800 (PST)
X-Relaying-Domain: iol.unh.edu
Date: Thu, 11 Jan 2024 14:24:46 -0800 (PST)
Message-ID: <65a06aae.810a0220.20b33.443aSMTPIN_ADDED_MISSING@mx.google.com>
Received: from [172.21.0.2] (unknown [172.18.0.240])
 by postal.iol.unh.edu (Postfix) with ESMTP id BC2746043300;
 Thu, 11 Jan 2024 17:24:45 -0500 (EST)
Subject: |SUCCESS| pw135845 [PATCH] [v2] dts: add Dockerfile
From: dpdklab@iol.unh.edu
To: Test Report <test-report@dpdk.org>
Cc: dpdk-test-reports@iol.unh.edu
Content-Type: text/plain
X-BeenThere: test-report@dpdk.org
X-Mailman-Version: 2.1.29
Precedence: list
List-Id: automatic DPDK test reports <test-report.dpdk.org>
List-Unsubscribe: <https://mails.dpdk.org/options/test-report>,
 <mailto:test-report-request@dpdk.org?subject=unsubscribe>
List-Archive: <http://mails.dpdk.org/archives/test-report/>
List-Post: <mailto:test-report@dpdk.org>
List-Help: <mailto:test-report-request@dpdk.org?subject=help>
List-Subscribe: <https://mails.dpdk.org/listinfo/test-report>,
 <mailto:test-report-request@dpdk.org?subject=subscribe>
Errors-To: test-report-bounces@dpdk.org

Test-Label: iol-compile-amd64-testing
Test-Status: SUCCESS
http://dpdk.org/patch/135845

_Testing PASS_

Submitter: Jeremy Spewock <jspewock@iol.unh.edu>
Date: Thursday, January 11 2024 21:35:06 
DPDK git baseline: Repo:dpdk
  Branch: master
  CommitID:6ef07151aac4b4d9601d547f94a996d1c71b3871

135845 --> testing pass

Test environment and result as below:

+---------------------+--------------------+----------------------+
|     Environment     | dpdk_meson_compile | dpdk_mingw64_compile |
+=====================+====================+======================+
| Windows Server 2022 | PASS               | SKIPPED              |
+---------------------+--------------------+----------------------+
| CentOS Stream 9     | PASS               | SKIPPED              |
+---------------------+--------------------+----------------------+
| FreeBSD 13          | PASS               | SKIPPED              |
+---------------------+--------------------+----------------------+
| CentOS Stream 8     | PASS               | SKIPPED              |
+---------------------+--------------------+----------------------+
| Ubuntu 20.04        | PASS               | SKIPPED              |
+---------------------+--------------------+----------------------+
| Windows Server 2019 | PASS               | PASS                 |
+---------------------+--------------------+----------------------+
| openSUSE Leap 15    | PASS               | SKIPPED              |
+---------------------+--------------------+----------------------+
| Fedora 37           | PASS               | SKIPPED              |
+---------------------+--------------------+----------------------+
| Ubuntu 22.04        | PASS               | SKIPPED              |
+---------------------+--------------------+----------------------+
| Fedora 38           | PASS               | SKIPPED              |
+---------------------+--------------------+----------------------+


Windows Server 2022
	Kernel: OS Build 20348.2031
	Compiler: MSVC VS-Preview

CentOS Stream 9
	Kernel: 4.18.0-240.10.1.el8_3.x86_64
	Compiler: gcc 11.3.1 20220421

FreeBSD 13
	Kernel: 13.0
	Compiler: clang 11.0.1

CentOS Stream 8
	Kernel: 4.18.0-240.10.1.el8_3.x86_64
	Compiler: gcc 8.4.1 20200928

Ubuntu 20.04
	Kernel: 5.4.0-153-generic
	Compiler: gcc 9.4.0-1ubuntu1~20.04.1

Windows Server 2019
	Kernel: 10.0
	Compiler: clang 14.0 and gcc 8.1.0 (MinGW)

openSUSE Leap 15
	Kernel: 4.18.0-240.10.1.el8_3.x86_64
	Compiler: gcc 7.5.0

Fedora 37
	Kernel: Depends on container host system
	Compiler: gcc 12.3.1

Ubuntu 22.04
	Kernel: 4.18.0-240.10.1.el8_3.x86_64
	Compiler: gcc 11.3.0

Fedora 38
	Kernel: Depends on container host
	Compiler: gcc 13.1.1

To view detailed results, visit:
https://lab.dpdk.org/results/dashboard/patchsets/28850/

UNH-IOL DPDK Community Lab

To manage your email subscriptions, visit: 
https://lab.dpdk.org/results/dashboard/preferences/subscriptions/