From mboxrd@z Thu Jan  1 00:00:00 1970
Return-Path: <test-report-bounces@dpdk.org>
Received: from mails.dpdk.org (mails.dpdk.org [217.70.189.124])
	by inbox.dpdk.org (Postfix) with ESMTP id A138A43897
	for <public@inbox.dpdk.org>; Thu, 11 Jan 2024 23:30:36 +0100 (CET)
Received: from mails.dpdk.org (localhost [127.0.0.1])
	by mails.dpdk.org (Postfix) with ESMTP id 9AF3240269;
	Thu, 11 Jan 2024 23:30:36 +0100 (CET)
Received: from mail-il1-f227.google.com (mail-il1-f227.google.com
 [209.85.166.227])
 by mails.dpdk.org (Postfix) with ESMTP id 26B7F40266
 for <test-report@dpdk.org>; Thu, 11 Jan 2024 23:30:35 +0100 (CET)
Received: by mail-il1-f227.google.com with SMTP id
 e9e14a558f8ab-3606e11d9cbso28214775ab.0
 for <test-report@dpdk.org>; Thu, 11 Jan 2024 14:30:35 -0800 (PST)
DKIM-Signature: v=1; a=rsa-sha256; c=relaxed/relaxed;
 d=iol.unh.edu; s=unh-iol; t=1705012234; x=1705617034; darn=dpdk.org;
 h=cc:to:from:subject:message-id:date:from:to:cc:subject:date
 :message-id:reply-to;
 bh=HWzUSr+ImyDWZmGB9fFOog5Fv5rBITOBJRUAyICeZNo=;
 b=Utr35/f0OQdzZd6OgHu/YlymwY6LVkCRKQiY0XQ6IFhPgO8MHYnptmmdGt/4/O5ObC
 e7AcEk3mVW7UsIGfu2Jsgo2l94Iwo4hMhqQSnNXOl6hKpmS2vdyDO5bN0vK9g29eQX2A
 6WF5QiNs79zLneHETVSwgbzbw+3M/DPk6F4UA=
X-Google-DKIM-Signature: v=1; a=rsa-sha256; c=relaxed/relaxed;
 d=1e100.net; s=20230601; t=1705012234; x=1705617034;
 h=cc:to:from:subject:message-id:date:x-gm-message-state:from:to:cc
 :subject:date:message-id:reply-to;
 bh=HWzUSr+ImyDWZmGB9fFOog5Fv5rBITOBJRUAyICeZNo=;
 b=UzghxmexGG4W1hGkYug+NM9YwVQjJvH0UeZHYDWFojOGmd/qNLHOL1iNDvXQLxLG3a
 fBaglGA/86EUIVEX/EzPUUnu45TWdx6BnDiXKBwHmh7zIVhbs7HPhJlBC+/2OONRl1Cn
 os1U/ADM+jqd/J4FuyXNfxO3dMtusGCDpD6GGK5576mmZL4Z2CBmaKC+/cyPBq35wfYg
 rmoRsnLniwwe0OeXr3tqX/Srw6KVAvMKUnmplAUxtETpKCfXPvOup44ujddcTIX0mClU
 XJ8+dQ2/YX64kZZhLesxsd+xUoF1PDVPHN++dIKZWBhDXzbJrUrGkWl/6QnrI9egvoAi
 atnA==
X-Gm-Message-State: AOJu0YxUe/cu66p78bFDteEatsubIIN/dZzqB6OdhUWv4241U7YRHZvZ
 DFSNKyLnmawdTBnSLaPhKYKzwtALIfrPMnorOQ5qntka1cjRH0PWaU8a0I4w8fNNxw==
X-Google-Smtp-Source: AGHT+IEF0zdhF6rij4sEPIcyPMZBxHasHJ9YUC0kxsgVWkuxJeGaalZYOmIuyw/IwDqgbA7LFmn4DAb8Bbf1
X-Received: by 2002:a05:6e02:eca:b0:360:be76:9ecc with SMTP id
 i10-20020a056e020eca00b00360be769eccmr61669ilk.54.1705012234607; 
 Thu, 11 Jan 2024 14:30:34 -0800 (PST)
Received: from postal.iol.unh.edu (postal.iol.unh.edu. [132.177.123.84])
 by smtp-relay.gmail.com with ESMTPS id
 z8-20020a926508000000b003600fe1a968sm66271ilb.62.2024.01.11.14.30.34
 (version=TLS1_2 cipher=ECDHE-ECDSA-AES128-GCM-SHA256 bits=128/128);
 Thu, 11 Jan 2024 14:30:34 -0800 (PST)
X-Relaying-Domain: iol.unh.edu
Date: Thu, 11 Jan 2024 14:30:34 -0800 (PST)
Message-ID: <65a06c0a.920a0220.dc8e4.56ecSMTPIN_ADDED_MISSING@mx.google.com>
Received: from [172.21.0.2] (unknown [172.18.0.240])
 by postal.iol.unh.edu (Postfix) with ESMTP id 29C9C6043300;
 Thu, 11 Jan 2024 17:30:34 -0500 (EST)
Subject: |SUCCESS| pw135845 [PATCH] [v2] dts: add Dockerfile
From: dpdklab@iol.unh.edu
To: Test Report <test-report@dpdk.org>
Cc: dpdk-test-reports@iol.unh.edu
Content-Type: text/plain
X-BeenThere: test-report@dpdk.org
X-Mailman-Version: 2.1.29
Precedence: list
List-Id: automatic DPDK test reports <test-report.dpdk.org>
List-Unsubscribe: <https://mails.dpdk.org/options/test-report>,
 <mailto:test-report-request@dpdk.org?subject=unsubscribe>
List-Archive: <http://mails.dpdk.org/archives/test-report/>
List-Post: <mailto:test-report@dpdk.org>
List-Help: <mailto:test-report-request@dpdk.org?subject=help>
List-Subscribe: <https://mails.dpdk.org/listinfo/test-report>,
 <mailto:test-report-request@dpdk.org?subject=subscribe>
Errors-To: test-report-bounces@dpdk.org

Test-Label: iol-unit-arm64-testing
Test-Status: SUCCESS
http://dpdk.org/patch/135845

_Testing PASS_

Submitter: Jeremy Spewock <jspewock@iol.unh.edu>
Date: Thursday, January 11 2024 21:35:06 
DPDK git baseline: Repo:dpdk
  Branch: master
  CommitID:6ef07151aac4b4d9601d547f94a996d1c71b3871

135845 --> testing pass

Test environment and result as below:

+--------------------------+------------------------------+---------------------------+----------------+
|       Environment        | cryptodev_sw_snow3g_autotest | cryptodev_sw_zuc_autotest | dpdk_unit_test |
+==========================+==============================+===========================+================+
| Debian 11 (arm)          | PASS                         | PASS                      | SKIPPED        |
+--------------------------+------------------------------+---------------------------+----------------+
| CentOS Stream 9 (ARM)    | SKIPPED                      | SKIPPED                   | PASS           |
+--------------------------+------------------------------+---------------------------+----------------+
| Fedora 37 (ARM)          | SKIPPED                      | SKIPPED                   | PASS           |
+--------------------------+------------------------------+---------------------------+----------------+
| Debian 11 (Buster) (ARM) | SKIPPED                      | SKIPPED                   | PASS           |
+--------------------------+------------------------------+---------------------------+----------------+
| Fedora 38 (ARM)          | SKIPPED                      | SKIPPED                   | PASS           |
+--------------------------+------------------------------+---------------------------+----------------+


Debian 11 (arm)
	Kernel: Container Host Kernel
	Compiler: gcc 10.2.1

CentOS Stream 9 (ARM)
	Kernel: Container Host Kernel
	Compiler: gcc 11.3.1

Fedora 37 (ARM)
	Kernel: Depends on container host
	Compiler: gcc 12.3.1

Debian 11 (Buster) (ARM)
	Kernel: Container Host Kernel
	Compiler: gcc 10.2.1

Fedora 38 (ARM)
	Kernel: Depends on container host
	Compiler: gcc 13.1.1

To view detailed results, visit:
https://lab.dpdk.org/results/dashboard/patchsets/28850/

UNH-IOL DPDK Community Lab

To manage your email subscriptions, visit: 
https://lab.dpdk.org/results/dashboard/preferences/subscriptions/