From mboxrd@z Thu Jan  1 00:00:00 1970
Return-Path: <test-report-bounces@dpdk.org>
Received: from mails.dpdk.org (mails.dpdk.org [217.70.189.124])
	by inbox.dpdk.org (Postfix) with ESMTP id 93DE7438A1
	for <public@inbox.dpdk.org>; Fri, 12 Jan 2024 10:46:47 +0100 (CET)
Received: from mails.dpdk.org (localhost [127.0.0.1])
	by mails.dpdk.org (Postfix) with ESMTP id 9043C402AC;
	Fri, 12 Jan 2024 10:46:47 +0100 (CET)
Received: from mail-ot1-f98.google.com (mail-ot1-f98.google.com
 [209.85.210.98]) by mails.dpdk.org (Postfix) with ESMTP id 1DF704028C
 for <test-report@dpdk.org>; Fri, 12 Jan 2024 10:46:47 +0100 (CET)
Received: by mail-ot1-f98.google.com with SMTP id
 46e09a7af769-6ddee0aa208so2024774a34.3
 for <test-report@dpdk.org>; Fri, 12 Jan 2024 01:46:47 -0800 (PST)
DKIM-Signature: v=1; a=rsa-sha256; c=relaxed/relaxed;
 d=iol.unh.edu; s=unh-iol; t=1705052806; x=1705657606; darn=dpdk.org;
 h=cc:to:from:subject:message-id:date:from:to:cc:subject:date
 :message-id:reply-to;
 bh=f0c2I/C4silbMgZRearl1pTJxTcx8c9GY+fQSqgBXtY=;
 b=biIliR/7B8xf4oa8albUIg9lBadZ/ZNq/czG5mc8ocAJf97D3Epe5eHy4ixcChmVVB
 tyG3tVkx4AhdMpkMrc5RNSCSr76u1FrGMczq5wkgsLd7QrlLUuU66vBrE8Mo8gFkjEMw
 /Y0sqbcHdtPMlQlJJmRiHLthjxqIRKlpFR+Sc=
X-Google-DKIM-Signature: v=1; a=rsa-sha256; c=relaxed/relaxed;
 d=1e100.net; s=20230601; t=1705052806; x=1705657606;
 h=cc:to:from:subject:message-id:date:x-gm-message-state:from:to:cc
 :subject:date:message-id:reply-to;
 bh=f0c2I/C4silbMgZRearl1pTJxTcx8c9GY+fQSqgBXtY=;
 b=aANJ21OBcKeqE+6742+zXs8lOUNGIl2fsGZiTAG5LnkbxqJcCtWot4iIHxAro3qTnr
 h+THd7GVSVQ62Eznata1aBWuhepS/4sNmNh9zA86TSBeCk0oJq9I6iLVGPQigKSolJKt
 SX9I89AIohmTZguYj4JmBfSNWDlARg8TRyD1bD46PqAJxIUJKxmz/YS1dVsZFuoP2KWy
 MVIbAItbOgAG1ow23km+ajoid3NThEGpzReE4H79Kx1iqhxjzHqRKSZwkBB5na3ymjBs
 ICLee4jEaGA3mBljRpvy5tyt0Xyl4gOaq2CcYg2bzTlNM/azauDOOK0tVfz8W/JUhLRA
 3+tA==
X-Gm-Message-State: AOJu0YwnK7rTb9bfK8haYMP6Y91kXguLg4DOKN+mGrHhurBHlqR2PLZF
 b16C9jbQ7X416oC+jSMkggFb4ywjAeJjhPooL4U5tYckvqxMsGueSk06emUX4k1u+Q==
X-Google-Smtp-Source: AGHT+IEm4iO3rqcSYdhu+Cxwb2ueIdcWzOWWPh5Zu3ufRKpPDxMRMcati/sLRZvxWU16GG4GSwP0ZRcr5RIi
X-Received: by 2002:a05:6830:1184:b0:6dd:e4d4:bd8f with SMTP id
 u4-20020a056830118400b006dde4d4bd8fmr1286545otq.2.1705052806525; 
 Fri, 12 Jan 2024 01:46:46 -0800 (PST)
Received: from postal.iol.unh.edu (postal.iol.unh.edu. [132.177.123.84])
 by smtp-relay.gmail.com with ESMTPS id
 ed27-20020a0568306e9b00b006dc35dc89f2sm148539otb.10.2024.01.12.01.46.46
 (version=TLS1_2 cipher=ECDHE-ECDSA-AES128-GCM-SHA256 bits=128/128);
 Fri, 12 Jan 2024 01:46:46 -0800 (PST)
X-Relaying-Domain: iol.unh.edu
Date: Fri, 12 Jan 2024 01:46:46 -0800 (PST)
Message-ID: <65a10a86.050a0220.12f1d.b682SMTPIN_ADDED_MISSING@mx.google.com>
Received: from [172.21.0.2] (unknown [172.18.0.240])
 by postal.iol.unh.edu (Postfix) with ESMTP id 06E0C6052515;
 Fri, 12 Jan 2024 04:46:46 -0500 (EST)
Subject: |SUCCESS| pw135846 [PATCH] [v3] dts: add Dockerfile
From: dpdklab@iol.unh.edu
To: Test Report <test-report@dpdk.org>
Cc: dpdk-test-reports@iol.unh.edu
Content-Type: text/plain
X-BeenThere: test-report@dpdk.org
X-Mailman-Version: 2.1.29
Precedence: list
List-Id: automatic DPDK test reports <test-report.dpdk.org>
List-Unsubscribe: <https://mails.dpdk.org/options/test-report>,
 <mailto:test-report-request@dpdk.org?subject=unsubscribe>
List-Archive: <http://mails.dpdk.org/archives/test-report/>
List-Post: <mailto:test-report@dpdk.org>
List-Help: <mailto:test-report-request@dpdk.org?subject=help>
List-Subscribe: <https://mails.dpdk.org/listinfo/test-report>,
 <mailto:test-report-request@dpdk.org?subject=subscribe>
Errors-To: test-report-bounces@dpdk.org

Test-Label: iol-compile-arm64-testing
Test-Status: SUCCESS
http://dpdk.org/patch/135846

_Testing PASS_

Submitter: Jeremy Spewock <jspewock@iol.unh.edu>
Date: Thursday, January 11 2024 22:26:08 
DPDK git baseline: Repo:dpdk
  Branch: master
  CommitID:6ef07151aac4b4d9601d547f94a996d1c71b3871

135846 --> testing pass

Test environment and result as below:

+------------------------------------+--------------------+
|            Environment             | dpdk_meson_compile |
+====================================+====================+
| Ubuntu 20.04 ARM SVE               | PASS               |
+------------------------------------+--------------------+
| Fedora 38 (ARM)                    | PASS               |
+------------------------------------+--------------------+
| Fedora 37 (ARM)                    | PASS               |
+------------------------------------+--------------------+
| Debian 11 (Buster) (ARM)           | PASS               |
+------------------------------------+--------------------+
| Ubuntu 20.04 ARM GCC Cross Compile | PASS               |
+------------------------------------+--------------------+
| Ubuntu 20.04 (ARM)                 | PASS               |
+------------------------------------+--------------------+


Ubuntu 20.04 ARM SVE
	Kernel: 5.4.0-80-generic
	Compiler: gcc 10.3.0 (Ubuntu 10.3.0-1ubuntu1~20.04)

Fedora 38 (ARM)
	Kernel: Depends on container host
	Compiler: gcc 13.1.1

Fedora 37 (ARM)
	Kernel: Depends on container host
	Compiler: gcc 12.3.1

Debian 11 (Buster) (ARM)
	Kernel: Container Host Kernel
	Compiler: gcc 10.2.1

Ubuntu 20.04 ARM GCC Cross Compile
	Kernel: 5.4.0-72-generic
	Compiler: aarch64-linux-gnu-gcc (Ubuntu 9.3.0-17ubuntu1~20.04) 9.3.0

Ubuntu 20.04 (ARM)
	Kernel: Container Host Kernel
	Compiler: gcc 9.4.0

To view detailed results, visit:
https://lab.dpdk.org/results/dashboard/patchsets/28851/

UNH-IOL DPDK Community Lab

To manage your email subscriptions, visit: 
https://lab.dpdk.org/results/dashboard/preferences/subscriptions/