From mboxrd@z Thu Jan  1 00:00:00 1970
Return-Path: <test-report-bounces@dpdk.org>
Received: from mails.dpdk.org (mails.dpdk.org [217.70.189.124])
	by inbox.dpdk.org (Postfix) with ESMTP id B8EEE438C6
	for <public@inbox.dpdk.org>; Mon, 15 Jan 2024 00:49:17 +0100 (CET)
Received: from mails.dpdk.org (localhost [127.0.0.1])
	by mails.dpdk.org (Postfix) with ESMTP id B40CD4029F;
	Mon, 15 Jan 2024 00:49:17 +0100 (CET)
Received: from mail-pg1-f227.google.com (mail-pg1-f227.google.com
 [209.85.215.227])
 by mails.dpdk.org (Postfix) with ESMTP id CB7A140272
 for <test-report@dpdk.org>; Mon, 15 Jan 2024 00:49:15 +0100 (CET)
Received: by mail-pg1-f227.google.com with SMTP id
 41be03b00d2f7-5cdfbd4e8caso6212134a12.0
 for <test-report@dpdk.org>; Sun, 14 Jan 2024 15:49:15 -0800 (PST)
DKIM-Signature: v=1; a=rsa-sha256; c=relaxed/relaxed;
 d=iol.unh.edu; s=unh-iol; t=1705276155; x=1705880955; darn=dpdk.org;
 h=cc:to:from:subject:message-id:date:from:to:cc:subject:date
 :message-id:reply-to;
 bh=3U24EcA/k5tp7KkfyXqZpg2WpN4nUBTj8LRRChF6fXk=;
 b=BYZdEx48Owvy37Jd0FRUi/YCyJ3cLYZuQhe1srIhVSKcbYwpYMonSUSxEs5Jd0f5AC
 KukbIvz/8aE6VScOdaFaRcXImPjo9hMq7vErIM5eAhjbwAdtXATn4iZGe/B3151j4YM/
 NejsC5GU8i/Dcoy6kKPLvDtXJxNgpoJ5i5yjY=
X-Google-DKIM-Signature: v=1; a=rsa-sha256; c=relaxed/relaxed;
 d=1e100.net; s=20230601; t=1705276155; x=1705880955;
 h=cc:to:from:subject:message-id:date:x-gm-message-state:from:to:cc
 :subject:date:message-id:reply-to;
 bh=3U24EcA/k5tp7KkfyXqZpg2WpN4nUBTj8LRRChF6fXk=;
 b=PkzuwAWPo28uydH4tmGpO/2Lm9X5pZ2N3GK/8IvNjhvYHSlrdqp+1nHy/G5zR5mqGF
 jYoFNSj4VLN8qFTUqxJcrW7DC8iWvjmb5Ze3d0Cv41lX7NXEPFGlrEv/PsqQMj8jrIy8
 Re45ot5zEBnILis7+IdsxjLUwz8b698UaooGufvk9X94ql9NRLPomKh1K9skG7IwNRc/
 yjmofXbW3AViegd5aLay0AV0Gby4XtE9v1bUAw40k00gaLd/n98GRuzWmbhWqIyz+c/6
 xkNyb9PGutS0AA96i0S2Gva4NXiWKDyLKfYQGq2jczkaZytg/x6/SyuLA1xUvOSn8QAY
 ftDA==
X-Gm-Message-State: AOJu0YwnxGj6MExezaFzXmFAgj+9tZsYiAjM2roguVASvVPuK17Vjdf+
 93+rlG5pk9kwxTFVzOItCqrxiRtdD5+sbBrB0JhrW82kLWK2R6q5s6vM5QHTB2wBOg==
X-Google-Smtp-Source: AGHT+IEhJhGgSVtuoUCA0xok9//kK7h5WUo9CI6kGf9tTkArRinR0qrR8q5Ve7BwxaYKuC+W7PNXpo9kmNmA
X-Received: by 2002:a05:6a20:47e0:b0:199:b9dd:9857 with SMTP id
 ey32-20020a056a2047e000b00199b9dd9857mr3940311pzb.92.1705276154954; 
 Sun, 14 Jan 2024 15:49:14 -0800 (PST)
Received: from postal.iol.unh.edu (postal.iol.unh.edu. [132.177.123.84])
 by smtp-relay.gmail.com with ESMTPS id
 sn3-20020a17090b2e8300b0028dd332f17esm441094pjb.5.2024.01.14.15.49.14
 (version=TLS1_2 cipher=ECDHE-ECDSA-AES128-GCM-SHA256 bits=128/128);
 Sun, 14 Jan 2024 15:49:14 -0800 (PST)
X-Relaying-Domain: iol.unh.edu
Date: Sun, 14 Jan 2024 15:49:14 -0800 (PST)
Message-ID: <65a472fa.170a0220.17195.024bSMTPIN_ADDED_MISSING@mx.google.com>
Received: from [172.21.0.2] (unknown [172.18.0.240])
 by postal.iol.unh.edu (Postfix) with ESMTP id 27B666052515;
 Sun, 14 Jan 2024 18:49:14 -0500 (EST)
Subject: |SUCCESS| pw135859 [PATCH] [v1,1/1] baseband/acc: remove acc101
From: dpdklab@iol.unh.edu
To: Test Report <test-report@dpdk.org>
Cc: Hernan Vargas <hernan.vargas@intel.com>
Content-Type: text/plain
X-BeenThere: test-report@dpdk.org
X-Mailman-Version: 2.1.29
Precedence: list
List-Id: automatic DPDK test reports <test-report.dpdk.org>
List-Unsubscribe: <https://mails.dpdk.org/options/test-report>,
 <mailto:test-report-request@dpdk.org?subject=unsubscribe>
List-Archive: <http://mails.dpdk.org/archives/test-report/>
List-Post: <mailto:test-report@dpdk.org>
List-Help: <mailto:test-report-request@dpdk.org?subject=help>
List-Subscribe: <https://mails.dpdk.org/listinfo/test-report>,
 <mailto:test-report-request@dpdk.org?subject=subscribe>
Errors-To: test-report-bounces@dpdk.org

Test-Label: iol-abi-testing
Test-Status: SUCCESS
http://dpdk.org/patch/135859

_Testing PASS_

Submitter: Hernan Vargas <hernan.vargas@intel.com>
Date: Friday, January 12 2024 20:36:18 
DPDK git baseline: Repo:dpdk
  Branch: master
  CommitID:c858f006d1f7161986c88847259a400d8f80d81b

135859 --> testing pass

Test environment and result as below:

+------------------+----------+
|   Environment    | abi_test |
+==================+==========+
| CentOS Stream 8  | PASS     |
+------------------+----------+
| openSUSE Leap 15 | PASS     |
+------------------+----------+
| Debian Bullseye  | PASS     |
+------------------+----------+


CentOS Stream 8
	Kernel: 4.18.0-240.10.1.el8_3.x86_64
	Compiler: gcc 8.4.1 20200928

openSUSE Leap 15
	Kernel: 4.18.0-240.10.1.el8_3.x86_64
	Compiler: gcc 7.5.0

Debian Bullseye
	Kernel: 5.4.0-122-generic
	Compiler: gcc 10.2.1-6

To view detailed results, visit:
https://lab.dpdk.org/results/dashboard/patchsets/28859/

UNH-IOL DPDK Community Lab

To manage your email subscriptions, visit: 
https://lab.dpdk.org/results/dashboard/preferences/subscriptions/