From mboxrd@z Thu Jan  1 00:00:00 1970
Return-Path: <test-report-bounces@dpdk.org>
Received: from mails.dpdk.org (mails.dpdk.org [217.70.189.124])
	by inbox.dpdk.org (Postfix) with ESMTP id A153B431CB
	for <public@inbox.dpdk.org>; Tue, 16 Jan 2024 05:51:24 +0100 (CET)
Received: from mails.dpdk.org (localhost [127.0.0.1])
	by mails.dpdk.org (Postfix) with ESMTP id 958194029F;
	Tue, 16 Jan 2024 05:51:24 +0100 (CET)
Received: from mail-qv1-f99.google.com (mail-qv1-f99.google.com
 [209.85.219.99]) by mails.dpdk.org (Postfix) with ESMTP id 294904027D
 for <test-report@dpdk.org>; Tue, 16 Jan 2024 05:51:23 +0100 (CET)
Received: by mail-qv1-f99.google.com with SMTP id
 6a1803df08f44-6814502e528so32189436d6.2
 for <test-report@dpdk.org>; Mon, 15 Jan 2024 20:51:23 -0800 (PST)
DKIM-Signature: v=1; a=rsa-sha256; c=relaxed/relaxed;
 d=iol.unh.edu; s=unh-iol; t=1705380682; x=1705985482; darn=dpdk.org;
 h=cc:to:from:subject:message-id:date:from:to:cc:subject:date
 :message-id:reply-to;
 bh=cTtrzbO8H6ECYv1EBSjcNrXbykBZjspvXMX+o6OOG0Q=;
 b=MVuHy2Ii4P1K5Y8T0bRCgGHEGzXitZbQNVMbaDSL2lxMFidWww/zII1FnSMyzPHL9c
 ed4MAeMrehmAB2NOIp0X+QdFkMnk1Z/dEdJ8SM1GUF4jCcxx9mNPXgnPiz69g5Nozhbb
 vkcyojDJD02+N87idufSL/zJtjRGH7Ds9q9GY=
X-Google-DKIM-Signature: v=1; a=rsa-sha256; c=relaxed/relaxed;
 d=1e100.net; s=20230601; t=1705380682; x=1705985482;
 h=cc:to:from:subject:message-id:date:x-gm-message-state:from:to:cc
 :subject:date:message-id:reply-to;
 bh=cTtrzbO8H6ECYv1EBSjcNrXbykBZjspvXMX+o6OOG0Q=;
 b=sUv+jeveVKhghHNa55Vj6UOR8AJwBGfRL8kNWEIypRWPZ8L7un+jLQno1pFLklG19f
 EGtMWVYCqC0YgsYoN6QYZ8x0ycaRW0K7Zp6rG50n5bx98lS8igR/6+8AocbKo7GBZD1E
 3L1z7tuVJF2gyXqvPKjDS8DiUg4J15IQR77+UDQ2/rTnacnNU/MUmx722nzhAYREh8L0
 GYBgWT/6J+hbeZqq26Ig8LStZEb7ExfLdn8RcLtgOYQGKNR1C/DZZ+5Q8mUvxYTwAE+8
 RpYgDSXGJ4C2pOCzfblu3HQLbSJ8DLq4DSV90+uXH0pD3MmaX9p5lDvEYI+P2GTPU2XV
 4afw==
X-Gm-Message-State: AOJu0YwdSZSPy/CSwVXYcKopIVUKBvHEd8dV9BB5a6AcbN7igwpap8K/
 r6nvrgzdK64b83rmo7zXGNQijjL348LoDf85MllZ4c6liFd5ti3OxD9jsPCiTMHUMQ==
X-Google-Smtp-Source: AGHT+IGm/JKGfXcHnSBO1b3KyGh7NUdkjYokIdzlsSQ1kPFPILV/t12bp0LN6ySxYk8NlJ81rClME9s3kRNl
X-Received: by 2002:a05:6214:b69:b0:67f:48e0:671f with SMTP id
 ey9-20020a0562140b6900b0067f48e0671fmr10459220qvb.38.1705380682565; 
 Mon, 15 Jan 2024 20:51:22 -0800 (PST)
Received: from postal.iol.unh.edu (postal.iol.unh.edu. [132.177.123.84])
 by smtp-relay.gmail.com with ESMTPS id
 ct13-20020a056214178d00b00680b87c9c07sm294171qvb.50.2024.01.15.20.51.22
 (version=TLS1_2 cipher=ECDHE-ECDSA-AES128-GCM-SHA256 bits=128/128);
 Mon, 15 Jan 2024 20:51:22 -0800 (PST)
X-Relaying-Domain: iol.unh.edu
Date: Mon, 15 Jan 2024 20:51:22 -0800 (PST)
Message-ID: <65a60b4a.050a0220.67b81.39fcSMTPIN_ADDED_MISSING@mx.google.com>
Received: from [172.17.0.2] (unknown [172.18.0.217])
 by postal.iol.unh.edu (Postfix) with ESMTP id 467546052515;
 Mon, 15 Jan 2024 23:51:22 -0500 (EST)
Subject: |SUCCESS| pw135880 [PATCH] [v2] bus/uacce: introduce UACCE bus
From: dpdklab@iol.unh.edu
To: Test Report <test-report@dpdk.org>
Cc: dpdk-test-reports@iol.unh.edu
Content-Type: text/plain
X-BeenThere: test-report@dpdk.org
X-Mailman-Version: 2.1.29
Precedence: list
List-Id: automatic DPDK test reports <test-report.dpdk.org>
List-Unsubscribe: <https://mails.dpdk.org/options/test-report>,
 <mailto:test-report-request@dpdk.org?subject=unsubscribe>
List-Archive: <http://mails.dpdk.org/archives/test-report/>
List-Post: <mailto:test-report@dpdk.org>
List-Help: <mailto:test-report-request@dpdk.org?subject=help>
List-Subscribe: <https://mails.dpdk.org/listinfo/test-report>,
 <mailto:test-report-request@dpdk.org?subject=subscribe>
Errors-To: test-report-bounces@dpdk.org

Test-Label: iol-unit-amd64-testing
Test-Status: SUCCESS
http://dpdk.org/patch/135880

_Testing PASS_

Submitter: Chengwen Feng <fengchengwen@huawei.com>
Date: Tuesday, January 16 2024 03:35:43 
DPDK git baseline: Repo:dpdk
  Branch: master
  CommitID:d4af9a82063e4c39568191eaa12955d3ca39581a

135880 --> testing pass

Test environment and result as below:

+---------------------+----------------+
|     Environment     | dpdk_unit_test |
+=====================+================+
| CentOS Stream 8     | PASS           |
+---------------------+----------------+
| Debian Buster       | PASS           |
+---------------------+----------------+
| CentOS Stream 9     | PASS           |
+---------------------+----------------+
| Windows Server 2019 | PASS           |
+---------------------+----------------+
| Debian Bullseye     | PASS           |
+---------------------+----------------+
| Fedora 37           | PASS           |
+---------------------+----------------+
| Fedora 38           | PASS           |
+---------------------+----------------+
| openSUSE Leap 15    | PASS           |
+---------------------+----------------+
| RHEL8               | PASS           |
+---------------------+----------------+
| Ubuntu 20.04        | PASS           |
+---------------------+----------------+


CentOS Stream 8
	Kernel: 4.18.0-240.10.1.el8_3.x86_64
	Compiler: gcc 8.4.1 20200928

Debian Buster
	Kernel: 5.4.0-122-generic
	Compiler: gcc 8.3.0-6

CentOS Stream 9
	Kernel: 4.18.0-240.10.1.el8_3.x86_64
	Compiler: gcc 11.3.1 20220421

Windows Server 2019
	Kernel: 10.0
	Compiler: clang 14.0 and gcc 8.1.0 (MinGW)

Debian Bullseye
	Kernel: 5.4.0-122-generic
	Compiler: gcc 10.2.1-6

Fedora 37
	Kernel: Depends on container host system
	Compiler: gcc 12.3.1

Fedora 38
	Kernel: Depends on container host
	Compiler: gcc 13.1.1

openSUSE Leap 15
	Kernel: 4.18.0-240.10.1.el8_3.x86_64
	Compiler: gcc 7.5.0

RHEL8
	Kernel: 4.18.0-240.10.1.el8_3.x86_64
	Compiler: gcc 8.3.1 20191121 (Red Hat 8.3.1-5)

Ubuntu 20.04
	Kernel: 5.4.0-153-generic
	Compiler: gcc 9.4.0-1ubuntu1~20.04.1

To view detailed results, visit:
https://lab.dpdk.org/results/dashboard/patchsets/28868/

UNH-IOL DPDK Community Lab

To manage your email subscriptions, visit: 
https://lab.dpdk.org/results/dashboard/preferences/subscriptions/