From mboxrd@z Thu Jan  1 00:00:00 1970
Return-Path: <test-report-bounces@dpdk.org>
Received: from mails.dpdk.org (mails.dpdk.org [217.70.189.124])
	by inbox.dpdk.org (Postfix) with ESMTP id 045D9438E9
	for <public@inbox.dpdk.org>; Wed, 17 Jan 2024 02:19:59 +0100 (CET)
Received: from mails.dpdk.org (localhost [127.0.0.1])
	by mails.dpdk.org (Postfix) with ESMTP id 003A6402A6;
	Wed, 17 Jan 2024 02:19:59 +0100 (CET)
Received: from mail-qv1-f99.google.com (mail-qv1-f99.google.com
 [209.85.219.99]) by mails.dpdk.org (Postfix) with ESMTP id CE99F402A6
 for <test-report@dpdk.org>; Wed, 17 Jan 2024 02:19:52 +0100 (CET)
Received: by mail-qv1-f99.google.com with SMTP id
 6a1803df08f44-68175861f3eso5544826d6.3
 for <test-report@dpdk.org>; Tue, 16 Jan 2024 17:19:52 -0800 (PST)
DKIM-Signature: v=1; a=rsa-sha256; c=relaxed/relaxed;
 d=iol.unh.edu; s=unh-iol; t=1705454392; x=1706059192; darn=dpdk.org;
 h=cc:to:from:subject:message-id:date:from:to:cc:subject:date
 :message-id:reply-to;
 bh=FwwsvF6AqeotHgpQuT6g4oynpc5qNz/WL+a7NBLsKEk=;
 b=ajKcHxBw76yFItBLn8YAg0N6m/eYDKfF2zKpu7OIwptMvuJexBOCLFJ9qFhFVPzrrx
 utQTQCOQ4u/JD8CQWPgvrc63kWXrdl1AVRp2W7TPqY0HyuYtLF17Ho/RuBvhSOxazK+t
 skgSwTXyXVHQp/oYfIbzS0WGqgNqsUQH6Yw3Y=
X-Google-DKIM-Signature: v=1; a=rsa-sha256; c=relaxed/relaxed;
 d=1e100.net; s=20230601; t=1705454392; x=1706059192;
 h=cc:to:from:subject:message-id:date:x-gm-message-state:from:to:cc
 :subject:date:message-id:reply-to;
 bh=FwwsvF6AqeotHgpQuT6g4oynpc5qNz/WL+a7NBLsKEk=;
 b=DpPi7JMM/jIfgoOvkaNPpym0ZZ5s1/m3gN3Wv1g1g9ZFU9NbowgA2s5+Drjzta8eOb
 Ynjt29RcQhbmo7ibDsHaEEWi272MX78gA5KU3YyyXoSeuj+aqbnfNJdJLWPggKmY9Wzv
 pESxzkhF+7ZsVasThGKSp/fe0E8HVBNtuYqd8ClnyAjBwwN9V4hXGvufqYM7vqOD3PKy
 oEK2gizyVtLad6wkxUlLPhqy8TQW12hTXzU8TnliZnlEX6OZRxmAldH4n4YuFnXpE0q4
 RigCMoDiKRHZZ2y7Eunls6NDwC3curElZR0qfS3yt18xaDzIpDSsdkP3AUoQWsZbqMa6
 d+bA==
X-Gm-Message-State: AOJu0YzwRSQ5T5/KIw5BMjc50gN3kNyshIJlgibjgPaB5WXBfLDqu5VR
 lRM8LP54340CBgbgwwE2vhD9173uvDK5hO6KjWNSVTIyOT7v2W5KAVNWHsGBHuHKKw==
X-Google-Smtp-Source: AGHT+IG61PhycJSqFIEDyHWfXUn98q6u8tb9YBoss+ZDgbUSHNDThCHYC0/mByr05SFWswIKXBcBbaKWkhZD
X-Received: by 2002:ad4:5d49:0:b0:67f:2321:935e with SMTP id
 jk9-20020ad45d49000000b0067f2321935emr11238533qvb.62.1705454392321; 
 Tue, 16 Jan 2024 17:19:52 -0800 (PST)
Received: from postal.iol.unh.edu (postal.iol.unh.edu. [132.177.123.84])
 by smtp-relay.gmail.com with ESMTPS id
 8-20020ad45b88000000b00681685a3df6sm124766qvp.65.2024.01.16.17.19.52
 (version=TLS1_2 cipher=ECDHE-ECDSA-AES128-GCM-SHA256 bits=128/128);
 Tue, 16 Jan 2024 17:19:52 -0800 (PST)
X-Relaying-Domain: iol.unh.edu
Date: Tue, 16 Jan 2024 17:19:52 -0800 (PST)
Message-ID: <65a72b38.d40a0220.94223.8f18SMTPIN_ADDED_MISSING@mx.google.com>
Received: from [172.21.0.3] (unknown [172.18.0.240])
 by postal.iol.unh.edu (Postfix) with ESMTP id 035E66043301;
 Tue, 16 Jan 2024 20:19:52 -0500 (EST)
Subject: |SUCCESS| pw135884 [PATCH] maintainers: update for e1000/igc
From: dpdklab@iol.unh.edu
To: Test Report <test-report@dpdk.org>
Cc: dpdk-test-reports@iol.unh.edu
Content-Type: text/plain
X-BeenThere: test-report@dpdk.org
X-Mailman-Version: 2.1.29
Precedence: list
List-Id: automatic DPDK test reports <test-report.dpdk.org>
List-Unsubscribe: <https://mails.dpdk.org/options/test-report>,
 <mailto:test-report-request@dpdk.org?subject=unsubscribe>
List-Archive: <http://mails.dpdk.org/archives/test-report/>
List-Post: <mailto:test-report@dpdk.org>
List-Help: <mailto:test-report-request@dpdk.org?subject=help>
List-Subscribe: <https://mails.dpdk.org/listinfo/test-report>,
 <mailto:test-report-request@dpdk.org?subject=subscribe>
Errors-To: test-report-bounces@dpdk.org

Test-Label: iol-compile-arm64-testing
Test-Status: SUCCESS
http://dpdk.org/patch/135884

_Testing PASS_

Submitter: Simei Su <simei.su@intel.com>
Date: Tuesday, January 16 2024 07:54:18 
DPDK git baseline: Repo:dpdk
  Branch: master
  CommitID:d4af9a82063e4c39568191eaa12955d3ca39581a

135884 --> testing pass

Test environment and result as below:

+----------------------------------------+--------------------+
|              Environment               | dpdk_meson_compile |
+========================================+====================+
| Ubuntu 20.04 ARM SVE                   | PASS               |
+----------------------------------------+--------------------+
| Fedora 37 (ARM)                        | PASS               |
+----------------------------------------+--------------------+
| CentOS Stream 9 (ARM)                  | PASS               |
+----------------------------------------+--------------------+
| Fedora 38 (ARM)                        | PASS               |
+----------------------------------------+--------------------+
| Ubuntu 20.04 (ARM)                     | PASS               |
+----------------------------------------+--------------------+
| Debian 11 (Buster) (ARM)               | PASS               |
+----------------------------------------+--------------------+
| Ubuntu 20.04 ARM GCC Cross Compile     | PASS               |
+----------------------------------------+--------------------+
| Ubuntu 20.04 aarch32 GCC Cross Compile | PASS               |
+----------------------------------------+--------------------+


Ubuntu 20.04 ARM SVE
	Kernel: 5.4.0-80-generic
	Compiler: gcc 10.3.0 (Ubuntu 10.3.0-1ubuntu1~20.04)

Fedora 37 (ARM)
	Kernel: Depends on container host
	Compiler: gcc 12.3.1

CentOS Stream 9 (ARM)
	Kernel: Container Host Kernel
	Compiler: gcc 11.3.1

Fedora 38 (ARM)
	Kernel: Depends on container host
	Compiler: gcc 13.1.1

Ubuntu 20.04 (ARM)
	Kernel: Container Host Kernel
	Compiler: gcc 9.4.0

Debian 11 (Buster) (ARM)
	Kernel: Container Host Kernel
	Compiler: gcc 10.2.1

Ubuntu 20.04 ARM GCC Cross Compile
	Kernel: 5.4.0-72-generic
	Compiler: aarch64-linux-gnu-gcc (Ubuntu 9.3.0-17ubuntu1~20.04) 9.3.0

Ubuntu 20.04 aarch32 GCC Cross Compile
	Kernel: 5.4.0-72-generic
	Compiler: gcc 9.3.0

To view detailed results, visit:
https://lab.dpdk.org/results/dashboard/patchsets/28872/

UNH-IOL DPDK Community Lab

To manage your email subscriptions, visit: 
https://lab.dpdk.org/results/dashboard/preferences/subscriptions/