From mboxrd@z Thu Jan  1 00:00:00 1970
Return-Path: <test-report-bounces@dpdk.org>
Received: from mails.dpdk.org (mails.dpdk.org [217.70.189.124])
	by inbox.dpdk.org (Postfix) with ESMTP id 49CC3438E9
	for <public@inbox.dpdk.org>; Wed, 17 Jan 2024 02:34:34 +0100 (CET)
Received: from mails.dpdk.org (localhost [127.0.0.1])
	by mails.dpdk.org (Postfix) with ESMTP id 45598402A6;
	Wed, 17 Jan 2024 02:34:34 +0100 (CET)
Received: from mail-io1-f100.google.com (mail-io1-f100.google.com
 [209.85.166.100])
 by mails.dpdk.org (Postfix) with ESMTP id C48B74028B
 for <test-report@dpdk.org>; Wed, 17 Jan 2024 02:34:32 +0100 (CET)
Received: by mail-io1-f100.google.com with SMTP id
 ca18e2360f4ac-7bed9c7d33fso274882739f.1
 for <test-report@dpdk.org>; Tue, 16 Jan 2024 17:34:32 -0800 (PST)
DKIM-Signature: v=1; a=rsa-sha256; c=relaxed/relaxed;
 d=iol.unh.edu; s=unh-iol; t=1705455272; x=1706060072; darn=dpdk.org;
 h=cc:to:from:subject:message-id:date:from:to:cc:subject:date
 :message-id:reply-to;
 bh=UcFNTBzUpMNrt1pfpEVw5U8hdNEXY1eHnwJGablOmNs=;
 b=PAEWjPAb3M9unr+6pP59XzyQwS+d5EMwsxqQtsrJ/SC1M8CdRMIP+9IMdaJ5XB/bBZ
 qfix6LhQineYP4AUx2QgPdqpzvvf2jStQ6zJyKoHf6gP2jjfXIYen9CAr0Huhj5PrrGK
 Iu9dJs/YXNPJKXjjYw5LGHftPl/fF+N8D2D9A=
X-Google-DKIM-Signature: v=1; a=rsa-sha256; c=relaxed/relaxed;
 d=1e100.net; s=20230601; t=1705455272; x=1706060072;
 h=cc:to:from:subject:message-id:date:x-gm-message-state:from:to:cc
 :subject:date:message-id:reply-to;
 bh=UcFNTBzUpMNrt1pfpEVw5U8hdNEXY1eHnwJGablOmNs=;
 b=Y4OJCdwKk4mOQn9MypgDlbu1VVNwTSp7YhyL2BLwIKRCT4fBtstQ5TXyXFscat4IOl
 4x8TOa+p3xXDeNYrU3eeYSyYWoJl/RseXg/BcW2VWOiegc5bkdXeBjwLpiB3oYA778vL
 8kTq9ztRonjq7buE5xI10Cwsb+17dlaZS6Gr38q4KesNXVYoW+vbpRVw/2eO53B7XnQO
 Uf7x0ETMjr2tZwfcEgU+vvOElvVYQILaOXsDtSJroQGcf3GAFsABw85z3175wgmg8dMh
 Kv1dUg/APBBzUgckSP0SWfOwmlil+CSC4d4djLb/395VaiQ/a7xBSmuiIyrynzPmGFdm
 7Ltg==
X-Gm-Message-State: AOJu0YzTH8mSFjGht5IF4hgLbQekY5h52j2JJLhMy9rcEXMF3E6pErA9
 4h+fygVGtRNbZWfGW9Mmd3Xku7kXBIrlBbN2Lsf5vSh06r8CvTdNTQo9aeujNMwcMg==
X-Google-Smtp-Source: AGHT+IFNeEr7Aq4/wpSPtsI8CI9yEPYC1f/T8tGYLZvxAfwc06+mirOSL6KCcnOE4/++GDPu5+mZBWN/MdPi
X-Received: by 2002:a6b:e51a:0:b0:7bf:34a8:3d86 with SMTP id
 y26-20020a6be51a000000b007bf34a83d86mr6817049ioc.23.1705455272240; 
 Tue, 16 Jan 2024 17:34:32 -0800 (PST)
Received: from postal.iol.unh.edu (postal.iol.unh.edu. [132.177.123.84])
 by smtp-relay.gmail.com with ESMTPS id
 p2-20020a0566022b0200b007bf2a01e227sm214091iov.30.2024.01.16.17.34.32
 (version=TLS1_2 cipher=ECDHE-ECDSA-AES128-GCM-SHA256 bits=128/128);
 Tue, 16 Jan 2024 17:34:32 -0800 (PST)
X-Relaying-Domain: iol.unh.edu
Date: Tue, 16 Jan 2024 17:34:32 -0800 (PST)
Message-ID: <65a72ea8.050a0220.c679b.d580SMTPIN_ADDED_MISSING@mx.google.com>
Received: from [172.17.0.4] (unknown [172.18.0.217])
 by postal.iol.unh.edu (Postfix) with ESMTP id BFA926043300;
 Tue, 16 Jan 2024 20:34:31 -0500 (EST)
Subject: |SUCCESS| pw135884 [PATCH] maintainers: update for e1000/igc
From: dpdklab@iol.unh.edu
To: Test Report <test-report@dpdk.org>
Cc: Simei Su <simei.su@intel.com>, dpdk-test-reports@iol.unh.edu
Content-Type: text/plain
X-BeenThere: test-report@dpdk.org
X-Mailman-Version: 2.1.29
Precedence: list
List-Id: automatic DPDK test reports <test-report.dpdk.org>
List-Unsubscribe: <https://mails.dpdk.org/options/test-report>,
 <mailto:test-report-request@dpdk.org?subject=unsubscribe>
List-Archive: <http://mails.dpdk.org/archives/test-report/>
List-Post: <mailto:test-report@dpdk.org>
List-Help: <mailto:test-report-request@dpdk.org?subject=help>
List-Subscribe: <https://mails.dpdk.org/listinfo/test-report>,
 <mailto:test-report-request@dpdk.org?subject=subscribe>
Errors-To: test-report-bounces@dpdk.org

Test-Label: iol-unit-arm64-testing
Test-Status: SUCCESS
http://dpdk.org/patch/135884

_Testing PASS_

Submitter: Simei Su <simei.su@intel.com>
Date: Tuesday, January 16 2024 07:54:18 
DPDK git baseline: Repo:dpdk
  Branch: master
  CommitID:d4af9a82063e4c39568191eaa12955d3ca39581a

135884 --> testing pass

Test environment and result as below:

+--------------------------+----------------+---------------------------+------------------------------+
|       Environment        | dpdk_unit_test | cryptodev_sw_zuc_autotest | cryptodev_sw_snow3g_autotest |
+==========================+================+===========================+==============================+
| Debian 11 (Buster) (ARM) | PASS           | SKIPPED                   | SKIPPED                      |
+--------------------------+----------------+---------------------------+------------------------------+
| Fedora 37 (ARM)          | PASS           | SKIPPED                   | SKIPPED                      |
+--------------------------+----------------+---------------------------+------------------------------+
| CentOS Stream 9 (ARM)    | PASS           | SKIPPED                   | SKIPPED                      |
+--------------------------+----------------+---------------------------+------------------------------+
| Fedora 38 (ARM)          | PASS           | SKIPPED                   | SKIPPED                      |
+--------------------------+----------------+---------------------------+------------------------------+
| Ubuntu 20.04 (ARM)       | PASS           | SKIPPED                   | SKIPPED                      |
+--------------------------+----------------+---------------------------+------------------------------+
| Fedora 38 (ARM Clang)    | PASS           | SKIPPED                   | SKIPPED                      |
+--------------------------+----------------+---------------------------+------------------------------+
| Debian 11 (arm)          | SKIPPED        | PASS                      | PASS                         |
+--------------------------+----------------+---------------------------+------------------------------+


Debian 11 (Buster) (ARM)
	Kernel: Container Host Kernel
	Compiler: gcc 10.2.1

Fedora 37 (ARM)
	Kernel: Depends on container host
	Compiler: gcc 12.3.1

CentOS Stream 9 (ARM)
	Kernel: Container Host Kernel
	Compiler: gcc 11.3.1

Fedora 38 (ARM)
	Kernel: Depends on container host
	Compiler: gcc 13.1.1

Ubuntu 20.04 (ARM)
	Kernel: Container Host Kernel
	Compiler: gcc 9.4.0

Fedora 38 (ARM Clang)
	Kernel: Depends on container host
	Compiler: clang 16.0.3

Debian 11 (arm)
	Kernel: Container Host Kernel
	Compiler: gcc 10.2.1

To view detailed results, visit:
https://lab.dpdk.org/results/dashboard/patchsets/28872/

UNH-IOL DPDK Community Lab

To manage your email subscriptions, visit: 
https://lab.dpdk.org/results/dashboard/preferences/subscriptions/