From mboxrd@z Thu Jan  1 00:00:00 1970
Return-Path: <test-report-bounces@dpdk.org>
Received: from mails.dpdk.org (mails.dpdk.org [217.70.189.124])
	by inbox.dpdk.org (Postfix) with ESMTP id 7DD7F438E9
	for <public@inbox.dpdk.org>; Wed, 17 Jan 2024 02:39:00 +0100 (CET)
Received: from mails.dpdk.org (localhost [127.0.0.1])
	by mails.dpdk.org (Postfix) with ESMTP id 763EA402A6;
	Wed, 17 Jan 2024 02:39:00 +0100 (CET)
Received: from mail-qv1-f97.google.com (mail-qv1-f97.google.com
 [209.85.219.97]) by mails.dpdk.org (Postfix) with ESMTP id 3D4FC4028B
 for <test-report@dpdk.org>; Wed, 17 Jan 2024 02:38:59 +0100 (CET)
Received: by mail-qv1-f97.google.com with SMTP id
 6a1803df08f44-6817a470730so1243476d6.3
 for <test-report@dpdk.org>; Tue, 16 Jan 2024 17:38:59 -0800 (PST)
DKIM-Signature: v=1; a=rsa-sha256; c=relaxed/relaxed;
 d=iol.unh.edu; s=unh-iol; t=1705455538; x=1706060338; darn=dpdk.org;
 h=cc:to:from:subject:message-id:date:from:to:cc:subject:date
 :message-id:reply-to;
 bh=ooD+DKAU8JPNwVJ69fh4JhOo7bi2lfCVv9aNT+GgYHM=;
 b=Mgq8B3CnIu6AE8wULSRGyH7K9gyPpb1dWlci29wt5ANrF8AOReQIb8GoiaZOXxAMzB
 YVGoIEN6eUiv1EO+xPmIwndYRk5i5ceKb6wCimj4rCo2m/5/YIUuGO7eQDTRCwED2l6g
 R+dzm9ilPXY4GmlkUszhACaRXQM1oBrmcL2Lo=
X-Google-DKIM-Signature: v=1; a=rsa-sha256; c=relaxed/relaxed;
 d=1e100.net; s=20230601; t=1705455538; x=1706060338;
 h=cc:to:from:subject:message-id:date:x-gm-message-state:from:to:cc
 :subject:date:message-id:reply-to;
 bh=ooD+DKAU8JPNwVJ69fh4JhOo7bi2lfCVv9aNT+GgYHM=;
 b=CXPNANHyDggikgV3bhktC0/o1u65RmcDHMBYm4lAR62bTm0RqENn8slqUNBR7xXUA9
 u55eG7zzkreSj60Kgc9nooZmsDBBvswN4BQfoH6SWGSGFDafmG+z5hc/JmJHnn3ns8Mr
 c416JWoOwiZpJNRKEg9ODDlIy8zx951SAlP4di43ZLIxVX7EGNH4T8w0tOx2rKhFdBV7
 vkR6XLC2PVIHj+rHHAI5fzkRcvhZ3Rqj7iV/J5cYro53mYvMrSryb074BBffwD33q9zn
 DsaH6jpVqMolbIEwEd5NfqmSWans5am1RySwMNVghUdmwvE5t6nh8U/FrGbcH0WMrmEQ
 pdBw==
X-Gm-Message-State: AOJu0Yz6R0JnLY7pr0jO7QTmJlQrZLrgDMJCIlA4pACzV0Tcy+OcXRo1
 anOonKl0glowrf5/tB4RSCK6c7zZnSWDFrB+cLAxO9WzJtd+CPFtLdVf6Gg02Sw1WsRlv7oJe/F
 hWu8Hbw==
X-Google-Smtp-Source: AGHT+IE72wLbW8OX9VZwSgfb3T0c4spkrqp/x/vLamDkGSRcD/rAr/5NEUMHxX87L3HPP96wy5HUfzoOXX18
X-Received: by 2002:a05:6214:2426:b0:681:553c:27d5 with SMTP id
 gy6-20020a056214242600b00681553c27d5mr7023088qvb.96.1705455538733; 
 Tue, 16 Jan 2024 17:38:58 -0800 (PST)
Received: from postal.iol.unh.edu (postal.iol.unh.edu.
 [2606:4100:3880:1234::84]) by smtp-relay.gmail.com with ESMTPS id
 t15-20020a0cf98f000000b006817a88541esm17415qvn.15.2024.01.16.17.38.58
 (version=TLS1_2 cipher=ECDHE-ECDSA-AES128-GCM-SHA256 bits=128/128);
 Tue, 16 Jan 2024 17:38:58 -0800 (PST)
X-Relaying-Domain: iol.unh.edu
Date: Tue, 16 Jan 2024 17:38:58 -0800 (PST)
Message-ID: <65a72fb2.0c0a0220.bd682.168eSMTPIN_ADDED_MISSING@mx.google.com>
Received: from [172.17.0.4] (unknown [172.18.0.217])
 by postal.iol.unh.edu (Postfix) with ESMTP id 6407E6043300;
 Tue, 16 Jan 2024 20:38:58 -0500 (EST)
Subject: |SUCCESS| pw135884 [PATCH] maintainers: update for e1000/igc
From: dpdklab@iol.unh.edu
To: Test Report <test-report@dpdk.org>
Cc: dpdk-test-reports@iol.unh.edu
Content-Type: text/plain
X-BeenThere: test-report@dpdk.org
X-Mailman-Version: 2.1.29
Precedence: list
List-Id: automatic DPDK test reports <test-report.dpdk.org>
List-Unsubscribe: <https://mails.dpdk.org/options/test-report>,
 <mailto:test-report-request@dpdk.org?subject=unsubscribe>
List-Archive: <http://mails.dpdk.org/archives/test-report/>
List-Post: <mailto:test-report@dpdk.org>
List-Help: <mailto:test-report-request@dpdk.org?subject=help>
List-Subscribe: <https://mails.dpdk.org/listinfo/test-report>,
 <mailto:test-report-request@dpdk.org?subject=subscribe>
Errors-To: test-report-bounces@dpdk.org

Test-Label: iol-compile-amd64-testing
Test-Status: SUCCESS
http://dpdk.org/patch/135884

_Testing PASS_

Submitter: Simei Su <simei.su@intel.com>
Date: Tuesday, January 16 2024 07:54:18 
DPDK git baseline: Repo:dpdk
  Branch: master
  CommitID:d4af9a82063e4c39568191eaa12955d3ca39581a

135884 --> testing pass

Test environment and result as below:

+---------------------+--------------------+----------------------+
|     Environment     | dpdk_meson_compile | dpdk_mingw64_compile |
+=====================+====================+======================+
| Windows Server 2022 | PASS               | SKIPPED              |
+---------------------+--------------------+----------------------+
| FreeBSD 13          | PASS               | SKIPPED              |
+---------------------+--------------------+----------------------+
| Windows Server 2019 | PASS               | PASS                 |
+---------------------+--------------------+----------------------+
| CentOS Stream 9     | PASS               | SKIPPED              |
+---------------------+--------------------+----------------------+
| Debian Bullseye     | PASS               | SKIPPED              |
+---------------------+--------------------+----------------------+
| Fedora 37           | PASS               | SKIPPED              |
+---------------------+--------------------+----------------------+
| Fedora 38           | PASS               | SKIPPED              |
+---------------------+--------------------+----------------------+
| Ubuntu 22.04        | PASS               | SKIPPED              |
+---------------------+--------------------+----------------------+
| Ubuntu 20.04        | PASS               | SKIPPED              |
+---------------------+--------------------+----------------------+
| CentOS Stream 8     | PASS               | SKIPPED              |
+---------------------+--------------------+----------------------+
| Debian Buster       | PASS               | SKIPPED              |
+---------------------+--------------------+----------------------+
| RHEL8               | PASS               | SKIPPED              |
+---------------------+--------------------+----------------------+
| openSUSE Leap 15    | PASS               | SKIPPED              |
+---------------------+--------------------+----------------------+


Windows Server 2022
	Kernel: OS Build 20348.2031
	Compiler: MSVC VS-Preview

FreeBSD 13
	Kernel: 13.0
	Compiler: clang 11.0.1

Windows Server 2019
	Kernel: 10.0
	Compiler: clang 14.0 and gcc 8.1.0 (MinGW)

CentOS Stream 9
	Kernel: 4.18.0-240.10.1.el8_3.x86_64
	Compiler: gcc 11.3.1 20220421

Debian Bullseye
	Kernel: 5.4.0-122-generic
	Compiler: gcc 10.2.1-6

Fedora 37
	Kernel: Depends on container host system
	Compiler: gcc 12.3.1

Fedora 38
	Kernel: Depends on container host
	Compiler: gcc 13.1.1

Ubuntu 22.04
	Kernel: 4.18.0-240.10.1.el8_3.x86_64
	Compiler: gcc 11.3.0

Ubuntu 20.04
	Kernel: 5.4.0-153-generic
	Compiler: gcc 9.4.0-1ubuntu1~20.04.1

CentOS Stream 8
	Kernel: 4.18.0-240.10.1.el8_3.x86_64
	Compiler: gcc 8.4.1 20200928

Debian Buster
	Kernel: 5.4.0-122-generic
	Compiler: gcc 8.3.0-6

RHEL8
	Kernel: 4.18.0-240.10.1.el8_3.x86_64
	Compiler: gcc 8.3.1 20191121 (Red Hat 8.3.1-5)

openSUSE Leap 15
	Kernel: 4.18.0-240.10.1.el8_3.x86_64
	Compiler: gcc 7.5.0

To view detailed results, visit:
https://lab.dpdk.org/results/dashboard/patchsets/28872/

UNH-IOL DPDK Community Lab

To manage your email subscriptions, visit: 
https://lab.dpdk.org/results/dashboard/preferences/subscriptions/