From mboxrd@z Thu Jan  1 00:00:00 1970
Return-Path: <test-report-bounces@dpdk.org>
Received: from mails.dpdk.org (mails.dpdk.org [217.70.189.124])
	by inbox.dpdk.org (Postfix) with ESMTP id 7E82C438E1
	for <public@inbox.dpdk.org>; Wed, 17 Jan 2024 03:33:01 +0100 (CET)
Received: from mails.dpdk.org (localhost [127.0.0.1])
	by mails.dpdk.org (Postfix) with ESMTP id 7A79240A4B;
	Wed, 17 Jan 2024 03:33:01 +0100 (CET)
Received: from mail-io1-f100.google.com (mail-io1-f100.google.com
 [209.85.166.100])
 by mails.dpdk.org (Postfix) with ESMTP id B0326402A6
 for <test-report@dpdk.org>; Wed, 17 Jan 2024 03:32:23 +0100 (CET)
Received: by mail-io1-f100.google.com with SMTP id
 ca18e2360f4ac-7ba9f1cfe94so264743739f.1
 for <test-report@dpdk.org>; Tue, 16 Jan 2024 18:32:23 -0800 (PST)
DKIM-Signature: v=1; a=rsa-sha256; c=relaxed/relaxed;
 d=iol.unh.edu; s=unh-iol; t=1705458743; x=1706063543; darn=dpdk.org;
 h=cc:to:from:subject:message-id:date:from:to:cc:subject:date
 :message-id:reply-to;
 bh=E6dvV6ur7S6GlhmW1uEAjDlhYNv7BNMUdT3eez8uLts=;
 b=Xree9C31QJRHHYmbKFKZh0ZcoutEKVSFaJxj+c5wnLyqkcU1Hx2774/JisxexjkIrk
 PHD1oZhF9+8/56pdJw+VpNKG6nWH7DFMNJG6AikIlayZ3jv0AuQIAN4KPCedMGTRavZI
 sCyxgWhLaRUbPvXYGTWRZEc6vuXbaSR6iJJTo=
X-Google-DKIM-Signature: v=1; a=rsa-sha256; c=relaxed/relaxed;
 d=1e100.net; s=20230601; t=1705458743; x=1706063543;
 h=cc:to:from:subject:message-id:date:x-gm-message-state:from:to:cc
 :subject:date:message-id:reply-to;
 bh=E6dvV6ur7S6GlhmW1uEAjDlhYNv7BNMUdT3eez8uLts=;
 b=eV6gco22IpjhkviuNnfMFG5QBf74IgN3Vr+YMEgKwNasQqjkennWrNO/v/ad/5GTyn
 yWI3FUJEYiSi6Jdrsuy3NWYKydIPmdoAGhVxOYhvEDQoIJT5dWfbGqIXwzCxmfFXZBxZ
 lwFI+Ulc2HC8FKbYKf+F4GY8Ze9U7/o1NfrCYTCK7rM85CDNihnE5fANfIjeAqzSB3/V
 f88EyGyzXJitXpA/up5h+xuLa7eR4FRZDSsAUTqxOpL8c7Xo/O49um5r28eY71TbC/58
 YEp2PBf+ktZBVO/ywA5WI4MiC5JZe2CkGNDGTyfo1+5eEysAi7dDlinLrymzg2EM2oFW
 vavQ==
X-Gm-Message-State: AOJu0YxS0lO4i4XFFivNW3hZ18NqdS+ZDNjjSZxbS+6CqVzX30UkfsPC
 cRMDkLvbhW1HO6oB3if43GMJm7hgzBb2JaVZp7grM1vCnEELLxrpjO31Fn/QCoCTatUDlfR/AD2
 REgQRdunUrpiARQYKurJ/rScCNkytDyNMMbl8imd1
X-Google-Smtp-Source: AGHT+IG/bCvrqTiP1KeTIU6DOfX0Du9IjrulKuwYhzJ57LGzOGfVl500Id2VGaMxjit9R64nDg4mFXlxAYa/
X-Received: by 2002:a05:6e02:1b81:b0:360:7deb:8ae4 with SMTP id
 h1-20020a056e021b8100b003607deb8ae4mr102755ili.9.1705458743206; 
 Tue, 16 Jan 2024 18:32:23 -0800 (PST)
Received: from postal.iol.unh.edu (postal.iol.unh.edu. [132.177.123.84])
 by smtp-relay.gmail.com with ESMTPS id
 g2-20020a02b702000000b0046e6115f4bbsm14838jam.68.2024.01.16.18.32.23
 (version=TLS1_2 cipher=ECDHE-ECDSA-AES128-GCM-SHA256 bits=128/128);
 Tue, 16 Jan 2024 18:32:23 -0800 (PST)
X-Relaying-Domain: iol.unh.edu
Date: Tue, 16 Jan 2024 18:32:23 -0800 (PST)
Message-ID: <65a73c37.020a0220.132ff.1271SMTPIN_ADDED_MISSING@mx.google.com>
Received: from [172.21.0.9] (unknown [172.18.0.240])
 by postal.iol.unh.edu (Postfix) with ESMTP id A6F246043300;
 Tue, 16 Jan 2024 21:32:22 -0500 (EST)
Subject: |SUCCESS| pw135884 [PATCH] maintainers: update for e1000/igc
From: dpdklab@iol.unh.edu
To: Test Report <test-report@dpdk.org>
Cc: dpdk-test-reports@iol.unh.edu
Content-Type: text/plain
X-BeenThere: test-report@dpdk.org
X-Mailman-Version: 2.1.29
Precedence: list
List-Id: automatic DPDK test reports <test-report.dpdk.org>
List-Unsubscribe: <https://mails.dpdk.org/options/test-report>,
 <mailto:test-report-request@dpdk.org?subject=unsubscribe>
List-Archive: <http://mails.dpdk.org/archives/test-report/>
List-Post: <mailto:test-report@dpdk.org>
List-Help: <mailto:test-report-request@dpdk.org?subject=help>
List-Subscribe: <https://mails.dpdk.org/listinfo/test-report>,
 <mailto:test-report-request@dpdk.org?subject=subscribe>
Errors-To: test-report-bounces@dpdk.org

Test-Label: iol-compile-arm64-testing
Test-Status: SUCCESS
http://dpdk.org/patch/135884

_Testing PASS_

Submitter: Simei Su <simei.su@intel.com>
Date: Tuesday, January 16 2024 07:54:18 
DPDK git baseline: Repo:dpdk
  Branch: master
  CommitID:d4af9a82063e4c39568191eaa12955d3ca39581a

135884 --> testing pass

Test environment and result as below:

+----------------------------------------+--------------------+
|              Environment               | dpdk_meson_compile |
+========================================+====================+
| Ubuntu 20.04 ARM SVE                   | PASS               |
+----------------------------------------+--------------------+
| Fedora 37 (ARM)                        | PASS               |
+----------------------------------------+--------------------+
| CentOS Stream 9 (ARM)                  | PASS               |
+----------------------------------------+--------------------+
| Fedora 38 (ARM)                        | PASS               |
+----------------------------------------+--------------------+
| Ubuntu 20.04 (ARM)                     | PASS               |
+----------------------------------------+--------------------+
| Debian 11 (Buster) (ARM)               | PASS               |
+----------------------------------------+--------------------+
| Ubuntu 20.04 ARM GCC Cross Compile     | PASS               |
+----------------------------------------+--------------------+
| Ubuntu 20.04 aarch32 GCC Cross Compile | PASS               |
+----------------------------------------+--------------------+
| Ubuntu 20.04 ARM Clang Cross Compile   | PASS               |
+----------------------------------------+--------------------+
| Fedora 38 (ARM Clang)                  | PASS               |
+----------------------------------------+--------------------+


Ubuntu 20.04 ARM SVE
	Kernel: 5.4.0-80-generic
	Compiler: gcc 10.3.0 (Ubuntu 10.3.0-1ubuntu1~20.04)

Fedora 37 (ARM)
	Kernel: Depends on container host
	Compiler: gcc 12.3.1

CentOS Stream 9 (ARM)
	Kernel: Container Host Kernel
	Compiler: gcc 11.3.1

Fedora 38 (ARM)
	Kernel: Depends on container host
	Compiler: gcc 13.1.1

Ubuntu 20.04 (ARM)
	Kernel: Container Host Kernel
	Compiler: gcc 9.4.0

Debian 11 (Buster) (ARM)
	Kernel: Container Host Kernel
	Compiler: gcc 10.2.1

Ubuntu 20.04 ARM GCC Cross Compile
	Kernel: 5.4.0-72-generic
	Compiler: aarch64-linux-gnu-gcc (Ubuntu 9.3.0-17ubuntu1~20.04) 9.3.0

Ubuntu 20.04 aarch32 GCC Cross Compile
	Kernel: 5.4.0-72-generic
	Compiler: gcc 9.3.0

Ubuntu 20.04 ARM Clang Cross Compile
	Kernel: 5.4.0-72-generic
	Compiler: clang version 10.0.0-4ubuntu1

Fedora 38 (ARM Clang)
	Kernel: Depends on container host
	Compiler: clang 16.0.3

To view detailed results, visit:
https://lab.dpdk.org/results/dashboard/patchsets/28872/

UNH-IOL DPDK Community Lab

To manage your email subscriptions, visit: 
https://lab.dpdk.org/results/dashboard/preferences/subscriptions/