From mboxrd@z Thu Jan  1 00:00:00 1970
Return-Path: <test-report-bounces@dpdk.org>
Received: from mails.dpdk.org (mails.dpdk.org [217.70.189.124])
	by inbox.dpdk.org (Postfix) with ESMTP id 57CBF438ED
	for <public@inbox.dpdk.org>; Thu, 18 Jan 2024 09:50:58 +0100 (CET)
Received: from mails.dpdk.org (localhost [127.0.0.1])
	by mails.dpdk.org (Postfix) with ESMTP id 5118B402B0;
	Thu, 18 Jan 2024 09:50:58 +0100 (CET)
Received: from mail-oi1-f225.google.com (mail-oi1-f225.google.com
 [209.85.167.225])
 by mails.dpdk.org (Postfix) with ESMTP id B0979400D7
 for <test-report@dpdk.org>; Thu, 18 Jan 2024 09:50:53 +0100 (CET)
Received: by mail-oi1-f225.google.com with SMTP id
 5614622812f47-3bba50cd318so10095957b6e.0
 for <test-report@dpdk.org>; Thu, 18 Jan 2024 00:50:53 -0800 (PST)
DKIM-Signature: v=1; a=rsa-sha256; c=relaxed/relaxed;
 d=iol.unh.edu; s=unh-iol; t=1705567853; x=1706172653; darn=dpdk.org;
 h=cc:to:from:subject:message-id:date:from:to:cc:subject:date
 :message-id:reply-to;
 bh=0WjKyWEZu/AuqyfOdYJmVCZzwVFZ+09H2MfAqWP6h1A=;
 b=Mal2v+41pVlPaPlhQEgH0Tm9U/p9TDN2lzkqK9/NLfBNCGV9x8FAvxYpPZL60HFuwA
 z4McZi5ktNfxlpThhXC47faUAXpNj4LOUWFvBr6oCikA47fMFz24/R8nlY6oq63pH3X9
 C+P83SmI3FVeyrByIo/o8QMqMkTKabDDezzTY=
X-Google-DKIM-Signature: v=1; a=rsa-sha256; c=relaxed/relaxed;
 d=1e100.net; s=20230601; t=1705567853; x=1706172653;
 h=cc:to:from:subject:message-id:date:x-gm-message-state:from:to:cc
 :subject:date:message-id:reply-to;
 bh=0WjKyWEZu/AuqyfOdYJmVCZzwVFZ+09H2MfAqWP6h1A=;
 b=Dnzof+lh8Tn2+K4IGn+67A5G//HdZtWJSbjN79sWKAGPws6sjOqTGxNz97eOW8XpX1
 QJPyi8PcEmHe0z/3vq/6CY+971c+25W3m86fqO5NeGrjDVaJD4Ixu4kvSHQoWZn9TxJp
 poVsQZalI7MGzwUvsO3cM2ONXTAZ4tf5OunCjNdHpynmoIHG23GVMH6cKkSGZcoZmadm
 YRTdxMGVZLov4NI8DpI9PD4TWCkt5CgpXlZEAlQtoXXdNUi2d/4lX1EvNMeBNE14CR1L
 D/Tf7L3y9Lp7RsMg+u9HlBmgtbRDxQW0AEOwCi1yHyQqRLC/1ZH2wG52hKx6OZuYuBP/
 Scgg==
X-Gm-Message-State: AOJu0YwEBU8fu+B+EpKKcI8UMJvhaMoCycn6TWKA4dcPBSWIV82K2BNu
 /qxXAW3LoLTOm8OXL4rFXC2jlKVBPjn1+cLzqd9EP9NJ8/PIGx2MzyDQ/4m5n4CeM59HdVqA8WT
 p5QkVuIzRSPgj71LN9OPYFOWjsxqFe2c4n5rOij4C
X-Google-Smtp-Source: AGHT+IFZVJt1B62LPjtMRm3B47EBjidmxUepFj+rdhhHK+kn/t1iDI3KxhO3Zw+6sHLiqAElT03QOgb8qxSZ
X-Received: by 2002:a05:6871:6e03:b0:210:799a:5b5d with SMTP id
 du3-20020a0568716e0300b00210799a5b5dmr356220oac.109.1705567853030; 
 Thu, 18 Jan 2024 00:50:53 -0800 (PST)
Received: from postal.iol.unh.edu (postal.iol.unh.edu. [132.177.123.84])
 by smtp-relay.gmail.com with ESMTPS id
 lv25-20020a056871319900b00210c6dbebfesm10733oac.7.2024.01.18.00.50.52
 (version=TLS1_2 cipher=ECDHE-ECDSA-AES128-GCM-SHA256 bits=128/128);
 Thu, 18 Jan 2024 00:50:53 -0800 (PST)
X-Relaying-Domain: iol.unh.edu
Date: Thu, 18 Jan 2024 00:50:53 -0800 (PST)
Message-ID: <65a8e66d.050a0220.80e5b.0e4aSMTPIN_ADDED_MISSING@mx.google.com>
Received: from [172.21.0.2] (unknown [172.18.0.240])
 by postal.iol.unh.edu (Postfix) with ESMTP id A47486052515;
 Thu, 18 Jan 2024 03:50:52 -0500 (EST)
Subject: |SUCCESS| pw135901 [PATCH] [v4] dts: add Dockerfile
From: dpdklab@iol.unh.edu
To: Test Report <test-report@dpdk.org>
Cc: Jeremy Spewock <jspewock@iol.unh.edu>, dpdk-test-reports@iol.unh.edu
Content-Type: text/plain
X-BeenThere: test-report@dpdk.org
X-Mailman-Version: 2.1.29
Precedence: list
List-Id: automatic DPDK test reports <test-report.dpdk.org>
List-Unsubscribe: <https://mails.dpdk.org/options/test-report>,
 <mailto:test-report-request@dpdk.org?subject=unsubscribe>
List-Archive: <http://mails.dpdk.org/archives/test-report/>
List-Post: <mailto:test-report@dpdk.org>
List-Help: <mailto:test-report-request@dpdk.org?subject=help>
List-Subscribe: <https://mails.dpdk.org/listinfo/test-report>,
 <mailto:test-report-request@dpdk.org?subject=subscribe>
Errors-To: test-report-bounces@dpdk.org

Test-Label: iol-unit-arm64-testing
Test-Status: SUCCESS
http://dpdk.org/patch/135901

_Testing PASS_

Submitter: Jeremy Spewock <jspewock@iol.unh.edu>
Date: Tuesday, January 16 2024 19:18:14 
DPDK git baseline: Repo:dpdk
  Branch: master
  CommitID:d4af9a82063e4c39568191eaa12955d3ca39581a

135901 --> testing pass

Test environment and result as below:

+--------------------------+----------------+---------------------------+------------------------------+
|       Environment        | dpdk_unit_test | cryptodev_sw_zuc_autotest | cryptodev_sw_snow3g_autotest |
+==========================+================+===========================+==============================+
| Fedora 37 (ARM)          | PASS           | SKIPPED                   | SKIPPED                      |
+--------------------------+----------------+---------------------------+------------------------------+
| CentOS Stream 9 (ARM)    | PASS           | SKIPPED                   | SKIPPED                      |
+--------------------------+----------------+---------------------------+------------------------------+
| Fedora 38 (ARM)          | PASS           | SKIPPED                   | SKIPPED                      |
+--------------------------+----------------+---------------------------+------------------------------+
| Debian 11 (Buster) (ARM) | PASS           | SKIPPED                   | SKIPPED                      |
+--------------------------+----------------+---------------------------+------------------------------+
| Ubuntu 20.04 (ARM)       | PASS           | SKIPPED                   | SKIPPED                      |
+--------------------------+----------------+---------------------------+------------------------------+
| Debian 11 (arm)          | SKIPPED        | PASS                      | PASS                         |
+--------------------------+----------------+---------------------------+------------------------------+


Fedora 37 (ARM)
	Kernel: Depends on container host
	Compiler: gcc 12.3.1

CentOS Stream 9 (ARM)
	Kernel: Container Host Kernel
	Compiler: gcc 11.3.1

Fedora 38 (ARM)
	Kernel: Depends on container host
	Compiler: gcc 13.1.1

Debian 11 (Buster) (ARM)
	Kernel: Container Host Kernel
	Compiler: gcc 10.2.1

Ubuntu 20.04 (ARM)
	Kernel: Container Host Kernel
	Compiler: gcc 9.4.0

Debian 11 (arm)
	Kernel: Container Host Kernel
	Compiler: gcc 10.2.1

To view detailed results, visit:
https://lab.dpdk.org/results/dashboard/patchsets/28879/

UNH-IOL DPDK Community Lab

To manage your email subscriptions, visit: 
https://lab.dpdk.org/results/dashboard/preferences/subscriptions/