From mboxrd@z Thu Jan  1 00:00:00 1970
Return-Path: <test-report-bounces@dpdk.org>
Received: from mails.dpdk.org (mails.dpdk.org [217.70.189.124])
	by inbox.dpdk.org (Postfix) with ESMTP id 00E43438F1
	for <public@inbox.dpdk.org>; Thu, 18 Jan 2024 11:50:25 +0100 (CET)
Received: from mails.dpdk.org (localhost [127.0.0.1])
	by mails.dpdk.org (Postfix) with ESMTP id F0D8140E2D;
	Thu, 18 Jan 2024 11:50:24 +0100 (CET)
Received: from mail-pl1-f228.google.com (mail-pl1-f228.google.com
 [209.85.214.228])
 by mails.dpdk.org (Postfix) with ESMTP id 1BE2E40DF5
 for <test-report@dpdk.org>; Thu, 18 Jan 2024 11:50:23 +0100 (CET)
Received: by mail-pl1-f228.google.com with SMTP id
 d9443c01a7336-1d5db9eb0e7so23332995ad.2
 for <test-report@dpdk.org>; Thu, 18 Jan 2024 02:50:23 -0800 (PST)
DKIM-Signature: v=1; a=rsa-sha256; c=relaxed/relaxed;
 d=iol.unh.edu; s=unh-iol; t=1705575022; x=1706179822; darn=dpdk.org;
 h=cc:to:from:subject:message-id:date:from:to:cc:subject:date
 :message-id:reply-to;
 bh=4n0ILn5ExEkxmt8NL+Xoiyxzw0E4YAzGfkl/GBvSW8w=;
 b=C9ai8Cc34p0Pu0O49Hb0DX43WYklJbSpiFF/zC/mqqOScg+4lOfvfytMb5Oh4U+1LD
 uF+xxQ/2GHS9Y4u3Ee9qcIVShcVCq9NV/mypavE0VT2GvcsRfB4GdPTL4RdYyVn3zVf8
 iIF12m3BCoVW2iSBABH1VtgSdxkUNnwUdaXaw=
X-Google-DKIM-Signature: v=1; a=rsa-sha256; c=relaxed/relaxed;
 d=1e100.net; s=20230601; t=1705575022; x=1706179822;
 h=cc:to:from:subject:message-id:date:x-gm-message-state:from:to:cc
 :subject:date:message-id:reply-to;
 bh=4n0ILn5ExEkxmt8NL+Xoiyxzw0E4YAzGfkl/GBvSW8w=;
 b=jO1TRo3BJwnF74VZ/wmnWBb1zL3JJpcDQDsId5BX2p8WfYk8/AmHUeuRMPOgeJz9aj
 a+F9TuffqwQ/wghg5jNbMH87IViW/d1ngDdHGidD0dG7SWW0tq9bCK1omVTkicVykhnd
 XK3dyRcaOFt3fYF2MX2k6lW+jPk+gedoUjNr2F+949j5bdrvuMpAlwMKFyHLYikVl2bf
 u0/f0jw3juwisQGqqgUakJreag/WHiOGJh4uGToVMZ3moMpvt5prNfsPuNDdp3aTq+33
 SFOK4X4LEDWOs8tHbKQbzDSh0rZmJAD6e6QunRrgwb3V4s3jxYY+JuhjmwEjWBQCDgCa
 9Q8A==
X-Gm-Message-State: AOJu0YzUWjeqBnjW8EaFPswVAUbsivSj6WzaPdmlqbN2L7RqyvetZ92S
 7VyDA+JCFFwRKElHSafTTeg8cnYtSPsejv0fzRZE/JBGQey30kHQMtK5WRSl/BQ926XIgyTaaw8
 L8usYcAnKmomuyGncJzSzcb/1RRg+g4POmWHDdBr8
X-Google-Smtp-Source: AGHT+IGmUAHLec9p7zSnoW+L7seoOV3cBsy5bF4ZIRYWtonzEZf5exKmRiamJrSnung2qfLc8/Qb300kiFY0
X-Received: by 2002:a17:902:ec86:b0:1d4:4f4d:38cd with SMTP id
 x6-20020a170902ec8600b001d44f4d38cdmr697952plg.38.1705575022282; 
 Thu, 18 Jan 2024 02:50:22 -0800 (PST)
Received: from postal.iol.unh.edu (postal.iol.unh.edu. [132.177.123.84])
 by smtp-relay.gmail.com with ESMTPS id
 jc5-20020a17090325c500b001d507ff7a2asm55684plb.13.2024.01.18.02.50.22
 (version=TLS1_2 cipher=ECDHE-ECDSA-AES128-GCM-SHA256 bits=128/128);
 Thu, 18 Jan 2024 02:50:22 -0800 (PST)
X-Relaying-Domain: iol.unh.edu
Date: Thu, 18 Jan 2024 02:50:22 -0800 (PST)
Message-ID: <65a9026e.170a0220.4480c.3b09SMTPIN_ADDED_MISSING@mx.google.com>
Received: from [172.21.0.2] (unknown [172.18.0.240])
 by postal.iol.unh.edu (Postfix) with ESMTP id 7D5366052516;
 Thu, 18 Jan 2024 05:50:21 -0500 (EST)
Subject: |SUCCESS| pw135901 [PATCH] [v4] dts: add Dockerfile
From: dpdklab@iol.unh.edu
To: Test Report <test-report@dpdk.org>
Cc: dpdk-test-reports@iol.unh.edu
Content-Type: text/plain
X-BeenThere: test-report@dpdk.org
X-Mailman-Version: 2.1.29
Precedence: list
List-Id: automatic DPDK test reports <test-report.dpdk.org>
List-Unsubscribe: <https://mails.dpdk.org/options/test-report>,
 <mailto:test-report-request@dpdk.org?subject=unsubscribe>
List-Archive: <http://mails.dpdk.org/archives/test-report/>
List-Post: <mailto:test-report@dpdk.org>
List-Help: <mailto:test-report-request@dpdk.org?subject=help>
List-Subscribe: <https://mails.dpdk.org/listinfo/test-report>,
 <mailto:test-report-request@dpdk.org?subject=subscribe>
Errors-To: test-report-bounces@dpdk.org

Test-Label: iol-unit-amd64-testing
Test-Status: SUCCESS
http://dpdk.org/patch/135901

_Testing PASS_

Submitter: Jeremy Spewock <jspewock@iol.unh.edu>
Date: Tuesday, January 16 2024 19:18:14 
DPDK git baseline: Repo:dpdk
  Branch: master
  CommitID:d4af9a82063e4c39568191eaa12955d3ca39581a

135901 --> testing pass

Test environment and result as below:

+---------------------+----------------+
|     Environment     | dpdk_unit_test |
+=====================+================+
| Windows Server 2019 | PASS           |
+---------------------+----------------+
| CentOS Stream 9     | PASS           |
+---------------------+----------------+
| CentOS Stream 8     | PASS           |
+---------------------+----------------+


Windows Server 2019
	Kernel: 10.0
	Compiler: clang 14.0 and gcc 8.1.0 (MinGW)

CentOS Stream 9
	Kernel: 4.18.0-240.10.1.el8_3.x86_64
	Compiler: gcc 11.3.1 20220421

CentOS Stream 8
	Kernel: 4.18.0-240.10.1.el8_3.x86_64
	Compiler: gcc 8.4.1 20200928

To view detailed results, visit:
https://lab.dpdk.org/results/dashboard/patchsets/28879/

UNH-IOL DPDK Community Lab

To manage your email subscriptions, visit: 
https://lab.dpdk.org/results/dashboard/preferences/subscriptions/