From mboxrd@z Thu Jan  1 00:00:00 1970
Return-Path: <test-report-bounces@dpdk.org>
Received: from mails.dpdk.org (mails.dpdk.org [217.70.189.124])
	by inbox.dpdk.org (Postfix) with ESMTP id 33331439BB
	for <public@inbox.dpdk.org>; Thu, 25 Jan 2024 03:09:05 +0100 (CET)
Received: from mails.dpdk.org (localhost [127.0.0.1])
	by mails.dpdk.org (Postfix) with ESMTP id 2D07040275;
	Thu, 25 Jan 2024 03:09:05 +0100 (CET)
Received: from mail-pl1-f226.google.com (mail-pl1-f226.google.com
 [209.85.214.226])
 by mails.dpdk.org (Postfix) with ESMTP id C0DB44026C
 for <test-report@dpdk.org>; Thu, 25 Jan 2024 03:09:03 +0100 (CET)
Received: by mail-pl1-f226.google.com with SMTP id
 d9443c01a7336-1d731314e67so23263795ad.1
 for <test-report@dpdk.org>; Wed, 24 Jan 2024 18:09:03 -0800 (PST)
DKIM-Signature: v=1; a=rsa-sha256; c=relaxed/relaxed;
 d=iol.unh.edu; s=unh-iol; t=1706148543; x=1706753343; darn=dpdk.org;
 h=cc:to:from:subject:message-id:date:from:to:cc:subject:date
 :message-id:reply-to;
 bh=YQ5OTfO05wltQVSvnk+i7IrrM0OgmGLMc7pIcKBH4u4=;
 b=jiMtsKN6UHoGv4eK3tGSsZHa4tXmseHqEWOUAetM1NZRcszueo4yeiC6eWRLEjdYTm
 LgW6HVqYNsfbTNn1u18cJccug+vBPnvMfAMfqPNFWhYo6XCj9fJoLSXLCHA31wnzN6Fi
 brOSQRz4PijrlmoujmUJDdrZPZ/E6li3mfVBs=
X-Google-DKIM-Signature: v=1; a=rsa-sha256; c=relaxed/relaxed;
 d=1e100.net; s=20230601; t=1706148543; x=1706753343;
 h=cc:to:from:subject:message-id:date:x-gm-message-state:from:to:cc
 :subject:date:message-id:reply-to;
 bh=YQ5OTfO05wltQVSvnk+i7IrrM0OgmGLMc7pIcKBH4u4=;
 b=j11G9Kukgu3xHN/ommjDSsq1xdO3Zt83uTcgJbpxODMAJZLVn4NX46OmaxGKDPkarj
 CFuSuyVQ+rZMWd7ZhaaY5hH5qYVSG1Oll8nCB+QGW5aC4F4gyi1iLDxzxV9Jn9jLiwnj
 B3PqyFrDTJCNbC0hCNUNnwNEUnKx41gHNSh0LjXTB69roOio9kkkL70/lHlLUUZrZ5Js
 Z0p+YM/1JgzbTSzUUamguz1rAG1KI6cLwTVf92m1JIfnBHfK52ZosFz0cU0Owju5RBQI
 Xdi70JY6bJ2NQPy7P97FWnpvVTeu1DtAK6/Kqs5tjvFb8Xt1WvtnooKs+xkbRg7g+1yF
 03zA==
X-Gm-Message-State: AOJu0YyNQSRdxQNoIRzWFI0VKdIaEU8BVCuC0Swjo9BoYGZvNQLK+XVn
 J6s3+ENkcRqKcJlPOac8tlLXedBnr92QPlL/Ssm94rHcQO31dB+0C2VvbHJTzqFS/gVD1CMCeN2
 /QvwqDMRr83eR+qzUptpe8SVe3pQjZpmiD6ZsFh8+
X-Google-Smtp-Source: AGHT+IFznMRsJpLh+eQoJzdPAmqCBcbvFwSOVGlvP4Tx0Blo9153LvglMi3pPaOvaxNdZcmhIfev9wxR8JcT
X-Received: by 2002:a17:902:b704:b0:1d7:7133:1850 with SMTP id
 d4-20020a170902b70400b001d771331850mr196038pls.75.1706148542849; 
 Wed, 24 Jan 2024 18:09:02 -0800 (PST)
Received: from postal.iol.unh.edu (postal.iol.unh.edu. [132.177.123.84])
 by smtp-relay.gmail.com with ESMTPS id
 t3-20020a170902bc4300b001d7270a15absm291375plz.110.2024.01.24.18.09.02
 (version=TLS1_2 cipher=ECDHE-ECDSA-AES128-GCM-SHA256 bits=128/128);
 Wed, 24 Jan 2024 18:09:02 -0800 (PST)
X-Relaying-Domain: iol.unh.edu
Date: Wed, 24 Jan 2024 18:09:02 -0800 (PST)
Message-ID: <65b1c2be.170a0220.c088d.1a9bSMTPIN_ADDED_MISSING@mx.google.com>
Received: from [172.21.0.2] (unknown [172.18.0.240])
 by postal.iol.unh.edu (Postfix) with ESMTP id 05FF26043481;
 Wed, 24 Jan 2024 21:09:02 -0500 (EST)
Subject: |SUCCESS| pw136121-136129 [PATCH] [9/9] security: use C11 alignof
From: dpdklab@iol.unh.edu
To: Test Report <test-report@dpdk.org>
Cc: dpdk-test-reports@iol.unh.edu
Content-Type: text/plain
X-BeenThere: test-report@dpdk.org
X-Mailman-Version: 2.1.29
Precedence: list
List-Id: automatic DPDK test reports <test-report.dpdk.org>
List-Unsubscribe: <https://mails.dpdk.org/options/test-report>,
 <mailto:test-report-request@dpdk.org?subject=unsubscribe>
List-Archive: <http://mails.dpdk.org/archives/test-report/>
List-Post: <mailto:test-report@dpdk.org>
List-Help: <mailto:test-report-request@dpdk.org?subject=help>
List-Subscribe: <https://mails.dpdk.org/listinfo/test-report>,
 <mailto:test-report-request@dpdk.org?subject=subscribe>
Errors-To: test-report-bounces@dpdk.org

Test-Label: iol-compile-arm64-testing
Test-Status: SUCCESS
http://dpdk.org/patch/136129

_Testing PASS_

Submitter: Tyler Retzlaff <roretzla@linux.microsoft.com>
Date: Wednesday, January 24 2024 23:17:56 
DPDK git baseline: Repo:dpdk
  Branch: master
  CommitID:2ecc673e5e9a19850ba76d6a976596890f2dade1

136121-136129 --> testing pass

Test environment and result as below:

+----------------------------------------+--------------------+
|              Environment               | dpdk_meson_compile |
+========================================+====================+
| Ubuntu 20.04 ARM SVE                   | PASS               |
+----------------------------------------+--------------------+
| Fedora 37 (ARM)                        | PASS               |
+----------------------------------------+--------------------+
| Debian 11 (Buster) (ARM)               | PASS               |
+----------------------------------------+--------------------+
| Ubuntu 20.04 (ARM)                     | PASS               |
+----------------------------------------+--------------------+
| Fedora 38 (ARM)                        | PASS               |
+----------------------------------------+--------------------+
| Ubuntu 20.04 aarch32 GCC Cross Compile | PASS               |
+----------------------------------------+--------------------+
| CentOS Stream 9 (ARM)                  | PASS               |
+----------------------------------------+--------------------+


Ubuntu 20.04 ARM SVE
	Kernel: 5.4.0-80-generic
	Compiler: gcc 10.3.0 (Ubuntu 10.3.0-1ubuntu1~20.04)

Fedora 37 (ARM)
	Kernel: Depends on container host
	Compiler: gcc 12.3.1

Debian 11 (Buster) (ARM)
	Kernel: Container Host Kernel
	Compiler: gcc 10.2.1

Ubuntu 20.04 (ARM)
	Kernel: Container Host Kernel
	Compiler: gcc 9.4.0

Fedora 38 (ARM)
	Kernel: Depends on container host
	Compiler: gcc 13.1.1

Ubuntu 20.04 aarch32 GCC Cross Compile
	Kernel: 5.4.0-72-generic
	Compiler: gcc 9.3.0

CentOS Stream 9 (ARM)
	Kernel: Container Host Kernel
	Compiler: gcc 11.3.1

To view detailed results, visit:
https://lab.dpdk.org/results/dashboard/patchsets/28959/

UNH-IOL DPDK Community Lab

To manage your email subscriptions, visit: 
https://lab.dpdk.org/results/dashboard/preferences/subscriptions/