From mboxrd@z Thu Jan  1 00:00:00 1970
Return-Path: <test-report-bounces@dpdk.org>
Received: from mails.dpdk.org (mails.dpdk.org [217.70.189.124])
	by inbox.dpdk.org (Postfix) with ESMTP id 5BE6F43A4C
	for <public@inbox.dpdk.org>; Fri,  2 Feb 2024 09:39:59 +0100 (CET)
Received: from mails.dpdk.org (localhost [127.0.0.1])
	by mails.dpdk.org (Postfix) with ESMTP id 584024026E;
	Fri,  2 Feb 2024 09:39:59 +0100 (CET)
Received: from mail-pf1-f227.google.com (mail-pf1-f227.google.com
 [209.85.210.227])
 by mails.dpdk.org (Postfix) with ESMTP id D34184021D
 for <test-report@dpdk.org>; Fri,  2 Feb 2024 09:39:58 +0100 (CET)
Received: by mail-pf1-f227.google.com with SMTP id
 d2e1a72fcca58-6de0f53f8e8so2343863b3a.0
 for <test-report@dpdk.org>; Fri, 02 Feb 2024 00:39:58 -0800 (PST)
DKIM-Signature: v=1; a=rsa-sha256; c=relaxed/relaxed;
 d=iol.unh.edu; s=unh-iol; t=1706863198; x=1707467998; darn=dpdk.org;
 h=cc:to:from:subject:message-id:date:from:to:cc:subject:date
 :message-id:reply-to;
 bh=6Z8bwALN3nusgxtKWA7tPm5Fww3OqQIpeWzPuNtUG3w=;
 b=KOEXGgjP3VIg+G8mDHx+8lpMZxjxyllMyyWhdIm72XC6WWfQbWUTb5P4H5wWObon7F
 2NZAMKvyl1/dg0VMmvpjb3YNi1MjxiUqUY8hHucB8I5cvACb12HCdsnNevZbhggssms7
 9wkob6l+/UOlMQ9ac1MDDk0vU4uanJ50/qKLE=
X-Google-DKIM-Signature: v=1; a=rsa-sha256; c=relaxed/relaxed;
 d=1e100.net; s=20230601; t=1706863198; x=1707467998;
 h=cc:to:from:subject:message-id:date:x-gm-message-state:from:to:cc
 :subject:date:message-id:reply-to;
 bh=6Z8bwALN3nusgxtKWA7tPm5Fww3OqQIpeWzPuNtUG3w=;
 b=YLpIe8o7//iF/Tdk6d3rEz//CyKobA7PA3/VJhmijgziOB0BvByomXwuPXjZtTIk2u
 Dk3QHYnXCYvSOuY4+iEOHHHNxvKdpA8R+i/qsvlM1t7k2SbHP1asWX1+0jUB0FgKQjGv
 9VBzDYwzFVavD4xzvPlbcWpr6r8ePwWWCrOm+pIqjsvLesnGsy5W1HDqCc6XesNtaYAd
 iNuRQ/26rFOG2YJZWRJoq3kKAywfWL8S8cSYm2BaJXaTdzhMbO4WlaIU8d0L01bldf0o
 qkUx1IPXO6JpUEa/Ut3fnVOfFKWYI5svYXCAKJlGprU/PEn8beEOBSQdJSFuNnByWJqe
 a6Bg==
X-Gm-Message-State: AOJu0YyDtxPvpQVCPQEhGmwbpoYgb1Mymn91DMly5YfJkL/CCT1ebF/6
 hciQBIK1GDPZ5bD//30DRIbFo9ss4DC+wyIIQD24P5a0VJ1m6XPn6TgfEUXYpPNfhSpCOXSiBzQ
 ZeAjH9/+QL20h+O1lF/LgLL4JimZ3KNuFPp3xuHjf
X-Google-Smtp-Source: AGHT+IEjt7nEmQsSRAAvTN7gy9FUGDY0pPVOYO6yY/255Bosjau7Vbk7uFIqf+4StNklbWkGczA2v2ZQrCYs
X-Received: by 2002:a05:6a20:bea7:b0:19c:9d7a:d59b with SMTP id
 gf39-20020a056a20bea700b0019c9d7ad59bmr1710547pzb.18.1706863197905; 
 Fri, 02 Feb 2024 00:39:57 -0800 (PST)
Received: from postal.iol.unh.edu (postal.iol.unh.edu. [132.177.123.84])
 by smtp-relay.gmail.com with ESMTPS id
 c11-20020a056a00008b00b006d9ac8633fasm36523pfj.26.2024.02.02.00.39.57
 (version=TLS1_2 cipher=ECDHE-ECDSA-AES128-GCM-SHA256 bits=128/128);
 Fri, 02 Feb 2024 00:39:57 -0800 (PST)
X-Relaying-Domain: iol.unh.edu
Date: Fri, 02 Feb 2024 00:39:57 -0800 (PST)
Message-ID: <65bcaa5d.050a0220.3b55c.27aaSMTPIN_ADDED_MISSING@mx.google.com>
Received: from [172.21.0.2] (unknown [172.18.0.240])
 by postal.iol.unh.edu (Postfix) with ESMTP id 18FE86052516;
 Fri,  2 Feb 2024 03:39:57 -0500 (EST)
Subject: |SUCCESS| pw136304 [PATCH] net/cnxk: fix aged flows query
From: dpdklab@iol.unh.edu
To: Test Report <test-report@dpdk.org>
Cc: dpdk-test-reports@iol.unh.edu
Content-Type: text/plain
X-BeenThere: test-report@dpdk.org
X-Mailman-Version: 2.1.29
Precedence: list
List-Id: automatic DPDK test reports <test-report.dpdk.org>
List-Unsubscribe: <https://mails.dpdk.org/options/test-report>,
 <mailto:test-report-request@dpdk.org?subject=unsubscribe>
List-Archive: <http://mails.dpdk.org/archives/test-report/>
List-Post: <mailto:test-report@dpdk.org>
List-Help: <mailto:test-report-request@dpdk.org?subject=help>
List-Subscribe: <https://mails.dpdk.org/listinfo/test-report>,
 <mailto:test-report-request@dpdk.org?subject=subscribe>
Errors-To: test-report-bounces@dpdk.org

Test-Label: iol-compile-arm64-testing
Test-Status: SUCCESS
http://dpdk.org/patch/136304

_Testing PASS_

Submitter: Satheesh Paul Antonysamy <psatheesh@marvell.com>
Date: Friday, February 02 2024 05:21:37 
DPDK git baseline: Repo:dpdk
  Branch: master
  CommitID:7d3daa3988e6b0216ace4ad882f3ccf1664cc7a7

136304 --> testing pass

Test environment and result as below:

+----------------------------------------+--------------------+
|              Environment               | dpdk_meson_compile |
+========================================+====================+
| Ubuntu 20.04 ARM SVE                   | PASS               |
+----------------------------------------+--------------------+
| Ubuntu 20.04 (ARM)                     | PASS               |
+----------------------------------------+--------------------+
| Fedora 37 (ARM)                        | PASS               |
+----------------------------------------+--------------------+
| Fedora 38 (ARM)                        | PASS               |
+----------------------------------------+--------------------+
| Ubuntu 20.04 aarch32 GCC Cross Compile | PASS               |
+----------------------------------------+--------------------+


Ubuntu 20.04 ARM SVE
	Kernel: 5.4.0-80-generic
	Compiler: gcc 10.3.0 (Ubuntu 10.3.0-1ubuntu1~20.04)

Ubuntu 20.04 (ARM)
	Kernel: Container Host Kernel
	Compiler: gcc 9.4.0

Fedora 37 (ARM)
	Kernel: Depends on container host
	Compiler: gcc 12.3.1

Fedora 38 (ARM)
	Kernel: Depends on container host
	Compiler: gcc 13.1.1

Ubuntu 20.04 aarch32 GCC Cross Compile
	Kernel: 5.4.0-72-generic
	Compiler: gcc 9.3.0

To view detailed results, visit:
https://lab.dpdk.org/results/dashboard/patchsets/29030/

UNH-IOL DPDK Community Lab

To manage your email subscriptions, visit: 
https://lab.dpdk.org/results/dashboard/preferences/subscriptions/