From mboxrd@z Thu Jan  1 00:00:00 1970
Return-Path: <test-report-bounces@dpdk.org>
Received: from mails.dpdk.org (mails.dpdk.org [217.70.189.124])
	by inbox.dpdk.org (Postfix) with ESMTP id 36E7143A4C
	for <public@inbox.dpdk.org>; Fri,  2 Feb 2024 09:44:29 +0100 (CET)
Received: from mails.dpdk.org (localhost [127.0.0.1])
	by mails.dpdk.org (Postfix) with ESMTP id 32AA94026E;
	Fri,  2 Feb 2024 09:44:29 +0100 (CET)
Received: from mail-il1-f225.google.com (mail-il1-f225.google.com
 [209.85.166.225])
 by mails.dpdk.org (Postfix) with ESMTP id 5B29D4021D
 for <test-report@dpdk.org>; Fri,  2 Feb 2024 09:44:28 +0100 (CET)
Received: by mail-il1-f225.google.com with SMTP id
 e9e14a558f8ab-363b6848f95so204945ab.3
 for <test-report@dpdk.org>; Fri, 02 Feb 2024 00:44:28 -0800 (PST)
DKIM-Signature: v=1; a=rsa-sha256; c=relaxed/relaxed;
 d=iol.unh.edu; s=unh-iol; t=1706863467; x=1707468267; darn=dpdk.org;
 h=cc:to:from:subject:message-id:date:from:to:cc:subject:date
 :message-id:reply-to;
 bh=A1kWadYlvCrSuQ44ZqNkks9vcsol2iB24+gdyyVBQAs=;
 b=LGnFw/hsbCG86scJ3D9m0BfE7jDuQhKsjixbsgSQO9K0EDqiuD8J86roWS8deQ7/8U
 sd7ad3PpuXrCPHkenYZm9hxsmKzVPMtUDg8L7S064t7oJ9BIF4sSkbWCS1k2DtLvbisR
 uYYvYuRqRNtojLnWNlU5vxmKC39fxB17rn9pU=
X-Google-DKIM-Signature: v=1; a=rsa-sha256; c=relaxed/relaxed;
 d=1e100.net; s=20230601; t=1706863467; x=1707468267;
 h=cc:to:from:subject:message-id:date:x-gm-message-state:from:to:cc
 :subject:date:message-id:reply-to;
 bh=A1kWadYlvCrSuQ44ZqNkks9vcsol2iB24+gdyyVBQAs=;
 b=mU/1R7rnvw9ZoSdJtGD+e7XbsqXv8jZrzwjpDt1fQMDUIVHwDQEA5HLSaKCFnr+deB
 dwTK0tn+k2nzIx46+mcWPfXT4MmMnfpFsWd5p6J+RYlhxjLP24IY8w/xCVENAZ3J0udH
 BXMdphORp+Rlfx6l2gIkNF/wQG9nS7GmccJTyFHEpEKhxadATAsX3VDzNgYJC2+UTEsv
 H2A/5w8VdRoeNdwWsCP69g+ihE7Pg1dfdN5qcPhG9Uhcv1BS6OnNWRcWyD8/e0YbeqRu
 1na+Z4KbabH2BiZctkUqLJhvf3iMqZxVg7FK+EfqalIsWfhg2NwuMAZtI3R3Eq/qokZz
 5OOA==
X-Gm-Message-State: AOJu0Yy9hIFrTJ9Q6EXqId2wg5O1I4hX7RpZ/pmsiqvXxTNETAwZMSFM
 I81I4Yxf6khSfPd5j69jNXH52mUdrtt8wfumkFbPQoDUsCSkVbjDONBhIAyuPMrpFJaLhy+/5Pu
 X54xioV+2v1hU++r4O4G/bBT3iJWsJfAbWox8HmIYt9Zlkgkkd9pT9CiR
X-Google-Smtp-Source: AGHT+IHLriGGlJu4iCBVMpIgJahEezFWvqY5cRBnvtjaRgysS5mCW9JYA/CVpgQUexfrQXFZ+2z0bhfgsS8Q
X-Received: by 2002:a05:6e02:154f:b0:363:ab87:785c with SMTP id
 j15-20020a056e02154f00b00363ab87785cmr1884846ilu.5.1706863467718; 
 Fri, 02 Feb 2024 00:44:27 -0800 (PST)
Received: from postal.iol.unh.edu (postal.iol.unh.edu.
 [2606:4100:3880:1234::84]) by smtp-relay.gmail.com with ESMTPS id
 y9-20020a056e021be900b00362a5439fd4sm62130ilv.29.2024.02.02.00.44.27
 (version=TLS1_2 cipher=ECDHE-ECDSA-AES128-GCM-SHA256 bits=128/128);
 Fri, 02 Feb 2024 00:44:27 -0800 (PST)
X-Relaying-Domain: iol.unh.edu
Date: Fri, 02 Feb 2024 00:44:27 -0800 (PST)
Message-ID: <65bcab6b.050a0220.9872e.4197SMTPIN_ADDED_MISSING@mx.google.com>
Received: from [172.21.0.4] (unknown [172.18.0.240])
 by postal.iol.unh.edu (Postfix) with ESMTP id 408726052516;
 Fri,  2 Feb 2024 03:44:27 -0500 (EST)
Subject: |SUCCESS| pw136304 [PATCH] net/cnxk: fix aged flows query
From: dpdklab@iol.unh.edu
To: Test Report <test-report@dpdk.org>
Cc: dpdk-test-reports@iol.unh.edu
Content-Type: text/plain
X-BeenThere: test-report@dpdk.org
X-Mailman-Version: 2.1.29
Precedence: list
List-Id: automatic DPDK test reports <test-report.dpdk.org>
List-Unsubscribe: <https://mails.dpdk.org/options/test-report>,
 <mailto:test-report-request@dpdk.org?subject=unsubscribe>
List-Archive: <http://mails.dpdk.org/archives/test-report/>
List-Post: <mailto:test-report@dpdk.org>
List-Help: <mailto:test-report-request@dpdk.org?subject=help>
List-Subscribe: <https://mails.dpdk.org/listinfo/test-report>,
 <mailto:test-report-request@dpdk.org?subject=subscribe>
Errors-To: test-report-bounces@dpdk.org

Test-Label: iol-unit-arm64-testing
Test-Status: SUCCESS
http://dpdk.org/patch/136304

_Testing PASS_

Submitter: Satheesh Paul Antonysamy <psatheesh@marvell.com>
Date: Friday, February 02 2024 05:21:37 
DPDK git baseline: Repo:dpdk
  Branch: master
  CommitID:7d3daa3988e6b0216ace4ad882f3ccf1664cc7a7

136304 --> testing pass

Test environment and result as below:

+--------------------------+------------------------------+---------------------------+----------------+
|       Environment        | cryptodev_sw_snow3g_autotest | cryptodev_sw_zuc_autotest | dpdk_unit_test |
+==========================+==============================+===========================+================+
| Debian 11 (arm)          | PASS                         | PASS                      | SKIPPED        |
+--------------------------+------------------------------+---------------------------+----------------+
| Debian 11 (Buster) (ARM) | SKIPPED                      | SKIPPED                   | PASS           |
+--------------------------+------------------------------+---------------------------+----------------+
| Fedora 37 (ARM)          | SKIPPED                      | SKIPPED                   | PASS           |
+--------------------------+------------------------------+---------------------------+----------------+
| CentOS Stream 9 (ARM)    | SKIPPED                      | SKIPPED                   | PASS           |
+--------------------------+------------------------------+---------------------------+----------------+
| Fedora 38 (ARM)          | SKIPPED                      | SKIPPED                   | PASS           |
+--------------------------+------------------------------+---------------------------+----------------+
| Fedora 38 (ARM Clang)    | SKIPPED                      | SKIPPED                   | PASS           |
+--------------------------+------------------------------+---------------------------+----------------+


Debian 11 (arm)
	Kernel: Container Host Kernel
	Compiler: gcc 10.2.1

Debian 11 (Buster) (ARM)
	Kernel: Container Host Kernel
	Compiler: gcc 10.2.1

Fedora 37 (ARM)
	Kernel: Depends on container host
	Compiler: gcc 12.3.1

CentOS Stream 9 (ARM)
	Kernel: Container Host Kernel
	Compiler: gcc 11.3.1

Fedora 38 (ARM)
	Kernel: Depends on container host
	Compiler: gcc 13.1.1

Fedora 38 (ARM Clang)
	Kernel: Depends on container host
	Compiler: clang 16.0.3

To view detailed results, visit:
https://lab.dpdk.org/results/dashboard/patchsets/29030/

UNH-IOL DPDK Community Lab

To manage your email subscriptions, visit: 
https://lab.dpdk.org/results/dashboard/preferences/subscriptions/