From mboxrd@z Thu Jan  1 00:00:00 1970
Return-Path: <test-report-bounces@dpdk.org>
Received: from mails.dpdk.org (mails.dpdk.org [217.70.189.124])
	by inbox.dpdk.org (Postfix) with ESMTP id 9F8CD43A37
	for <public@inbox.dpdk.org>; Tue,  6 Feb 2024 19:57:07 +0100 (CET)
Received: from mails.dpdk.org (localhost [127.0.0.1])
	by mails.dpdk.org (Postfix) with ESMTP id 9A9B240271;
	Tue,  6 Feb 2024 19:57:07 +0100 (CET)
Received: from mail-io1-f97.google.com (mail-io1-f97.google.com
 [209.85.166.97]) by mails.dpdk.org (Postfix) with ESMTP id 987194025E
 for <test-report@dpdk.org>; Tue,  6 Feb 2024 19:57:05 +0100 (CET)
Received: by mail-io1-f97.google.com with SMTP id
 ca18e2360f4ac-7bf2c826a5aso252012339f.0
 for <test-report@dpdk.org>; Tue, 06 Feb 2024 10:57:05 -0800 (PST)
DKIM-Signature: v=1; a=rsa-sha256; c=relaxed/relaxed;
 d=iol.unh.edu; s=unh-iol; t=1707245825; x=1707850625; darn=dpdk.org;
 h=cc:to:from:subject:message-id:date:from:to:cc:subject:date
 :message-id:reply-to;
 bh=fzI7EAgxO4ipsiQlZyI3LUnZRdUyb4WTWEwZqk5u7Kw=;
 b=LEloPT32geuH3RnN38noZBKYJhJthuQm6gPDGTG4HnXTFZ4ZKIW5aA/dQ5AQRa5u0L
 5HPHSNACFtG3AMoFUo7xE/amwnstqAOkycrVxgvnBzdgR0TWjJvN955AXPHDi5BH5fJN
 ra59G/MbKvFSknWY/Jw/BP0FvGTp/GtT81kXs=
X-Google-DKIM-Signature: v=1; a=rsa-sha256; c=relaxed/relaxed;
 d=1e100.net; s=20230601; t=1707245825; x=1707850625;
 h=cc:to:from:subject:message-id:date:x-gm-message-state:from:to:cc
 :subject:date:message-id:reply-to;
 bh=fzI7EAgxO4ipsiQlZyI3LUnZRdUyb4WTWEwZqk5u7Kw=;
 b=nu1dcom68GCHu1onrMvkjgZrUPK2ki1BYMVumrSj+6vVLIY8Pba3zUnAaAlop19yte
 wX4cTxRdGRKwxIEYh+R+BDnGVZZD4rIPm4dB3K/0mt1ci+cV3uYjKe4nFRhzNN50X5QV
 2HzmULw65ub3kfh8sVmPd1XNmiOVilqma8gqTacx4q1FHAYTknYVz+CjQYl+knjGhaua
 siDO1nq6OtzCN3F7QO5lOWD3cqe6RxOKg2NPAswSF6vksFTtqxXaEJDPDbu0zIA5Ap9B
 tR+c1Pl+OjCUP4R0XyS/M1Faz1ueEznatbHMhRxA9rxOpJuvqsK/pqancdTdQf+PK6Dy
 RobA==
X-Gm-Message-State: AOJu0YwufoVAmWET96mew3ubyqPRssuZY0e+8MTOYe182fsXZ2jdUcDh
 HXqxynzBxxtRszUUYSzDXume8vCB8tl5MVniZXkJnWTygkfGitLtPn8prNjIcOQQMZb46FAHNXj
 u6h9yugJakYVq/M26hTpKyWABmXEB6DVu2Jc/xZFSAa4lyuuTYley6opv
X-Google-Smtp-Source: AGHT+IFDdKjnJ8rh8zvN092Ur6F3lXqY1HMW/ocUTdV20wXSLf9/CFBVP3ZABoxcvdI+HVfGWsgTOVjbwCwz
X-Received: by 2002:a05:6602:8c5:b0:7c2:e386:b1bb with SMTP id
 h5-20020a05660208c500b007c2e386b1bbmr3847522ioz.21.1707245825064; 
 Tue, 06 Feb 2024 10:57:05 -0800 (PST)
Received: from postal.iol.unh.edu (postal.iol.unh.edu.
 [2606:4100:3880:1234::84]) by smtp-relay.gmail.com with ESMTPS id
 u15-20020a02cbcf000000b0047110370d08sm107526jaq.77.2024.02.06.10.57.04
 (version=TLS1_2 cipher=ECDHE-ECDSA-AES128-GCM-SHA256 bits=128/128);
 Tue, 06 Feb 2024 10:57:05 -0800 (PST)
X-Relaying-Domain: iol.unh.edu
Date: Tue, 06 Feb 2024 10:57:05 -0800 (PST)
Message-ID: <65c28101.020a0220.f7e4f.7018SMTPIN_ADDED_MISSING@mx.google.com>
Received: from [172.17.0.10] (unknown [172.18.0.213])
 by postal.iol.unh.edu (Postfix) with ESMTP id 99D776043300;
 Tue,  6 Feb 2024 13:57:04 -0500 (EST)
Subject: |SUCCESS| pw136440 [PATCH] [v3] ethdev: fast path async flow API
From: dpdklab@iol.unh.edu
To: Test Report <test-report@dpdk.org>
Cc: dpdk-test-reports@iol.unh.edu
Content-Type: text/plain
X-BeenThere: test-report@dpdk.org
X-Mailman-Version: 2.1.29
Precedence: list
List-Id: automatic DPDK test reports <test-report.dpdk.org>
List-Unsubscribe: <https://mails.dpdk.org/options/test-report>,
 <mailto:test-report-request@dpdk.org?subject=unsubscribe>
List-Archive: <http://mails.dpdk.org/archives/test-report/>
List-Post: <mailto:test-report@dpdk.org>
List-Help: <mailto:test-report-request@dpdk.org?subject=help>
List-Subscribe: <https://mails.dpdk.org/listinfo/test-report>,
 <mailto:test-report-request@dpdk.org?subject=subscribe>
Errors-To: test-report-bounces@dpdk.org

Test-Label: iol-unit-arm64-testing
Test-Status: SUCCESS
http://dpdk.org/patch/136440

_Testing PASS_

Submitter: Dariusz Sosnowski <dsosnowski@nvidia.com>
Date: Tuesday, February 06 2024 17:36:31 
DPDK git baseline: Repo:dpdk
  Branch: master
  CommitID:c4dda45e82a83cb64d9ec1da58ba66622d4ed0f7

136440 --> testing pass

Test environment and result as below:

+-----------------------+------------------------------+---------------------------+----------------+--------------+
|      Environment      | cryptodev_sw_snow3g_autotest | cryptodev_sw_zuc_autotest | dpdk_unit_test | lpm_autotest |
+=======================+==============================+===========================+================+==============+
| Debian 11 (arm)       | PASS                         | PASS                      | SKIPPED        | SKIPPED      |
+-----------------------+------------------------------+---------------------------+----------------+--------------+
| CentOS Stream 9 (ARM) | SKIPPED                      | SKIPPED                   | PASS           | SKIPPED      |
+-----------------------+------------------------------+---------------------------+----------------+--------------+
| Fedora 38 (ARM)       | SKIPPED                      | SKIPPED                   | PASS           | SKIPPED      |
+-----------------------+------------------------------+---------------------------+----------------+--------------+
| Fedora 37 (ARM)       | SKIPPED                      | SKIPPED                   | PASS           | SKIPPED      |
+-----------------------+------------------------------+---------------------------+----------------+--------------+
| Ubuntu 20.04 ARM SVE  | SKIPPED                      | SKIPPED                   | SKIPPED        | PASS         |
+-----------------------+------------------------------+---------------------------+----------------+--------------+


Debian 11 (arm)
	Kernel: Container Host Kernel
	Compiler: gcc 10.2.1

CentOS Stream 9 (ARM)
	Kernel: Container Host Kernel
	Compiler: gcc 11.3.1

Fedora 38 (ARM)
	Kernel: Depends on container host
	Compiler: gcc 13.1.1

Fedora 37 (ARM)
	Kernel: Depends on container host
	Compiler: gcc 12.3.1

Ubuntu 20.04 ARM SVE
	Kernel: 5.4.0-80-generic
	Compiler: gcc 10.3.0 (Ubuntu 10.3.0-1ubuntu1~20.04)

To view detailed results, visit:
https://lab.dpdk.org/results/dashboard/patchsets/29060/

UNH-IOL DPDK Community Lab

To manage your email subscriptions, visit: 
https://lab.dpdk.org/results/dashboard/preferences/subscriptions/