From mboxrd@z Thu Jan  1 00:00:00 1970
Return-Path: <test-report-bounces@dpdk.org>
Received: from mails.dpdk.org (mails.dpdk.org [217.70.189.124])
	by inbox.dpdk.org (Postfix) with ESMTP id 55D4043A94
	for <public@inbox.dpdk.org>; Tue,  6 Feb 2024 20:17:17 +0100 (CET)
Received: from mails.dpdk.org (localhost [127.0.0.1])
	by mails.dpdk.org (Postfix) with ESMTP id 50D0A40272;
	Tue,  6 Feb 2024 20:17:17 +0100 (CET)
Received: from mail-qv1-f100.google.com (mail-qv1-f100.google.com
 [209.85.219.100])
 by mails.dpdk.org (Postfix) with ESMTP id B49A940271
 for <test-report@dpdk.org>; Tue,  6 Feb 2024 20:17:15 +0100 (CET)
Received: by mail-qv1-f100.google.com with SMTP id
 6a1803df08f44-6818aa08a33so7025136d6.0
 for <test-report@dpdk.org>; Tue, 06 Feb 2024 11:17:15 -0800 (PST)
DKIM-Signature: v=1; a=rsa-sha256; c=relaxed/relaxed;
 d=iol.unh.edu; s=unh-iol; t=1707247035; x=1707851835; darn=dpdk.org;
 h=cc:to:from:subject:message-id:date:from:to:cc:subject:date
 :message-id:reply-to;
 bh=eFwovGExJEvOhg+H/5ma3vo14cc5faADWe4uz/VgWpA=;
 b=jakHkkvK6jjEYqZejhAs9yh270BIo0kxAQDRPyLogkTCRAR3zimCJLy4qy0ZdAtGwt
 dtf39+C1jnhtKDhPEcGbaKeV3O5z8yzMI0+OLAxVZZsZ74TxihJ4zcKbPDhnI/71aqNZ
 Olxhorwdufb5JAwPCbBKFIReMIEb+XNcB3rx8=
X-Google-DKIM-Signature: v=1; a=rsa-sha256; c=relaxed/relaxed;
 d=1e100.net; s=20230601; t=1707247035; x=1707851835;
 h=cc:to:from:subject:message-id:date:x-gm-message-state:from:to:cc
 :subject:date:message-id:reply-to;
 bh=eFwovGExJEvOhg+H/5ma3vo14cc5faADWe4uz/VgWpA=;
 b=EEMm9saKRjsvB9gWHOZhonHl+DBBik7x26NL7yDiWzuE3bzqxWGhVcTYKYqoV+ctaA
 EX2g9LcOJNkPX3tTnGkI+C9Z33y+zrKxGx4kAFokLKrQeNcpyrP3yt10YxcWbX3pDAiU
 +K9s1s8NXBz2H1rGYrlgG2kCEp/RIPuY2Y50+32/+tKC4ecwsRKlXxAFn6ZNC7tGijBu
 rF3Svczs15aMzUVPtQePrfm8s5S6T8M63cyoA3/0KXcvPSoCSCHgc0C44ISLyZQ4behf
 MpDCgRsgWrDRxdqLb41kE8QCsAOD18jFKv1EcOa4jyVBDdvdl6nnf2jWguzWxX5lwslp
 372w==
X-Gm-Message-State: AOJu0YyTH6BofrYAnxcb0fFruoOxeF/NoSVu7xnL4TI7tM+CFtswe79Z
 kuguu+h8BZ24gG7ME6VkJxDPI2eMmYe0hvnchPEyZ6cB83k0CE7ROfSwnKM8DhJFwqVPX8sBIZV
 L1wn7bI2962QpMcer5SsbQokZ00ON9/GkPRu1UVxe
X-Google-Smtp-Source: AGHT+IErmlKwkJ5u7jaB/IzjwrIvBGMexT9YvNU6zp9RoTdYYvBUozH0nE/Udul7ahG3fjBfd83LyYgrlxdA
X-Received: by 2002:a05:6214:1d28:b0:68c:8218:30a2 with SMTP id
 f8-20020a0562141d2800b0068c821830a2mr23986526qvd.0.1707247035178; 
 Tue, 06 Feb 2024 11:17:15 -0800 (PST)
Received: from postal.iol.unh.edu (postal.iol.unh.edu. [132.177.123.84])
 by smtp-relay.gmail.com with ESMTPS id
 y1-20020a0ceac1000000b0068caeeba043sm102879qvp.76.2024.02.06.11.17.15
 (version=TLS1_2 cipher=ECDHE-ECDSA-AES128-GCM-SHA256 bits=128/128);
 Tue, 06 Feb 2024 11:17:15 -0800 (PST)
X-Relaying-Domain: iol.unh.edu
Date: Tue, 06 Feb 2024 11:17:15 -0800 (PST)
Message-ID: <65c285bb.0c0a0220.e9668.6b18SMTPIN_ADDED_MISSING@mx.google.com>
Received: from [172.17.0.2] (unknown [172.18.0.214])
 by postal.iol.unh.edu (Postfix) with ESMTP id DDC126043300;
 Tue,  6 Feb 2024 14:17:13 -0500 (EST)
Subject: |SUCCESS| pw136440 [PATCH] [v3] ethdev: fast path async flow API
From: dpdklab@iol.unh.edu
To: Test Report <test-report@dpdk.org>
Cc: dpdk-test-reports@iol.unh.edu
Content-Type: text/plain
X-BeenThere: test-report@dpdk.org
X-Mailman-Version: 2.1.29
Precedence: list
List-Id: automatic DPDK test reports <test-report.dpdk.org>
List-Unsubscribe: <https://mails.dpdk.org/options/test-report>,
 <mailto:test-report-request@dpdk.org?subject=unsubscribe>
List-Archive: <http://mails.dpdk.org/archives/test-report/>
List-Post: <mailto:test-report@dpdk.org>
List-Help: <mailto:test-report-request@dpdk.org?subject=help>
List-Subscribe: <https://mails.dpdk.org/listinfo/test-report>,
 <mailto:test-report-request@dpdk.org?subject=subscribe>
Errors-To: test-report-bounces@dpdk.org

Test-Label: iol-compile-arm64-testing
Test-Status: SUCCESS
http://dpdk.org/patch/136440

_Testing PASS_

Submitter: Dariusz Sosnowski <dsosnowski@nvidia.com>
Date: Tuesday, February 06 2024 17:36:31 
DPDK git baseline: Repo:dpdk
  Branch: master
  CommitID:c4dda45e82a83cb64d9ec1da58ba66622d4ed0f7

136440 --> testing pass

Test environment and result as below:

+----------------------------------------+--------------------+
|              Environment               | dpdk_meson_compile |
+========================================+====================+
| Ubuntu 20.04 ARM SVE                   | PASS               |
+----------------------------------------+--------------------+
| Ubuntu 20.04 aarch32 GCC Cross Compile | PASS               |
+----------------------------------------+--------------------+
| Debian 11 (Buster) (ARM)               | PASS               |
+----------------------------------------+--------------------+
| Ubuntu 20.04 (ARM)                     | PASS               |
+----------------------------------------+--------------------+
| Ubuntu 20.04 ARM Clang Cross Compile   | PASS               |
+----------------------------------------+--------------------+
| Fedora 37 (ARM)                        | PASS               |
+----------------------------------------+--------------------+
| Fedora 38 (ARM)                        | PASS               |
+----------------------------------------+--------------------+
| CentOS Stream 9 (ARM)                  | PASS               |
+----------------------------------------+--------------------+


Ubuntu 20.04 ARM SVE
	Kernel: 5.4.0-80-generic
	Compiler: gcc 10.3.0 (Ubuntu 10.3.0-1ubuntu1~20.04)

Ubuntu 20.04 aarch32 GCC Cross Compile
	Kernel: 5.4.0-72-generic
	Compiler: gcc 9.3.0

Debian 11 (Buster) (ARM)
	Kernel: Container Host Kernel
	Compiler: gcc 10.2.1

Ubuntu 20.04 (ARM)
	Kernel: Container Host Kernel
	Compiler: gcc 9.4.0

Ubuntu 20.04 ARM Clang Cross Compile
	Kernel: 5.4.0-72-generic
	Compiler: clang version 10.0.0-4ubuntu1

Fedora 37 (ARM)
	Kernel: Depends on container host
	Compiler: gcc 12.3.1

Fedora 38 (ARM)
	Kernel: Depends on container host
	Compiler: gcc 13.1.1

CentOS Stream 9 (ARM)
	Kernel: Container Host Kernel
	Compiler: gcc 11.3.1

To view detailed results, visit:
https://lab.dpdk.org/results/dashboard/patchsets/29060/

UNH-IOL DPDK Community Lab

To manage your email subscriptions, visit: 
https://lab.dpdk.org/results/dashboard/preferences/subscriptions/