From mboxrd@z Thu Jan  1 00:00:00 1970
Return-Path: <test-report-bounces@dpdk.org>
Received: from mails.dpdk.org (mails.dpdk.org [217.70.189.124])
	by inbox.dpdk.org (Postfix) with ESMTP id 8D14B43A94
	for <public@inbox.dpdk.org>; Tue,  6 Feb 2024 20:20:03 +0100 (CET)
Received: from mails.dpdk.org (localhost [127.0.0.1])
	by mails.dpdk.org (Postfix) with ESMTP id 885C540272;
	Tue,  6 Feb 2024 20:20:03 +0100 (CET)
Received: from mail-yb1-f227.google.com (mail-yb1-f227.google.com
 [209.85.219.227])
 by mails.dpdk.org (Postfix) with ESMTP id 7AB9140271
 for <test-report@dpdk.org>; Tue,  6 Feb 2024 20:20:02 +0100 (CET)
Received: by mail-yb1-f227.google.com with SMTP id
 3f1490d57ef6-dc6dd9bf348so5252718276.0
 for <test-report@dpdk.org>; Tue, 06 Feb 2024 11:20:02 -0800 (PST)
DKIM-Signature: v=1; a=rsa-sha256; c=relaxed/relaxed;
 d=iol.unh.edu; s=unh-iol; t=1707247202; x=1707852002; darn=dpdk.org;
 h=cc:to:from:subject:message-id:date:from:to:cc:subject:date
 :message-id:reply-to;
 bh=yhme6Ks8LNoy20U4oLbCxfneLPqyZ1bMAkLXnXQBueA=;
 b=TisKgqpxUwQyga7+uiZWcrCdr6CBI8uueN8U4wGDEeJUBPvfdE2baadzYo8kSfEh3y
 RplezkEuwNZT0Hj1JNI2nyEAgaxL76GMxxLv0MOk+12PfZj/MolwRuxSIkM6wQCb/89P
 +LshMb8GQsFEu5kkZoALMY6ACabwViM93HGIU=
X-Google-DKIM-Signature: v=1; a=rsa-sha256; c=relaxed/relaxed;
 d=1e100.net; s=20230601; t=1707247202; x=1707852002;
 h=cc:to:from:subject:message-id:date:x-gm-message-state:from:to:cc
 :subject:date:message-id:reply-to;
 bh=yhme6Ks8LNoy20U4oLbCxfneLPqyZ1bMAkLXnXQBueA=;
 b=obcX3hkEJNOO2d4EfynBMC2vaZKvbOw6KDrbRcxE2A1oyiDSVEpvyTj+uF15m+rkb3
 GCfw7UxL4q5LyuMbPiJ3LROnudxiA0zxtVA8MGFU56WgMojwkKojPek2ebc6CcbXUHa4
 TupgtB4HdEeeLT34/bGYK0wChFNERy+74uFq4zgm/CcIhkGGsCgca9mxkoO4eXJN6xh0
 5AonJOQZlwdzWSafvxge6wKi493WvWIEj+GyAWWQoz8GGJH76j1sK965OLHe2fgxLeOI
 sjhf6o3gjjdIjxs4rdwnEaEKtbiY/H4sbCDbFK6GUt82Do0GncYo43nFyOG+kAJIAEcG
 PXPg==
X-Gm-Message-State: AOJu0YzZMm5HF4BgLnma0y4oU/DCfqPYa4fy/SHGfp/G0mKxejLsUgM5
 SEier+YTeI3lgbAzRmIweVHDJMLvBZCcvUO+PZhwu0mu3x8nyEEFq6oGG3HqB7SoHBl+8jv99DV
 PGYOopIzVb23EfY5WHxrL0MXFD2bWs3AT+5wOhcPzQtyj0A9NV47NY9ga
X-Google-Smtp-Source: AGHT+IEIAUEqCAnCIY+Zw0t8HnkQ5ceklvaRPTUWIZ6K4MhAkJ/izDQha8CDfd0gq70JS8rPDKQT2cwMLnxB
X-Received: by 2002:a25:e00b:0:b0:dc2:4d19:4fea with SMTP id
 x11-20020a25e00b000000b00dc24d194feamr2320387ybg.11.1707247201942; 
 Tue, 06 Feb 2024 11:20:01 -0800 (PST)
Received: from postal.iol.unh.edu (postal.iol.unh.edu.
 [2606:4100:3880:1234::84]) by smtp-relay.gmail.com with ESMTPS id
 e18-20020a25bc92000000b00dbf3a6eed0esm67750ybk.2.2024.02.06.11.20.01
 (version=TLS1_2 cipher=ECDHE-ECDSA-AES128-GCM-SHA256 bits=128/128);
 Tue, 06 Feb 2024 11:20:01 -0800 (PST)
X-Relaying-Domain: iol.unh.edu
Date: Tue, 06 Feb 2024 11:20:01 -0800 (PST)
Message-ID: <65c28661.250a0220.7d88a.43e9SMTPIN_ADDED_MISSING@mx.google.com>
Received: from [172.17.0.2] (unknown [172.18.0.217])
 by postal.iol.unh.edu (Postfix) with ESMTP id 90B526043300;
 Tue,  6 Feb 2024 14:20:01 -0500 (EST)
Subject: |SUCCESS| pw136440 [PATCH] [v3] ethdev: fast path async flow API
From: dpdklab@iol.unh.edu
To: Test Report <test-report@dpdk.org>
Cc: dpdk-test-reports@iol.unh.edu
Content-Type: text/plain
X-BeenThere: test-report@dpdk.org
X-Mailman-Version: 2.1.29
Precedence: list
List-Id: automatic DPDK test reports <test-report.dpdk.org>
List-Unsubscribe: <https://mails.dpdk.org/options/test-report>,
 <mailto:test-report-request@dpdk.org?subject=unsubscribe>
List-Archive: <http://mails.dpdk.org/archives/test-report/>
List-Post: <mailto:test-report@dpdk.org>
List-Help: <mailto:test-report-request@dpdk.org?subject=help>
List-Subscribe: <https://mails.dpdk.org/listinfo/test-report>,
 <mailto:test-report-request@dpdk.org?subject=subscribe>
Errors-To: test-report-bounces@dpdk.org

Test-Label: iol-unit-amd64-testing
Test-Status: SUCCESS
http://dpdk.org/patch/136440

_Testing PASS_

Submitter: Dariusz Sosnowski <dsosnowski@nvidia.com>
Date: Tuesday, February 06 2024 17:36:31 
DPDK git baseline: Repo:dpdk
  Branch: master
  CommitID:c4dda45e82a83cb64d9ec1da58ba66622d4ed0f7

136440 --> testing pass

Test environment and result as below:

+---------------------+----------------+
|     Environment     | dpdk_unit_test |
+=====================+================+
| Windows Server 2019 | PASS           |
+---------------------+----------------+
| CentOS Stream 8     | PASS           |
+---------------------+----------------+
| CentOS Stream 9     | PASS           |
+---------------------+----------------+
| Debian Bullseye     | PASS           |
+---------------------+----------------+
| Fedora 38           | PASS           |
+---------------------+----------------+
| Fedora 37           | PASS           |
+---------------------+----------------+
| Debian Buster       | PASS           |
+---------------------+----------------+
| openSUSE Leap 15    | PASS           |
+---------------------+----------------+
| Ubuntu 20.04        | PASS           |
+---------------------+----------------+
| RHEL8               | PASS           |
+---------------------+----------------+
| Ubuntu 22.04        | PASS           |
+---------------------+----------------+


Windows Server 2019
	Kernel: 10.0
	Compiler: clang 14.0 and gcc 8.1.0 (MinGW)

CentOS Stream 8
	Kernel: 4.18.0-240.10.1.el8_3.x86_64
	Compiler: gcc 8.4.1 20200928

CentOS Stream 9
	Kernel: 4.18.0-240.10.1.el8_3.x86_64
	Compiler: gcc 11.3.1 20220421

Debian Bullseye
	Kernel: 5.4.0-122-generic
	Compiler: gcc 10.2.1-6

Fedora 38
	Kernel: Depends on container host
	Compiler: gcc 13.1.1

Fedora 37
	Kernel: Depends on container host system
	Compiler: gcc 12.3.1

Debian Buster
	Kernel: 5.4.0-122-generic
	Compiler: gcc 8.3.0-6

openSUSE Leap 15
	Kernel: 4.18.0-240.10.1.el8_3.x86_64
	Compiler: gcc 7.5.0

Ubuntu 20.04
	Kernel: 5.4.0-153-generic
	Compiler: gcc 9.4.0-1ubuntu1~20.04.1

RHEL8
	Kernel: 4.18.0-240.10.1.el8_3.x86_64
	Compiler: gcc 8.3.1 20191121 (Red Hat 8.3.1-5)

Ubuntu 22.04
	Kernel: 4.18.0-240.10.1.el8_3.x86_64
	Compiler: gcc 11.3.0

To view detailed results, visit:
https://lab.dpdk.org/results/dashboard/patchsets/29060/

UNH-IOL DPDK Community Lab

To manage your email subscriptions, visit: 
https://lab.dpdk.org/results/dashboard/preferences/subscriptions/