From mboxrd@z Thu Jan  1 00:00:00 1970
Return-Path: <test-report-bounces@dpdk.org>
Received: from mails.dpdk.org (mails.dpdk.org [217.70.189.124])
	by inbox.dpdk.org (Postfix) with ESMTP id 274BD43B61
	for <public@inbox.dpdk.org>; Wed, 21 Feb 2024 10:15:15 +0100 (CET)
Received: from mails.dpdk.org (localhost [127.0.0.1])
	by mails.dpdk.org (Postfix) with ESMTP id 23609402B9;
	Wed, 21 Feb 2024 10:15:15 +0100 (CET)
Received: from mail-pj1-f100.google.com (mail-pj1-f100.google.com
 [209.85.216.100])
 by mails.dpdk.org (Postfix) with ESMTP id 44F6B40284
 for <test-report@dpdk.org>; Wed, 21 Feb 2024 10:15:14 +0100 (CET)
Received: by mail-pj1-f100.google.com with SMTP id
 98e67ed59e1d1-2995fa850ddso2534573a91.0
 for <test-report@dpdk.org>; Wed, 21 Feb 2024 01:15:14 -0800 (PST)
DKIM-Signature: v=1; a=rsa-sha256; c=relaxed/relaxed;
 d=iol.unh.edu; s=unh-iol; t=1708506913; x=1709111713; darn=dpdk.org;
 h=cc:to:from:subject:message-id:date:from:to:cc:subject:date
 :message-id:reply-to;
 bh=Lcz1+q/u52RJmGFOcIFDwb+eMLv+wK3v90Iqs9yPLIU=;
 b=iUSK12jVYqe501W6ZAKbmXozYVgU0qhDubga/cczfKR8+IW3GEeSWn7ZGHPV+yR/Zr
 plCUo9UiPnXE0yFCxyL9ijk7KPxC689+tO0AM25DuBYol3yZKw6t074JY7W/+ZYVPuOh
 mRbGZaaUczwXYKw1r2tNMCnoySauCKTr0iS+E=
X-Google-DKIM-Signature: v=1; a=rsa-sha256; c=relaxed/relaxed;
 d=1e100.net; s=20230601; t=1708506913; x=1709111713;
 h=cc:to:from:subject:message-id:date:x-gm-message-state:from:to:cc
 :subject:date:message-id:reply-to;
 bh=Lcz1+q/u52RJmGFOcIFDwb+eMLv+wK3v90Iqs9yPLIU=;
 b=BhIr8KLCILC5zcuTp95oIAMjbNyobU28VScVb5aNaEpXe6uK3EV8uqVCM6uQmdAzfw
 V80U8JqcrFHrhCG44sNXrg1yVzcUgUUlzKg4oKc6tB6IQg3AYe6oI21/BCNUy/WDO5c/
 GvHGonALs90mMbk3fjfSXoM0BAKPYNj5wF6Lyvw4sNTVdc0HrTd0Jw+aiiulQ933MWNi
 eo2YBCnVrdWG+7O6AHBHWt8grItVvSyGR0pzqkZTL+UTK/Er4nQ6J4ogI+Rt+D69vO3t
 0gBlA/xcOJ/OAkEbNMsh/1whm5gKxZZV0Xh2aZSQbDPQWUJD/XUMYwMGUFhZ1T27XYSP
 q7ww==
X-Gm-Message-State: AOJu0YyYLFKwgyM82UQ1SyGxOfm0uLat4fGscFZ5WgCw9Pq0kO55U1JW
 PgIPNbhHyM/h4LxYMx/irtvYua4hXbblCe5RbK723W0iPqELAISmp8+O8K2Bb1GMj5W+0zTnkKB
 4EgPuJ4/uZulHvwcutZF8E+CbbAH1MOW771Go8You
X-Google-Smtp-Source: AGHT+IFSqihT7Z4m9/4xabWkpi6ofZAuVx26k7HDydcNgYMJfO+n3//E72K0w3ct+4JuM8p3mNvytndac+z3
X-Received: by 2002:a17:90b:3785:b0:299:f450:5232 with SMTP id
 mz5-20020a17090b378500b00299f4505232mr4419639pjb.8.1708506913474; 
 Wed, 21 Feb 2024 01:15:13 -0800 (PST)
Received: from postal.iol.unh.edu (postal.iol.unh.edu. [132.177.123.84])
 by smtp-relay.gmail.com with ESMTPS id
 j15-20020a17090ae60f00b00298b088a805sm69537pjy.2.2024.02.21.01.15.13
 (version=TLS1_2 cipher=ECDHE-ECDSA-AES128-GCM-SHA256 bits=128/128);
 Wed, 21 Feb 2024 01:15:13 -0800 (PST)
X-Relaying-Domain: iol.unh.edu
Date: Wed, 21 Feb 2024 01:15:13 -0800 (PST)
Message-ID: <65d5bf21.170a0220.7d69c.4fabSMTPIN_ADDED_MISSING@mx.google.com>
Received: from [172.17.0.7] (unknown [172.18.0.217])
 by postal.iol.unh.edu (Postfix) with ESMTP id 177786052511;
 Wed, 21 Feb 2024 04:15:12 -0500 (EST)
Subject: |SUCCESS| pw136945 [PATCH] net/mlx5: fix condition of LACP miss flow
From: dpdklab@iol.unh.edu
To: Test Report <test-report@dpdk.org>
Cc: dpdk-test-reports@iol.unh.edu
Content-Type: text/plain
X-BeenThere: test-report@dpdk.org
X-Mailman-Version: 2.1.29
Precedence: list
List-Id: automatic DPDK test reports <test-report.dpdk.org>
List-Unsubscribe: <https://mails.dpdk.org/options/test-report>,
 <mailto:test-report-request@dpdk.org?subject=unsubscribe>
List-Archive: <http://mails.dpdk.org/archives/test-report/>
List-Post: <mailto:test-report@dpdk.org>
List-Help: <mailto:test-report-request@dpdk.org?subject=help>
List-Subscribe: <https://mails.dpdk.org/listinfo/test-report>,
 <mailto:test-report-request@dpdk.org?subject=subscribe>
Errors-To: test-report-bounces@dpdk.org

Test-Label: iol-compile-amd64-testing
Test-Status: SUCCESS
http://dpdk.org/patch/136945

_Testing PASS_

Submitter: Bing Zhao <bingz@nvidia.com>
Date: Wednesday, February 21 2024 06:49:48 
DPDK git baseline: Repo:dpdk
  Branch: master
  CommitID:ee45c93a16dd5e11b7779f18db9173fd8de8df74

136945 --> testing pass

Test environment and result as below:

+---------------------+--------------------+
|     Environment     | dpdk_meson_compile |
+=====================+====================+
| Debian Buster       | PASS               |
+---------------------+--------------------+
| Debian Bullseye     | PASS               |
+---------------------+--------------------+
| CentOS Stream 8     | PASS               |
+---------------------+--------------------+
| Fedora 38           | PASS               |
+---------------------+--------------------+
| FreeBSD 13.2        | PASS               |
+---------------------+--------------------+
| Windows Server 2022 | PASS               |
+---------------------+--------------------+
| Ubuntu 20.04        | PASS               |
+---------------------+--------------------+
| openSUSE Leap 15    | PASS               |
+---------------------+--------------------+
| Ubuntu 22.04        | PASS               |
+---------------------+--------------------+
| RHEL8               | PASS               |
+---------------------+--------------------+
| Windows Server 2019 | PASS               |
+---------------------+--------------------+
| CentOS Stream 9     | PASS               |
+---------------------+--------------------+
| Fedora 37           | PASS               |
+---------------------+--------------------+


Debian Buster
	Kernel: 5.4.0-122-generic
	Compiler: gcc 8.3.0-6

Debian Bullseye
	Kernel: 5.4.0-122-generic
	Compiler: gcc 10.2.1-6

CentOS Stream 8
	Kernel: 4.18.0-240.10.1.el8_3.x86_64
	Compiler: gcc 8.4.1 20200928

Fedora 38
	Kernel: Depends on container host
	Compiler: gcc 13.1.1

FreeBSD 13.2
	Kernel: 13.2
	Compiler: clang 11.3.0

Windows Server 2022
	Kernel: OS Build 20348.2031
	Compiler: MSVC VS-Preview

Ubuntu 20.04
	Kernel: 5.4.0-153-generic
	Compiler: gcc 9.4.0-1ubuntu1~20.04.1

openSUSE Leap 15
	Kernel: 4.18.0-240.10.1.el8_3.x86_64
	Compiler: gcc 7.5.0

Ubuntu 22.04
	Kernel: 4.18.0-240.10.1.el8_3.x86_64
	Compiler: gcc 11.3.0

RHEL8
	Kernel: 4.18.0-240.10.1.el8_3.x86_64
	Compiler: gcc 8.3.1 20191121 (Red Hat 8.3.1-5)

Windows Server 2019
	Kernel: 10.0
	Compiler: clang 14.0 and gcc 8.1.0 (MinGW)

CentOS Stream 9
	Kernel: 4.18.0-240.10.1.el8_3.x86_64
	Compiler: gcc 11.3.1 20220421

Fedora 37
	Kernel: Depends on container host system
	Compiler: gcc 12.3.1

To view detailed results, visit:
https://lab.dpdk.org/results/dashboard/patchsets/29205/

UNH-IOL DPDK Community Lab

To manage your email subscriptions, visit: 
https://lab.dpdk.org/results/dashboard/preferences/subscriptions/