From mboxrd@z Thu Jan  1 00:00:00 1970
Return-Path: <test-report-bounces@dpdk.org>
Received: from mails.dpdk.org (mails.dpdk.org [217.70.189.124])
	by inbox.dpdk.org (Postfix) with ESMTP id 7E84243B61
	for <public@inbox.dpdk.org>; Wed, 21 Feb 2024 10:16:49 +0100 (CET)
Received: from mails.dpdk.org (localhost [127.0.0.1])
	by mails.dpdk.org (Postfix) with ESMTP id 7A298402B9;
	Wed, 21 Feb 2024 10:16:49 +0100 (CET)
Received: from mail-yw1-f227.google.com (mail-yw1-f227.google.com
 [209.85.128.227])
 by mails.dpdk.org (Postfix) with ESMTP id 3BEB540284
 for <test-report@dpdk.org>; Wed, 21 Feb 2024 10:16:48 +0100 (CET)
Received: by mail-yw1-f227.google.com with SMTP id
 00721157ae682-607fc3e69adso54025817b3.0
 for <test-report@dpdk.org>; Wed, 21 Feb 2024 01:16:48 -0800 (PST)
DKIM-Signature: v=1; a=rsa-sha256; c=relaxed/relaxed;
 d=iol.unh.edu; s=unh-iol; t=1708507007; x=1709111807; darn=dpdk.org;
 h=cc:to:from:subject:message-id:date:from:to:cc:subject:date
 :message-id:reply-to;
 bh=vNoJWbWTiiOlzQWTblUyRVOu51oNnX8vLkNWGTDmI44=;
 b=SmXJG0DnvlbktVZYm1WCyb4rPGajnzcZO5Iy6Qg603MSkDcoZDLZPLwnYiAHDL1ZO9
 5OZ+PPzrp2FBfqcIt2BF58QaxTTJ2hi/sV/IxhHWdzpdB9Xj0+2Mc5LXZEls5Hte9/Zz
 23xSXESGJggA+LqldtxnbbBHKhh25lgqsGmOA=
X-Google-DKIM-Signature: v=1; a=rsa-sha256; c=relaxed/relaxed;
 d=1e100.net; s=20230601; t=1708507007; x=1709111807;
 h=cc:to:from:subject:message-id:date:x-gm-message-state:from:to:cc
 :subject:date:message-id:reply-to;
 bh=vNoJWbWTiiOlzQWTblUyRVOu51oNnX8vLkNWGTDmI44=;
 b=nvHbilFx7DVK70JyaXqlIrlqhvJoh1+Ptl0dPPPnK4u0+RRv6VnM4gLvu41EEeOulN
 kvgvEVcuz4OuuHRWwEkHWvlPN9BKbh4yfNm8N4thWk259aPtTwJ3iqbPJA7jDVAecGP2
 3YfmKttv16Dl9OPTqVNLB8RQ8CuvfpzJ+BERzcJ8XQ/IDNmOw3awOEBIg/Z18yb6CZFC
 LZFJb+sohQ54a39q5cDVbK1mh/siDG5JjcS956nhg6KMLUkvTB4JduA7rzy5gtSgQ1gk
 QTagp8MoUVd+40x8L9wGiTS7dcjeYLITEbc12RfE4+ZCWVl/ipF0zqlS9t3VQGdV0r/n
 l32g==
X-Gm-Message-State: AOJu0YwYp4F+uOZos8IaJQLFrjratU7ZeYFgdBnTmr1KK0KSQKMg117p
 D7Yq7N6XRfWAjtMcqWoOW8RUQ0uxEU2HRTSXT5C18M6arLMav49KehA8fNilM/bqS6I5S7DmXaB
 ujwYE879qpHcDVDYy7avQoCCqYGHAa6795Qek2wniOKXybHkJbI1hGAFg
X-Google-Smtp-Source: AGHT+IH8qlczO7I1kVS4q8/YAgiCZBQV3EvCIfC4uOzg1MEfeuOCPO/sEYLl3t82AAqoKOG/I/KAGOkABuqk
X-Received: by 2002:a05:690c:3609:b0:608:2513:64ab with SMTP id
 ft9-20020a05690c360900b00608251364abmr11093431ywb.8.1708507007609; 
 Wed, 21 Feb 2024 01:16:47 -0800 (PST)
Received: from postal.iol.unh.edu (postal.iol.unh.edu.
 [2606:4100:3880:1234::84]) by smtp-relay.gmail.com with ESMTPS id
 g126-20020a0df684000000b0060879e34b46sm99597ywf.59.2024.02.21.01.16.47
 (version=TLS1_2 cipher=ECDHE-ECDSA-AES128-GCM-SHA256 bits=128/128);
 Wed, 21 Feb 2024 01:16:47 -0800 (PST)
X-Relaying-Domain: iol.unh.edu
Date: Wed, 21 Feb 2024 01:16:47 -0800 (PST)
Message-ID: <65d5bf7f.0d0a0220.7a578.6466SMTPIN_ADDED_MISSING@mx.google.com>
Received: from [172.17.0.7] (unknown [172.18.0.217])
 by postal.iol.unh.edu (Postfix) with ESMTP id 508E66052511;
 Wed, 21 Feb 2024 04:16:47 -0500 (EST)
Subject: |SUCCESS| pw136945 [PATCH] net/mlx5: fix condition of LACP miss flow
From: dpdklab@iol.unh.edu
To: Test Report <test-report@dpdk.org>
Cc: dpdk-test-reports@iol.unh.edu
Content-Type: text/plain
X-BeenThere: test-report@dpdk.org
X-Mailman-Version: 2.1.29
Precedence: list
List-Id: automatic DPDK test reports <test-report.dpdk.org>
List-Unsubscribe: <https://mails.dpdk.org/options/test-report>,
 <mailto:test-report-request@dpdk.org?subject=unsubscribe>
List-Archive: <http://mails.dpdk.org/archives/test-report/>
List-Post: <mailto:test-report@dpdk.org>
List-Help: <mailto:test-report-request@dpdk.org?subject=help>
List-Subscribe: <https://mails.dpdk.org/listinfo/test-report>,
 <mailto:test-report-request@dpdk.org?subject=subscribe>
Errors-To: test-report-bounces@dpdk.org

Test-Label: iol-compile-arm64-testing
Test-Status: SUCCESS
http://dpdk.org/patch/136945

_Testing PASS_

Submitter: Bing Zhao <bingz@nvidia.com>
Date: Wednesday, February 21 2024 06:49:48 
DPDK git baseline: Repo:dpdk
  Branch: master
  CommitID:ee45c93a16dd5e11b7779f18db9173fd8de8df74

136945 --> testing pass

Test environment and result as below:

+----------------------------------------+--------------------+
|              Environment               | dpdk_meson_compile |
+========================================+====================+
| Ubuntu 20.04 ARM SVE                   | PASS               |
+----------------------------------------+--------------------+
| Ubuntu 20.04 ARM GCC Cross Compile     | PASS               |
+----------------------------------------+--------------------+
| Ubuntu 20.04 aarch32 GCC Cross Compile | PASS               |
+----------------------------------------+--------------------+
| Fedora 37 (ARM)                        | PASS               |
+----------------------------------------+--------------------+
| Fedora 38 (ARM)                        | PASS               |
+----------------------------------------+--------------------+
| Ubuntu 20.04 (ARM)                     | PASS               |
+----------------------------------------+--------------------+
| Debian 11 (Buster) (ARM)               | PASS               |
+----------------------------------------+--------------------+
| CentOS Stream 9 (ARM)                  | PASS               |
+----------------------------------------+--------------------+
| Ubuntu 20.04 ARM Clang Cross Compile   | PASS               |
+----------------------------------------+--------------------+


Ubuntu 20.04 ARM SVE
	Kernel: 5.4.0-80-generic
	Compiler: gcc 10.3.0 (Ubuntu 10.3.0-1ubuntu1~20.04)

Ubuntu 20.04 ARM GCC Cross Compile
	Kernel: 5.4.0-72-generic
	Compiler: aarch64-linux-gnu-gcc (Ubuntu 9.3.0-17ubuntu1~20.04) 9.3.0

Ubuntu 20.04 aarch32 GCC Cross Compile
	Kernel: 5.4.0-72-generic
	Compiler: gcc 9.3.0

Fedora 37 (ARM)
	Kernel: Depends on container host
	Compiler: gcc 12.3.1

Fedora 38 (ARM)
	Kernel: Depends on container host
	Compiler: gcc 13.1.1

Ubuntu 20.04 (ARM)
	Kernel: Container Host Kernel
	Compiler: gcc 9.4.0

Debian 11 (Buster) (ARM)
	Kernel: Container Host Kernel
	Compiler: gcc 10.2.1

CentOS Stream 9 (ARM)
	Kernel: Container Host Kernel
	Compiler: gcc 11.3.1

Ubuntu 20.04 ARM Clang Cross Compile
	Kernel: 5.4.0-72-generic
	Compiler: clang version 10.0.0-4ubuntu1

To view detailed results, visit:
https://lab.dpdk.org/results/dashboard/patchsets/29205/

UNH-IOL DPDK Community Lab

To manage your email subscriptions, visit: 
https://lab.dpdk.org/results/dashboard/preferences/subscriptions/