From mboxrd@z Thu Jan 1 00:00:00 1970 Return-Path: Received: from mails.dpdk.org (mails.dpdk.org [217.70.189.124]) by inbox.dpdk.org (Postfix) with ESMTP id 279DA43B61 for ; Wed, 21 Feb 2024 10:24:39 +0100 (CET) Received: from mails.dpdk.org (localhost [127.0.0.1]) by mails.dpdk.org (Postfix) with ESMTP id 20325402B9; Wed, 21 Feb 2024 10:24:39 +0100 (CET) Received: from mail-yw1-f226.google.com (mail-yw1-f226.google.com [209.85.128.226]) by mails.dpdk.org (Postfix) with ESMTP id B403A40284 for ; Wed, 21 Feb 2024 10:24:17 +0100 (CET) Received: by mail-yw1-f226.google.com with SMTP id 00721157ae682-6088276045fso3231357b3.2 for ; Wed, 21 Feb 2024 01:24:17 -0800 (PST) DKIM-Signature: v=1; a=rsa-sha256; c=relaxed/relaxed; d=iol.unh.edu; s=unh-iol; t=1708507457; x=1709112257; darn=dpdk.org; h=cc:to:from:subject:message-id:date:from:to:cc:subject:date :message-id:reply-to; bh=keFJxTfo7T+s3yvpe6PsDnxc3nO3tJn5THXEV0T2DwE=; b=jex3BbrbsFtSJu5MqO7eyEHPM7sMwmTUvCMICQeJWsUPdn2peH4Fw/7KcO7P+O+S6D iVzLMl1RVYPDI/fJjyclLZirZTR0ZxxW6B5U/FBOmKWLqWvSLI/AZzfdFD2JpF+nzW8J A5ckpZCMI10yv4S9amwPocL4WzUpM2WuIWusg= X-Google-DKIM-Signature: v=1; a=rsa-sha256; c=relaxed/relaxed; d=1e100.net; s=20230601; t=1708507457; x=1709112257; h=cc:to:from:subject:message-id:date:x-gm-message-state:from:to:cc :subject:date:message-id:reply-to; bh=keFJxTfo7T+s3yvpe6PsDnxc3nO3tJn5THXEV0T2DwE=; b=KlnbJXYvxWoxBoU2uPRCv1kaBcZT7Il6OPAniBbF/rBCNRTGamDTbX3aerQya26wiR o89uO03dUBK6kDxFMe0o66Eab31Z9m7xPuTGLr3fzCL4reKcn0HAp6cUjqQBtmrpPLUD g0CStLiRRUHdurnDfBGYi5av3OE/GzxlyG+cVP9aaDiRud60UQ6naME8pWlzGiSD99ks 31TXYGQePHTTwUVC1tDYEBiriPLZUpLdLUwHQPQfZlwCUW1xAj1ch9aikrqLjd8P4YNC rPOY/WCnK9FpC7WHcvInXH8n3xDUkRFR9eD1QM+wbcQCdrpGzA0sSv21DtROO5ySKCm2 5OHA== X-Gm-Message-State: AOJu0YwSccROKp2pHjDP5PYDKjybM7hD+59+yF3+2Z1zjBYvhMHVPAWX Zr/nXyzWxpEMTxCEDMeq+iuCHUfF7LbJL5xi4e7bxe2VAJbkUMlQXuz+aNqFmd2++akuDE9LmTB FBnm8lljNdzGYKGxfLXniofOAsX3yvJuvRSgBCiI/JnlCCpZOs2Zgo5ys X-Google-Smtp-Source: AGHT+IHLuxKp5/mgcyT/HD2xqRWVEDRNiAWIRVEHUEPPaT8Qfg9uPoPdC33xwUoSOiuFT+uSQXql9or1nur2 X-Received: by 2002:a0d:e6d5:0:b0:608:7f87:fceb with SMTP id p204-20020a0de6d5000000b006087f87fcebmr1001433ywe.38.1708507457196; Wed, 21 Feb 2024 01:24:17 -0800 (PST) Received: from postal.iol.unh.edu (postal.iol.unh.edu. [2606:4100:3880:1234::84]) by smtp-relay.gmail.com with ESMTPS id l123-20020a0de281000000b0060790560e43sm797898ywe.58.2024.02.21.01.24.17 (version=TLS1_2 cipher=ECDHE-ECDSA-AES128-GCM-SHA256 bits=128/128); Wed, 21 Feb 2024 01:24:17 -0800 (PST) X-Relaying-Domain: iol.unh.edu Date: Wed, 21 Feb 2024 01:24:17 -0800 (PST) Message-ID: <65d5c141.0d0a0220.ebafc.fc31SMTPIN_ADDED_MISSING@mx.google.com> Received: from [172.17.0.6] (unknown [172.18.0.217]) by postal.iol.unh.edu (Postfix) with ESMTP id D6DA46052511; Wed, 21 Feb 2024 04:24:16 -0500 (EST) Subject: |SUCCESS| pw136945 [PATCH] net/mlx5: fix condition of LACP miss flow From: dpdklab@iol.unh.edu To: Test Report Cc: dpdk-test-reports@iol.unh.edu Content-Type: text/plain X-BeenThere: test-report@dpdk.org X-Mailman-Version: 2.1.29 Precedence: list List-Id: automatic DPDK test reports List-Unsubscribe: , List-Archive: List-Post: List-Help: List-Subscribe: , Errors-To: test-report-bounces@dpdk.org Test-Label: iol-abi-testing Test-Status: SUCCESS http://dpdk.org/patch/136945 _Testing PASS_ Submitter: Bing Zhao Date: Wednesday, February 21 2024 06:49:48 DPDK git baseline: Repo:dpdk Branch: master CommitID:ee45c93a16dd5e11b7779f18db9173fd8de8df74 136945 --> testing pass Test environment and result as below: +------------------+----------+ | Environment | abi_test | +==================+==========+ | CentOS Stream 9 | PASS | +------------------+----------+ | Debian Buster | PASS | +------------------+----------+ | Ubuntu 22.04 | PASS | +------------------+----------+ | Fedora 38 | PASS | +------------------+----------+ | CentOS Stream 8 | PASS | +------------------+----------+ | openSUSE Leap 15 | PASS | +------------------+----------+ | Debian Bullseye | PASS | +------------------+----------+ | RHEL8 | PASS | +------------------+----------+ | Fedora 37 | PASS | +------------------+----------+ CentOS Stream 9 Kernel: 4.18.0-240.10.1.el8_3.x86_64 Compiler: gcc 11.3.1 20220421 Debian Buster Kernel: 5.4.0-122-generic Compiler: gcc 8.3.0-6 Ubuntu 22.04 Kernel: 4.18.0-240.10.1.el8_3.x86_64 Compiler: gcc 11.3.0 Fedora 38 Kernel: Depends on container host Compiler: clang 16.0.3 CentOS Stream 8 Kernel: 4.18.0-240.10.1.el8_3.x86_64 Compiler: gcc 8.4.1 20200928 openSUSE Leap 15 Kernel: 4.18.0-240.10.1.el8_3.x86_64 Compiler: gcc 7.5.0 Debian Bullseye Kernel: 5.4.0-122-generic Compiler: gcc 10.2.1-6 RHEL8 Kernel: 4.18.0-240.10.1.el8_3.x86_64 Compiler: gcc 8.3.1 20191121 (Red Hat 8.3.1-5) Fedora 37 Kernel: Depends on container host system Compiler: gcc 12.3.1 To view detailed results, visit: https://lab.dpdk.org/results/dashboard/patchsets/29205/ UNH-IOL DPDK Community Lab To manage your email subscriptions, visit: https://lab.dpdk.org/results/dashboard/preferences/subscriptions/