From mboxrd@z Thu Jan  1 00:00:00 1970
Return-Path: <test-report-bounces@dpdk.org>
Received: from mails.dpdk.org (mails.dpdk.org [217.70.189.124])
	by inbox.dpdk.org (Postfix) with ESMTP id F2BFE43B61
	for <public@inbox.dpdk.org>; Wed, 21 Feb 2024 10:26:23 +0100 (CET)
Received: from mails.dpdk.org (localhost [127.0.0.1])
	by mails.dpdk.org (Postfix) with ESMTP id EE276402B9;
	Wed, 21 Feb 2024 10:26:23 +0100 (CET)
Received: from mail-vk1-f226.google.com (mail-vk1-f226.google.com
 [209.85.221.226])
 by mails.dpdk.org (Postfix) with ESMTP id 538C140284
 for <test-report@dpdk.org>; Wed, 21 Feb 2024 10:26:19 +0100 (CET)
Received: by mail-vk1-f226.google.com with SMTP id
 71dfb90a1353d-4cdfcb24b79so453152e0c.3
 for <test-report@dpdk.org>; Wed, 21 Feb 2024 01:26:19 -0800 (PST)
DKIM-Signature: v=1; a=rsa-sha256; c=relaxed/relaxed;
 d=iol.unh.edu; s=unh-iol; t=1708507578; x=1709112378; darn=dpdk.org;
 h=cc:to:from:subject:message-id:date:from:to:cc:subject:date
 :message-id:reply-to;
 bh=EcCL2DtXBqDd6Cubm1DQxuRp5wYOfqFrxBM/NzJhwc0=;
 b=SUuFlgmYRpX1de4c7Qy/ATQzdEGVL6l+cbkO/Ktt8htP65pp2w2voPcCvaXqKwt74n
 Sqo97Pzd+n/QGI/Sj4tNtrBFlWup2+pQ3SkbhWUCUfjK/DBJzL04famnYgEkNSE5+1F5
 lrz1ShIyCpSqJdxf8wr7aRJmkN53GRnnYwaQ8=
X-Google-DKIM-Signature: v=1; a=rsa-sha256; c=relaxed/relaxed;
 d=1e100.net; s=20230601; t=1708507578; x=1709112378;
 h=cc:to:from:subject:message-id:date:x-gm-message-state:from:to:cc
 :subject:date:message-id:reply-to;
 bh=EcCL2DtXBqDd6Cubm1DQxuRp5wYOfqFrxBM/NzJhwc0=;
 b=sXOw4BV5v2Dyj4cqoFn3AxpHoiASG5MpU8hRuM0ZYkO1aCDzinbwFHNbdUmQGAQU1r
 lFB1NqW4b3u2lDNHgmr8SaDarJmuqVCb0InkpKA+WCqZ5DJ7/xxkH2lfuSOq8Qmx0zxu
 RhWRFBez3fpAJArtBr7JJxSOU55FVWgHEaO3FBPziD85Yewv7QWr8fYj18DIEQ2c+Oxx
 C0iXgv1Wfo7UeD4wSQebx2HttxQecqoxThOGpH0334PBkZqEDQV32Plq+AlEWkCM1IoS
 aa3eMgza5V7QO/yMddnOSswlWn3NKxhOS0XmNwy0f9ftQWWbSrPudQXJHuWGOVPyI8ps
 aJaw==
X-Gm-Message-State: AOJu0Yz217LuKJzGacgfHjGRAWZUzV5wzArG+mo3+8jJv8tccB24zrKj
 DBhwRSgS6Ju1Y+Bl8qdy6AqyUSimUDn/7J+iuEe25zcog7hH1M56Wsr79XZNij3Ps71NWljcO5A
 ee5troWyb4pS3imZ4had3C5xm6iD6q9jSfKKytcVh
X-Google-Smtp-Source: AGHT+IFfAvLhmbAXviuiMMkMfGA6M1xsNI5XnxW8rXtSOcBNn/35XtZKrxjp+YHW9EGMGplQsjXkiwX4pKZs
X-Received: by 2002:a1f:d4c1:0:b0:4cc:9cee:7cbd with SMTP id
 l184-20020a1fd4c1000000b004cc9cee7cbdmr6431253vkg.6.1708507578678; 
 Wed, 21 Feb 2024 01:26:18 -0800 (PST)
Received: from postal.iol.unh.edu (postal.iol.unh.edu. [132.177.123.84])
 by smtp-relay.gmail.com with ESMTPS id
 eq12-20020ad4596c000000b0068f451382a5sm319949qvb.8.2024.02.21.01.26.18
 (version=TLS1_2 cipher=ECDHE-ECDSA-AES128-GCM-SHA256 bits=128/128);
 Wed, 21 Feb 2024 01:26:18 -0800 (PST)
X-Relaying-Domain: iol.unh.edu
Date: Wed, 21 Feb 2024 01:26:18 -0800 (PST)
Message-ID: <65d5c1ba.d40a0220.3bbc5.21f1SMTPIN_ADDED_MISSING@mx.google.com>
Received: from [172.17.0.6] (unknown [172.18.0.217])
 by postal.iol.unh.edu (Postfix) with ESMTP id 5C7846052511;
 Wed, 21 Feb 2024 04:26:18 -0500 (EST)
Subject: |SUCCESS| pw136945 [PATCH] net/mlx5: fix condition of LACP miss flow
From: dpdklab@iol.unh.edu
To: Test Report <test-report@dpdk.org>
Cc: Bing Zhao <bingz@nvidia.com>, dpdk-test-reports@iol.unh.edu
Content-Type: text/plain
X-BeenThere: test-report@dpdk.org
X-Mailman-Version: 2.1.29
Precedence: list
List-Id: automatic DPDK test reports <test-report.dpdk.org>
List-Unsubscribe: <https://mails.dpdk.org/options/test-report>,
 <mailto:test-report-request@dpdk.org?subject=unsubscribe>
List-Archive: <http://mails.dpdk.org/archives/test-report/>
List-Post: <mailto:test-report@dpdk.org>
List-Help: <mailto:test-report-request@dpdk.org?subject=help>
List-Subscribe: <https://mails.dpdk.org/listinfo/test-report>,
 <mailto:test-report-request@dpdk.org?subject=subscribe>
Errors-To: test-report-bounces@dpdk.org

Test-Label: iol-unit-arm64-testing
Test-Status: SUCCESS
http://dpdk.org/patch/136945

_Testing PASS_

Submitter: Bing Zhao <bingz@nvidia.com>
Date: Wednesday, February 21 2024 06:49:48 
DPDK git baseline: Repo:dpdk
  Branch: master
  CommitID:ee45c93a16dd5e11b7779f18db9173fd8de8df74

136945 --> testing pass

Test environment and result as below:

+--------------------------+----------------+--------------+---------------------------+------------------------------+
|       Environment        | dpdk_unit_test | lpm_autotest | cryptodev_sw_zuc_autotest | cryptodev_sw_snow3g_autotest |
+==========================+================+==============+===========================+==============================+
| CentOS Stream 9 (ARM)    | PASS           | SKIPPED      | SKIPPED                   | SKIPPED                      |
+--------------------------+----------------+--------------+---------------------------+------------------------------+
| Debian 11 (Buster) (ARM) | PASS           | SKIPPED      | SKIPPED                   | SKIPPED                      |
+--------------------------+----------------+--------------+---------------------------+------------------------------+
| Fedora 37 (ARM)          | PASS           | SKIPPED      | SKIPPED                   | SKIPPED                      |
+--------------------------+----------------+--------------+---------------------------+------------------------------+
| Fedora 38 (ARM)          | PASS           | SKIPPED      | SKIPPED                   | SKIPPED                      |
+--------------------------+----------------+--------------+---------------------------+------------------------------+
| Ubuntu 20.04 ARM SVE     | SKIPPED        | PASS         | SKIPPED                   | SKIPPED                      |
+--------------------------+----------------+--------------+---------------------------+------------------------------+
| Debian 11 (arm)          | SKIPPED        | SKIPPED      | PASS                      | PASS                         |
+--------------------------+----------------+--------------+---------------------------+------------------------------+


CentOS Stream 9 (ARM)
	Kernel: Container Host Kernel
	Compiler: gcc 11.3.1

Debian 11 (Buster) (ARM)
	Kernel: Container Host Kernel
	Compiler: gcc 10.2.1

Fedora 37 (ARM)
	Kernel: Depends on container host
	Compiler: gcc 12.3.1

Fedora 38 (ARM)
	Kernel: Depends on container host
	Compiler: gcc 13.1.1

Ubuntu 20.04 ARM SVE
	Kernel: 5.4.0-80-generic
	Compiler: gcc 10.3.0 (Ubuntu 10.3.0-1ubuntu1~20.04)

Debian 11 (arm)
	Kernel: Container Host Kernel
	Compiler: gcc 10.2.1

To view detailed results, visit:
https://lab.dpdk.org/results/dashboard/patchsets/29205/

UNH-IOL DPDK Community Lab

To manage your email subscriptions, visit: 
https://lab.dpdk.org/results/dashboard/preferences/subscriptions/