From mboxrd@z Thu Jan  1 00:00:00 1970
Return-Path: <test-report-bounces@dpdk.org>
Received: from mails.dpdk.org (mails.dpdk.org [217.70.189.124])
	by inbox.dpdk.org (Postfix) with ESMTP id AFFB643B61
	for <public@inbox.dpdk.org>; Wed, 21 Feb 2024 11:20:25 +0100 (CET)
Received: from mails.dpdk.org (localhost [127.0.0.1])
	by mails.dpdk.org (Postfix) with ESMTP id 8E64F402D1;
	Wed, 21 Feb 2024 11:20:25 +0100 (CET)
Received: from mail-oo1-f99.google.com (mail-oo1-f99.google.com
 [209.85.161.99]) by mails.dpdk.org (Postfix) with ESMTP id 9742C402CE
 for <test-report@dpdk.org>; Wed, 21 Feb 2024 11:20:24 +0100 (CET)
Received: by mail-oo1-f99.google.com with SMTP id
 006d021491bc7-5a01ba2f815so74311eaf.1
 for <test-report@dpdk.org>; Wed, 21 Feb 2024 02:20:24 -0800 (PST)
DKIM-Signature: v=1; a=rsa-sha256; c=relaxed/relaxed;
 d=iol.unh.edu; s=unh-iol; t=1708510823; x=1709115623; darn=dpdk.org;
 h=cc:to:from:subject:message-id:date:from:to:cc:subject:date
 :message-id:reply-to;
 bh=nxO3Nyb6QSHgrrcOl3HDnnu33u+VkTGDpKiHvqJw4Os=;
 b=JpAmCiAllp0dI9wVg9VPD6uC5zp+Fur3F5LEomugrXzFAGCFfhgKGltTgtV6jE98W1
 UVVlHLuYX/yjLj4lww4Bmftc4pWBN9J7aNf3nt2+2qNLVWtjQK4QyvsFu7le8/YG6W/R
 LtCXKT5MEuzn1GJ9nEi9itWfjh5Z4lr+3pTiA=
X-Google-DKIM-Signature: v=1; a=rsa-sha256; c=relaxed/relaxed;
 d=1e100.net; s=20230601; t=1708510823; x=1709115623;
 h=cc:to:from:subject:message-id:date:x-gm-message-state:from:to:cc
 :subject:date:message-id:reply-to;
 bh=nxO3Nyb6QSHgrrcOl3HDnnu33u+VkTGDpKiHvqJw4Os=;
 b=DoPHVF+8e4YN5Ks1vbKnCa+2ppjDgtkZ121kK4gR2NaryyGqCw/6n8pVYtIklJc0Af
 lcTeRnZ1AYz3uUa2rWwtR7qiAviiQPPi3RC7691gScQ3MnaJGNY1u1H9MCTy2w2rX5GB
 8TV03WPTD+tC24bhZ/LEoqRIRmRD1ZS99W88x6bS/6RUZN89Txi97MI6AkThcjZ0DMbp
 i9xof1ts2Xo/PSHizCZDpiT4PwAsD7WKd/xdIVDQL0h9vsPFDTmfvpOqDW3h22wA7oLV
 nkFEcQREjj9AIyys93FMcCk4XlcgXZKKSBdv7oAg4P/K+uFd3t7rCUBBnbE3OxlVFuAv
 94Yw==
X-Gm-Message-State: AOJu0Yzl2rpYdDQyBCgyCHySxfhXAfRcqYrNahJWkkxNQVwFlOsJ0I9P
 Cwsi1LzE3jX2jqvbEvpjyP1L/bP1ZdFln9DOfnUX28fo4jAEhQCFkZhPviV4cCYCVXaE+yGTLHq
 Guq8WXUJYVItM5dsdf6SYvaDrtn1V3f+1jUrRNxgpMye+EM3i4hFgT3P5
X-Google-Smtp-Source: AGHT+IGdAbeei9asqPlkvUv2IR1MMRxQnRFJBgNtIZEKhWnbz5U7oYJ2riB6+rQZn+0/qUt145ShqLawi3XG
X-Received: by 2002:a4a:84c2:0:b0:5a0:e63:a2ee with SMTP id
 o2-20020a4a84c2000000b005a00e63a2eemr1880150oog.7.1708510823708; 
 Wed, 21 Feb 2024 02:20:23 -0800 (PST)
Received: from postal.iol.unh.edu (postal.iol.unh.edu.
 [2606:4100:3880:1234::84]) by smtp-relay.gmail.com with ESMTPS id
 7-20020a4a1a07000000b00599482da836sm602076oof.1.2024.02.21.02.20.23
 (version=TLS1_2 cipher=ECDHE-ECDSA-AES128-GCM-SHA256 bits=128/128);
 Wed, 21 Feb 2024 02:20:23 -0800 (PST)
X-Relaying-Domain: iol.unh.edu
Date: Wed, 21 Feb 2024 02:20:23 -0800 (PST)
Message-ID: <65d5ce67.4a0a0220.9157b.3660SMTPIN_ADDED_MISSING@mx.google.com>
Received: from [172.17.0.6] (unknown [172.18.0.217])
 by postal.iol.unh.edu (Postfix) with ESMTP id 2960D6052511;
 Wed, 21 Feb 2024 05:20:23 -0500 (EST)
Subject: |SUCCESS| pw136945 [PATCH] net/mlx5: fix condition of LACP miss flow
From: dpdklab@iol.unh.edu
To: Test Report <test-report@dpdk.org>
Cc: dpdk-test-reports@iol.unh.edu
Content-Type: text/plain
X-BeenThere: test-report@dpdk.org
X-Mailman-Version: 2.1.29
Precedence: list
List-Id: automatic DPDK test reports <test-report.dpdk.org>
List-Unsubscribe: <https://mails.dpdk.org/options/test-report>,
 <mailto:test-report-request@dpdk.org?subject=unsubscribe>
List-Archive: <http://mails.dpdk.org/archives/test-report/>
List-Post: <mailto:test-report@dpdk.org>
List-Help: <mailto:test-report-request@dpdk.org?subject=help>
List-Subscribe: <https://mails.dpdk.org/listinfo/test-report>,
 <mailto:test-report-request@dpdk.org?subject=subscribe>
Errors-To: test-report-bounces@dpdk.org

Test-Label: iol-compile-arm64-testing
Test-Status: SUCCESS
http://dpdk.org/patch/136945

_Testing PASS_

Submitter: Bing Zhao <bingz@nvidia.com>
Date: Wednesday, February 21 2024 06:49:48 
DPDK git baseline: Repo:dpdk
  Branch: master
  CommitID:ee45c93a16dd5e11b7779f18db9173fd8de8df74

136945 --> testing pass

Test environment and result as below:

+----------------------------------------+--------------------+
|              Environment               | dpdk_meson_compile |
+========================================+====================+
| Ubuntu 20.04 ARM SVE                   | PASS               |
+----------------------------------------+--------------------+
| Ubuntu 20.04 ARM GCC Cross Compile     | PASS               |
+----------------------------------------+--------------------+
| Ubuntu 20.04 aarch32 GCC Cross Compile | PASS               |
+----------------------------------------+--------------------+
| Fedora 37 (ARM)                        | PASS               |
+----------------------------------------+--------------------+
| Fedora 38 (ARM)                        | PASS               |
+----------------------------------------+--------------------+
| Ubuntu 20.04 (ARM)                     | PASS               |
+----------------------------------------+--------------------+
| Debian 11 (Buster) (ARM)               | PASS               |
+----------------------------------------+--------------------+
| CentOS Stream 9 (ARM)                  | PASS               |
+----------------------------------------+--------------------+
| Ubuntu 20.04 ARM Clang Cross Compile   | PASS               |
+----------------------------------------+--------------------+
| Fedora 38 (ARM Clang)                  | PASS               |
+----------------------------------------+--------------------+


Ubuntu 20.04 ARM SVE
	Kernel: 5.4.0-80-generic
	Compiler: gcc 10.3.0 (Ubuntu 10.3.0-1ubuntu1~20.04)

Ubuntu 20.04 ARM GCC Cross Compile
	Kernel: 5.4.0-72-generic
	Compiler: aarch64-linux-gnu-gcc (Ubuntu 9.3.0-17ubuntu1~20.04) 9.3.0

Ubuntu 20.04 aarch32 GCC Cross Compile
	Kernel: 5.4.0-72-generic
	Compiler: gcc 9.3.0

Fedora 37 (ARM)
	Kernel: Depends on container host
	Compiler: gcc 12.3.1

Fedora 38 (ARM)
	Kernel: Depends on container host
	Compiler: gcc 13.1.1

Ubuntu 20.04 (ARM)
	Kernel: Container Host Kernel
	Compiler: gcc 9.4.0

Debian 11 (Buster) (ARM)
	Kernel: Container Host Kernel
	Compiler: gcc 10.2.1

CentOS Stream 9 (ARM)
	Kernel: Container Host Kernel
	Compiler: gcc 11.3.1

Ubuntu 20.04 ARM Clang Cross Compile
	Kernel: 5.4.0-72-generic
	Compiler: clang version 10.0.0-4ubuntu1

Fedora 38 (ARM Clang)
	Kernel: Depends on container host
	Compiler: clang 16.0.3

To view detailed results, visit:
https://lab.dpdk.org/results/dashboard/patchsets/29205/

UNH-IOL DPDK Community Lab

To manage your email subscriptions, visit: 
https://lab.dpdk.org/results/dashboard/preferences/subscriptions/