From mboxrd@z Thu Jan 1 00:00:00 1970 Return-Path: Received: from mails.dpdk.org (mails.dpdk.org [217.70.189.124]) by inbox.dpdk.org (Postfix) with ESMTP id 9B0BE43BF6 for ; Mon, 26 Feb 2024 20:25:29 +0100 (CET) Received: from mails.dpdk.org (localhost [127.0.0.1]) by mails.dpdk.org (Postfix) with ESMTP id 73C46402CC; Mon, 26 Feb 2024 20:25:29 +0100 (CET) Received: from mail-il1-f228.google.com (mail-il1-f228.google.com [209.85.166.228]) by mails.dpdk.org (Postfix) with ESMTP id 4E02F402C8 for ; Mon, 26 Feb 2024 20:25:28 +0100 (CET) Received: by mail-il1-f228.google.com with SMTP id e9e14a558f8ab-365253c52aaso6986425ab.2 for ; Mon, 26 Feb 2024 11:25:28 -0800 (PST) DKIM-Signature: v=1; a=rsa-sha256; c=relaxed/relaxed; d=iol.unh.edu; s=unh-iol; t=1708975527; x=1709580327; darn=dpdk.org; h=cc:to:from:subject:message-id:date:from:to:cc:subject:date :message-id:reply-to; bh=spXwwHAOXvq8DeGG8gan58teGNebHAvOK0aqMOiWjNo=; b=ZBBN+pgrQCai38zWOt5W+Gwp/YCm/QTXwka4eJBxAvZL8bf3RHwajm1Z6lf151/nkh XxJEIxy3AHuAF9+MEzSFkOOVeQgvOGjPMNZh7EDAK7jB6tOYCqURAhIXbZByx7iZDa9F 743zcJiKBO3XpVNqooZnOP+xMMr5XaI9jETls= X-Google-DKIM-Signature: v=1; a=rsa-sha256; c=relaxed/relaxed; d=1e100.net; s=20230601; t=1708975527; x=1709580327; h=cc:to:from:subject:message-id:date:x-gm-message-state:from:to:cc :subject:date:message-id:reply-to; bh=spXwwHAOXvq8DeGG8gan58teGNebHAvOK0aqMOiWjNo=; b=pANrHtnO88Xn7L7d1GIIkwXH43+0gXZwgum9j9L7P9isZwuafwoD8ccsafRPKX5XKH sl3wsU/yGW7n6a9hoIUyi0uqA08hsXKekDhgMmvtR2txcUdTQIAG6buxbeuDGKCoOlwR v5YiNUWJQxxB9CaNQ/H8r5E4HYfCWYv4yekxxF7SiXNcQ3HDPm8K1YFCk5pq2X7aUUjx ciZwzuvdGTZTTQ2NZDOxdbyYMuHR06zXRcwVt0YC9QeraYrHtNrYZ3U+2WpSwGEyj+JP ylt8jNhGbUtvKaTkw1e63CYA0gcCv3Nx011kAopAzlR6tDlBNrXuhAXwDIAOjg3ZkPIV rTzQ== X-Gm-Message-State: AOJu0Yy9HdRPdoNsrXhBGZNcjOghxq40gE8tTlo72KNqPCtEUAWyzI6j EWWYERih4rbJLJLQPA4jowxYvk5KwMsNlTUHegCVCAjuYCSdjMuusI+h7hXc4RKx8WMzUftntln a6i+N0VvFKSvm4W04GR9Qt2Hj6px/+r+s6bg3xzAn X-Google-Smtp-Source: AGHT+IG5ifJJtuPLA4g4X+knfh9QrIHbLxZLXXkGAo+shTNIAhUzoNAb92y638PAOC2E49tCrKXfvI/GcsAJ X-Received: by 2002:a05:6e02:388f:b0:365:4ce9:836f with SMTP id cn15-20020a056e02388f00b003654ce9836fmr9257529ilb.17.1708975527593; Mon, 26 Feb 2024 11:25:27 -0800 (PST) Received: from postal.iol.unh.edu (postal.iol.unh.edu. [132.177.123.84]) by smtp-relay.gmail.com with ESMTPS id bn5-20020a056e02338500b0036392782e4fsm287911ilb.0.2024.02.26.11.25.27 (version=TLS1_2 cipher=ECDHE-ECDSA-AES128-GCM-SHA256 bits=128/128); Mon, 26 Feb 2024 11:25:27 -0800 (PST) X-Relaying-Domain: iol.unh.edu Date: Mon, 26 Feb 2024 11:25:27 -0800 (PST) Message-ID: <65dce5a7.050a0220.32a36.77f4SMTPIN_ADDED_MISSING@mx.google.com> Received: from [172.21.0.6] (unknown [172.18.0.240]) by postal.iol.unh.edu (Postfix) with ESMTP id 138106043300; Mon, 26 Feb 2024 14:25:27 -0500 (EST) Subject: |SUCCESS| pw137211 [PATCH] app/eventdev: support DMA adapter test From: dpdklab@iol.unh.edu To: Test Report Cc: dpdk-test-reports@iol.unh.edu Content-Type: text/plain X-BeenThere: test-report@dpdk.org X-Mailman-Version: 2.1.29 Precedence: list List-Id: automatic DPDK test reports List-Unsubscribe: , List-Archive: List-Post: List-Help: List-Subscribe: , Errors-To: test-report-bounces@dpdk.org Test-Label: iol-compile-amd64-testing Test-Status: SUCCESS http://dpdk.org/patch/137211 _Testing PASS_ Submitter: Amit Prakash Shukla Date: Monday, February 26 2024 13:26:07 DPDK git baseline: Repo:dpdk Branch: master CommitID:850a57695b4647f62f31019baa8a92bcd3ff3531 137211 --> testing pass Test environment and result as below: +---------------------+--------------------+----------------------+ | Environment | dpdk_meson_compile | dpdk_mingw64_compile | +=====================+====================+======================+ | Windows Server 2022 | PASS | SKIPPED | +---------------------+--------------------+----------------------+ | FreeBSD 13.2 | PASS | SKIPPED | +---------------------+--------------------+----------------------+ | Windows Server 2019 | PASS | PASS | +---------------------+--------------------+----------------------+ Windows Server 2022 Kernel: OS Build 20348.2031 Compiler: MSVC VS-Preview FreeBSD 13.2 Kernel: 13.2 Compiler: clang 11.3.0 Windows Server 2019 Kernel: 10.0 Compiler: clang 14.0 and gcc 8.1.0 (MinGW) To view detailed results, visit: https://lab.dpdk.org/results/dashboard/patchsets/29266/ UNH-IOL DPDK Community Lab To manage your email subscriptions, visit: https://lab.dpdk.org/results/dashboard/preferences/subscriptions/